BEGIN:VCALENDAR
VERSION:2.0
PRODID:-//Gustar - ECPv6.2.8.1//NONSGML v1.0//EN
CALSCALE:GREGORIAN
METHOD:PUBLISH
X-ORIGINAL-URL:https://www.gustar.it
X-WR-CALDESC:Eventi per Gustar
REFRESH-INTERVAL;VALUE=DURATION:PT1H
X-Robots-Tag:noindex
X-PUBLISHED-TTL:PT1H
BEGIN:VTIMEZONE
TZID:Europe/Rome
BEGIN:DAYLIGHT
TZOFFSETFROM:+0100
TZOFFSETTO:+0200
TZNAME:CEST
DTSTART:20230326T010000
END:DAYLIGHT
BEGIN:STANDARD
TZOFFSETFROM:+0200
TZOFFSETTO:+0100
TZNAME:CET
DTSTART:20231029T010000
END:STANDARD
END:VTIMEZONE
BEGIN:VEVENT
DTSTART;TZID=Europe/Rome:20231214T150000
DTEND;TZID=Europe/Rome:20231214T180000
DTSTAMP:20260421T090629
CREATED:20230725T070257Z
LAST-MODIFIED:20231205T125403Z
UID:13144-1702566000-1702576800@www.gustar.it
SUMMARY:MARZIA : CASINE BISCOTTO DI NATALE POSTI ESAURITI
DESCRIPTION:Giovedi 14 dicembre dalle 15:00 alle 18:00 con Marzia cappellini un corso dedicato alle casette di biscotto di Natale \, da usare come centrotavola per i giorni di festa . \nUn corso totalmente pratico dove possono partecipare anche i bambini DAI 6 ANNI accompagnati obbligatoriamente da un genitore  . \n 
URL:https://www.gustar.it/corso/marzia-casine-biscotto-di-natale/
LOCATION:Gustar\, via Fonda di S.Agostino 4\, Pistoia\, Italia\, 51100\, Italia
CATEGORIES:Pasticceria
ATTACH;FMTTYPE=image/jpeg:https://www.gustar.it/wp-content/uploads/thumbnail_IMG_6093.jpg
ORGANIZER;CN="Gustar Centro di Formazione delle Arti Bianche in Toscana":MAILTO:info@gustar.it
END:VEVENT
END:VCALENDAR