BEGIN:VCALENDAR
VERSION:2.0
PRODID:-//Gustar - ECPv6.2.8.1//NONSGML v1.0//EN
CALSCALE:GREGORIAN
METHOD:PUBLISH
X-ORIGINAL-URL:https://www.gustar.it
X-WR-CALDESC:Eventi per Gustar
REFRESH-INTERVAL;VALUE=DURATION:PT1H
X-Robots-Tag:noindex
X-PUBLISHED-TTL:PT1H
BEGIN:VTIMEZONE
TZID:Europe/Rome
BEGIN:DAYLIGHT
TZOFFSETFROM:+0100
TZOFFSETTO:+0200
TZNAME:CEST
DTSTART:20240331T010000
END:DAYLIGHT
BEGIN:STANDARD
TZOFFSETFROM:+0200
TZOFFSETTO:+0100
TZNAME:CET
DTSTART:20241027T010000
END:STANDARD
END:VTIMEZONE
BEGIN:VEVENT
DTSTART;TZID=Europe/Rome:20240104T143000
DTEND;TZID=Europe/Rome:20240104T183000
DTSTAMP:20260421T071609
CREATED:20231114T133316Z
LAST-MODIFIED:20240124T105542Z
UID:13490-1704378600-1704393000@www.gustar.it
SUMMARY:I DOLCI DI SAN VALENTINO CON CORRADO CAROSI
DESCRIPTION:Mercoledi 31 gennaio 2024   dalle 14.30 alle 18.30 con Corrado Carosi un corso per il giorno più dolce dell’anno . \nDurante il pomeriggio il pastrychef Corrado ci insegnerà a preparare  monoporzioni  e torte adatte all’occasione. \nCorrado Carosi\, è uno dei giovani volti più conosciuti\, a livello nazionale\, nell’ambito della pasticceria professionale. \nGià durante gli studi superiori si avvicina alla passione per quest’arte\, che negli anni trasformerà nella sua professione. \nDopo aver lavorato per il maestro Morandin decide\, a soli 23 anni\, di aprire la sua prima pasticceria in via Landinelli\, a Sarzana. \nL’idea di pasticceria di Corrado si contraddistingue per un approccio innovativo e pragmatico\, che lo porta a superare le regole classiche e a crearne di nuove\, senza però dimenticare la tradizione e il risultato finale. \nA partire dal 2015 partecipa a numerose trasmissioni televisive come “il più grande pasticcere” e “casa Alice” ed è stabilmente giudice presso Alma scuola internazionale di pasticceria di Colorno. \nCollabora con riviste del settore ed è testimonial di varie aziende\, inoltre è docente in numerose scuole di pasticceria in Italia. \nI numerosi successi conseguiti\, per lui non sono un punto di arrivo\, ma uno stimolo per il suo continuo miglioramento. \nCorrado Carosi dà molta rilevanza al suo aggiornamento personale e partecipa\, ogni anno\, a corsi di aggiornamento professionale. \nDal 2016 è docente di pasticceria presso Gustar \nDal 2022 maestro A.M.P.I.
URL:https://www.gustar.it/corso/i-dolci-di-san-valentino-con-corrado-carosi-2/
LOCATION:Gustar\, via Fonda di S.Agostino 4\, Pistoia\, Italia\, 51100\, Italia
CATEGORIES:Pasticceria
ATTACH;FMTTYPE=image/jpeg:https://www.gustar.it/wp-content/uploads/2021/12/DSCN6632-scaled.jpg
ORGANIZER;CN="Gustar Centro di Formazione delle Arti Bianche in Toscana":MAILTO:info@gustar.it
END:VEVENT
BEGIN:VEVENT
DTSTART;TZID=Europe/Rome:20240104T143000
DTEND;TZID=Europe/Rome:20240107T183000
DTSTAMP:20260421T071609
CREATED:20231109T170230Z
LAST-MODIFIED:20240129T065224Z
UID:13442-1704378600-1704652200@www.gustar.it
SUMMARY:CORSO DI FORMAZIONE AVANZATO PER PASTICCIERE
DESCRIPTION:CORSO  DI FORMAZIONE     AVANZATO  PER         PASTICCIERE \n  \nINIZIO:  7 FEBBRAIO 2024 \n  \nPROGRAMMA DI 10 MODULI SVILUPPATO IN 16 GIORNI \n  \nORARIO 14.30-18.30 \nPER UN TOTALE DI 64 ORE \nMODULI : \nMATERIE PRIME ATTREZZATURE \nBILANCIAMENTI PAN DI SPAGNA E TORTE DA FORNO \nLIEVITATI DA COLAZIONE INNOVATIVI  E GRANDI LIEVITATI \nTIPOLOGIE PASTA SFOGLIA NUOVE TENDENZE \nTORTE MODERNE \nPASTICCERIA SALATA \nPASTICCERIA MIGNON \nPIECE IN CIOCCOLATO E PRALINERIA \nPASTIGLIAGGIO E GHIACCIA \nDECORAZIONE \nCOSTO EURO 1100 \n  \n  DATE :       \n7-8-14-15-21-22-28-29  FEBBRAIO \n6-7-14-13-14-20-21-27-28- MARZO
URL:https://www.gustar.it/corso/corso-di-formazione-avanzato-per-pasticciere-2/
LOCATION:Gustar\, via Fonda di S.Agostino 4\, Pistoia\, Italia\, 51100\, Italia
CATEGORIES:Pasticceria
ATTACH;FMTTYPE=image/jpeg:https://www.gustar.it/wp-content/uploads/AVA.jpg
ORGANIZER;CN="Gustar Centro di Formazione delle Arti Bianche in Toscana":MAILTO:info@gustar.it
END:VEVENT
END:VCALENDAR