BEGIN:VCALENDAR
VERSION:2.0
PRODID:-//Gustar - ECPv6.2.8.1//NONSGML v1.0//EN
CALSCALE:GREGORIAN
METHOD:PUBLISH
X-ORIGINAL-URL:https://www.gustar.it
X-WR-CALDESC:Eventi per Gustar
REFRESH-INTERVAL;VALUE=DURATION:PT1H
X-Robots-Tag:noindex
X-PUBLISHED-TTL:PT1H
BEGIN:VTIMEZONE
TZID:Europe/Rome
BEGIN:DAYLIGHT
TZOFFSETFROM:+0100
TZOFFSETTO:+0200
TZNAME:CEST
DTSTART:20240331T010000
END:DAYLIGHT
BEGIN:STANDARD
TZOFFSETFROM:+0200
TZOFFSETTO:+0100
TZNAME:CET
DTSTART:20241027T010000
END:STANDARD
END:VTIMEZONE
BEGIN:VEVENT
DTSTART;TZID=Europe/Rome:20240113T070000
DTEND;TZID=Europe/Rome:20240114T173000
DTSTAMP:20260421T091024
CREATED:20240103T111115Z
LAST-MODIFIED:20240202T080718Z
UID:13753-1705129200-1705253400@www.gustar.it
SUMMARY:CORSO LIEVITATI DI PASQUA CON L'UTILIZZO DI SEMILAVORATI
DESCRIPTION:QUANDO : Mercoledi 8 febbraio 2023    dalle 07.00 alle 17:30 \n  \nCORSO DI LIEVITATI PASQUALI  CON GASTONE PEGORARO  MASSIMILIANO BETTAZZI \nIL CORSO PREVEDE LA REALIZZAZIONE DI COLOMBE E FOCACCIA PADOVANA  CON PREPARATO “DOLCEFORNO ” \nPROGRAMMA : \nColombe \nPadovana \nDurante lo svolgimento sarà prevista una parte pratica per la formatura dei prodotti e per la preparazione degli impasti . \nNel corso è compreso il pranzo  e i vari coffebreak
URL:https://www.gustar.it/corso/corso-lievitati-di-pasqua-con-lutilizzo-di-semilavorati/
LOCATION:Gustar\, via Fonda di S.Agostino 4\, Pistoia\, Italia\, 51100\, Italia
CATEGORIES:Pasticceria
ATTACH;FMTTYPE=image/jpeg:https://www.gustar.it/wp-content/uploads/colomba_tradizionale_01.jpg
ORGANIZER;CN="Gustar Centro di Formazione delle Arti Bianche in Toscana":MAILTO:info@gustar.it
END:VEVENT
BEGIN:VEVENT
DTSTART;TZID=Europe/Rome:20240113T143000
DTEND;TZID=Europe/Rome:20240113T183000
DTSTAMP:20260421T091024
CREATED:20231114T105558Z
LAST-MODIFIED:20231230T102933Z
UID:13484-1705156200-1705170600@www.gustar.it
SUMMARY:I PRODOTTI DA COLAZIONE \,CORNETTI BRIOCHE E TRECCINE CON MARZIA CAPPELLINI E MASSIMILIANO BETTAZZI POSTI ESAURITI
DESCRIPTION:Sabato 13 gennaio  dalle 14:30 alle 18:30 nuovo appuntamento con  ” I sabati di Marzia ” con Marzia Cappellini e Massimiliano Bettazzi\, corsi mani in pasta dove ogni partecipante \, che sia un’appassionato oppure una persona che si avvicina per la prima volta all’arte della pasticceria  \, puo cimentersi nella preparazione di prodotti dolciari . Per passare un pomeriggio diverso con la professionalità e la simpatia di Marzia \, Massimiliano e Gastone . A fine corso ogni partecipante sarà omaggiato con i dolci prodotti
URL:https://www.gustar.it/corso/i-prodotti-da-colazione-cornetti-brioche-e-treccine-con-marzia-cappellini-e-massimiliano-bettazzi/
LOCATION:Gustar\, via Fonda di S.Agostino 4\, Pistoia\, Italia\, 51100\, Italia
CATEGORIES:Pasticceria
ATTACH;FMTTYPE=image/jpeg:https://www.gustar.it/wp-content/uploads/2021/11/cinnamon-scaled.jpg
ORGANIZER;CN="Gustar Centro di Formazione delle Arti Bianche in Toscana":MAILTO:info@gustar.it
END:VEVENT
END:VCALENDAR