BEGIN:VCALENDAR
VERSION:2.0
PRODID:-//Gustar - ECPv6.2.8.1//NONSGML v1.0//EN
CALSCALE:GREGORIAN
METHOD:PUBLISH
X-ORIGINAL-URL:https://www.gustar.it
X-WR-CALDESC:Eventi per Gustar
REFRESH-INTERVAL;VALUE=DURATION:PT1H
X-Robots-Tag:noindex
X-PUBLISHED-TTL:PT1H
BEGIN:VTIMEZONE
TZID:Europe/Rome
BEGIN:DAYLIGHT
TZOFFSETFROM:+0100
TZOFFSETTO:+0200
TZNAME:CEST
DTSTART:20240331T010000
END:DAYLIGHT
BEGIN:STANDARD
TZOFFSETFROM:+0200
TZOFFSETTO:+0100
TZNAME:CET
DTSTART:20241027T010000
END:STANDARD
END:VTIMEZONE
BEGIN:VEVENT
DTSTART;TZID=Europe/Rome:20240201T143000
DTEND;TZID=Europe/Rome:20240201T183000
DTSTAMP:20260421T071659
CREATED:20231116T140626Z
LAST-MODIFIED:20240201T084359Z
UID:13510-1706797800-1706812200@www.gustar.it
SUMMARY:I FRITTI DI CARNEVALE CON STEFANO DONATI POSTI ESAURITI
DESCRIPTION:GIOVEDI 1 FEBBRAIO 2024 dalle ore 14.30 alle ore 18.30 :  ” I fritti di Carnevale ” con Stefano Donati: \nCENCI \nFRITTELLE DI RISO \nZEPPOLE \nBOMBOLONI CON CREMA \nCANNOLI \nUn corso per appassionati e professionisti tenuto dal maestro Stefano Donati  \, dove potremo apprendere tutti i segreti per un fritto perfetto \ne imparare tutte le tecniche  di lavorazione  e quali materie prime utilizzare . \nDal 2002 Collaborazione con Istituti scolastici di istruzione secondaria superiore del settore turistico alberghiero per attività di DOCENZA (aggiornamento insegnanti\, didattica di terza area in preparazione dell’esame finale\, partecipazione Commissione esame di qualifica) \n\nNel 2000 ho tenuto un corso sulle torte secche e da credenza a Perugia – EUROCHOCOLATE\nNel 2001 ho partecipato ad un corso di 45 ore riguardo l’aerografia\, utilizzata spesso nella pasticceria artistica\n\nEsperto nelle seguenti materie: \n\nzucchero colato-tirato-soffiato e modellato;\npastigliaggio per strutture\, pastigliaggio giapponese per fiori\, foglie e decorazioni in genere;\ncioccolato: strutture artistiche\, soggettistica varia\, uova di pasqua\, pralineria assortita\nfrutta e verdura scolpita\, come decorare tavoli per buffet\n\nIn questi anni ho partecipato a vari concorsi di pasticceria ottenendo il titolo di Campione italiano 2000. \nConcorsi di pasticceria \n1998: Sigep D’oro\, ciccolato artistico (Rimini) \n1999: Super Sigep D’oro\, degustazione praline assortite (Rimini) \n2000: Gran Prix di Montecarlo\, 1° classificato Campionato Italia (Montecarlo) \n2001: Siab concorso di alta pasticceria 2° classificato (Verona) \n2001: Dolci e capolavori  in cioccolato 1° classificato (Torino) \n2004: Selezione coppa del Mondo 1° classificato (Rimini) \n2005: Coppa del mondo della pasticceria (Lione) \nDal 2006 in poi ho partecipato a varie giurie regionali e nazionali\, dove tuttora sono chiamato a degustare e giudicare pezzi artistici
URL:https://www.gustar.it/corso/i-fritti-di-carnevale-con-stefano-donati-2/
LOCATION:Gustar\, via Fonda di S.Agostino 4\, Pistoia\, Italia\, 51100\, Italia
CATEGORIES:Pasticceria
ATTACH;FMTTYPE=image/jpeg:https://www.gustar.it/wp-content/uploads/ZEPPOLKE-scaled.jpg
ORGANIZER;CN="Gustar Centro di Formazione delle Arti Bianche in Toscana":MAILTO:info@gustar.it
END:VEVENT
END:VCALENDAR