BEGIN:VCALENDAR
VERSION:2.0
PRODID:-//Gustar - ECPv6.2.8.1//NONSGML v1.0//EN
CALSCALE:GREGORIAN
METHOD:PUBLISH
X-ORIGINAL-URL:https://www.gustar.it
X-WR-CALDESC:Eventi per Gustar
REFRESH-INTERVAL;VALUE=DURATION:PT1H
X-Robots-Tag:noindex
X-PUBLISHED-TTL:PT1H
BEGIN:VTIMEZONE
TZID:Europe/Rome
BEGIN:DAYLIGHT
TZOFFSETFROM:+0100
TZOFFSETTO:+0200
TZNAME:CEST
DTSTART:20240331T010000
END:DAYLIGHT
BEGIN:STANDARD
TZOFFSETFROM:+0200
TZOFFSETTO:+0100
TZNAME:CET
DTSTART:20241027T010000
END:STANDARD
END:VTIMEZONE
BEGIN:VEVENT
DTSTART;TZID=Europe/Rome:20240321T143000
DTEND;TZID=Europe/Rome:20240321T183000
DTSTAMP:20260421T035430
CREATED:20231121T101515Z
LAST-MODIFIED:20231121T101659Z
UID:13583-1711031400-1711045800@www.gustar.it
SUMMARY:CORSO DI IMPIATTAMENTO ED ESTETICA DEL PIATTO CON STEFANO PINCIAROLI
DESCRIPTION:Il 21 marzo dalle 14:30 alle 18:30 con Stefano Pinciaroli un corso dove lo chef ci farà apprendere le tecniche di impiattamento moderno \, dalla disposizione degli ingredienti alla scelta dei colori \, per rendere \nun piatto accativante e piacevole . \nStefano Pinciaroli\, uno degli chef emergenti in Toscana\, nasce nel maggio 1978. Cresciuto nel piccolo borgo di Cerreto Guidi è il primo di cinque figli e inizia ad appassionarsi alla cucina aiutando la mamma a preparare il pranzo della domenica. \nFrequenta l’Istituto Alberghiero di Montecatini e non appena conseguito il diploma inizia a lavorare in diversi ristoranti in Italia e all’estero. \nNel 2000 inizia la lunga e importante collaborazione con il Grand Hotel di Firenze. In questo contesto Stefano ha modo di affiancare gli Chef Daniele Sera e Fabrizio Innocenti\, migliorando le proprie tecniche di cucina. \nAlla fine di questa esperienza\, Stefano decide di “tornare alle proprie origini” trasferendosi di nuovo a Cerreto Guidi e iniziando altre importanti collaborazioni con ristoranti della zona. \nForte di numerose esperienze\, nell’aprile 2010 Stefano parte con il progetto dell’apertura di PS Ristorante\, dove finalmente riesce a esprimere al meglio le proprie qualità\, stabilendo un forte legame fra tradizione e innovazione. \nDal 2010 PS Ristorante è entrato in diverse guide nazionali e non\, diventando un punto di riferimento della gastronomia toscana ed italiana. \n\nAprile 2016 Stefano Pinciaroli entra tra i Jeunes Restaurateurs: è uno degli 88 cuochi under 42 . \nDal 2020 è ala guida di Villa Petriolo a Cerreto Guidi
URL:https://www.gustar.it/corso/corso-di-impiattamento-ed-estetica-del-piatto-con-stefano-pinciaroli/
LOCATION:Gustar\, via Fonda di S.Agostino 4\, Pistoia\, Italia\, 51100\, Italia
CATEGORIES:Gastronomia
ATTACH;FMTTYPE=image/jpeg:https://www.gustar.it/wp-content/uploads/pincia-3.jpg
ORGANIZER;CN="Gustar Centro di Formazione delle Arti Bianche in Toscana":MAILTO:info@gustar.it
END:VEVENT
END:VCALENDAR