BEGIN:VCALENDAR
VERSION:2.0
PRODID:-//Gustar - ECPv6.2.8.1//NONSGML v1.0//EN
CALSCALE:GREGORIAN
METHOD:PUBLISH
X-ORIGINAL-URL:https://www.gustar.it
X-WR-CALDESC:Eventi per Gustar
REFRESH-INTERVAL;VALUE=DURATION:PT1H
X-Robots-Tag:noindex
X-PUBLISHED-TTL:PT1H
BEGIN:VTIMEZONE
TZID:Europe/Rome
BEGIN:DAYLIGHT
TZOFFSETFROM:+0100
TZOFFSETTO:+0200
TZNAME:CEST
DTSTART:20240331T010000
END:DAYLIGHT
BEGIN:STANDARD
TZOFFSETFROM:+0200
TZOFFSETTO:+0100
TZNAME:CET
DTSTART:20241027T010000
END:STANDARD
END:VTIMEZONE
BEGIN:VEVENT
DTSTART;TZID=Europe/Rome:20240401T093000
DTEND;TZID=Europe/Rome:20240403T183000
DTSTAMP:20260421T020837
CREATED:20231115T141910Z
LAST-MODIFIED:20240408T090140Z
UID:13499-1711963800-1712169000@www.gustar.it
SUMMARY:CORSO DI AEROGRAFIA CON MARIO ROMANI
DESCRIPTION:Lunedi 15 e martedi 16 aprile dalle 09.30 alle 18.30 : \n  \nCORSO DI AEROGRAFO \nper la Decorazione in Pasticceria \nTecniche di utilizzo dell’aerografo con applicazioni pratiche \nInsegnante: Mario Romani \nCORSO PRATICO 2 GIORNI FULL IMMERSION  \nDurata: 2 giorni per 16 ore complessive di lezione con didattica individuale personalizzata. \nIn questi due giorni un numero limitato di allievi non superiore a 12 persone si cimenta sotto la guida dell’insegnante nell’apprendimento della tecnica base\, nel perfezionamento e nell’esecuzione di vari esercizi di decorazione ad aero­grafo: \n– diretta su pastigliaggio\, marzapane\, ostie\, paste alimentari\, ecc; \n– tridimensionale su fruttini\, animaletti in marzapane\, fiori modellati ecc.; \n– diretta su cioccolato\, praline\, ecc. \n– indiretta con l’utilizzo di tattoo chocolate su cioccolato\, ecc.. \nAttraverso i due giorni di lezione gli allievi acquisiscono la tecnica e diventano autosufficienti e in grado si svolgere autonomamente i primi lavori ad aerografo in pasticceria. \nA tutti i partecipanti di questo corso pratico viene consegnata in omaggio del materiale didattico\, gadget\, una dispensa del corso\, e al termine un Atte­stato di Partecipazione\, personalizzato con il logo dell’Azienda o della Scuola promotrici delliniziativa. \nQuesto corso pratico prevede lo stesso program­ma svolto agli analoghi corsi di Aerografia tenuti da Mario Romani presso le Scuole Professionali come ARomAcademy di Roma\, Cast Alimenti Brescia\, Etoile\, Arte Dolce di Rimini\, L’Ac­cademia del Cioccolato Barry Callebaut di Milano\, e le aziende come Mancinelli Group Viterbo\, Saima Caserta\, 3P Ingros Torino. \nLe attrezzature (aerografi\, compressori ecc.) vengono messe a disposizione dall’inse­gnante\, nonché alcuni prodotti di consumo. \nNegli ultimi anni i migliori pasticceri italiani e stranieri\, impostisi anche in campo internazio­nale\, sono stati allievi dei corsi di Mario Romani \nNel costo del corso è compreso il light lunch per le due giornate e vari cofee break
URL:https://www.gustar.it/corso/corso-di-aerografia-con-mario-romani-3/
LOCATION:Gustar\, via Fonda di S.Agostino 4\, Pistoia\, Italia\, 51100\, Italia
CATEGORIES:Pasticceria
ATTACH;FMTTYPE=image/jpeg:https://www.gustar.it/wp-content/uploads/index-1.jpg
ORGANIZER;CN="Gustar Centro di Formazione delle Arti Bianche in Toscana":MAILTO:info@gustar.it
END:VEVENT
END:VCALENDAR