BEGIN:VCALENDAR
VERSION:2.0
PRODID:-//Gustar - ECPv6.2.8.1//NONSGML v1.0//EN
CALSCALE:GREGORIAN
METHOD:PUBLISH
X-ORIGINAL-URL:https://www.gustar.it
X-WR-CALDESC:Eventi per Gustar
REFRESH-INTERVAL;VALUE=DURATION:PT1H
X-Robots-Tag:noindex
X-PUBLISHED-TTL:PT1H
BEGIN:VTIMEZONE
TZID:Europe/Rome
BEGIN:DAYLIGHT
TZOFFSETFROM:+0100
TZOFFSETTO:+0200
TZNAME:CEST
DTSTART:20240331T010000
END:DAYLIGHT
BEGIN:STANDARD
TZOFFSETFROM:+0200
TZOFFSETTO:+0100
TZNAME:CET
DTSTART:20241027T010000
END:STANDARD
END:VTIMEZONE
BEGIN:VEVENT
DTSTART;TZID=Europe/Rome:20240404T143000
DTEND;TZID=Europe/Rome:20240404T183000
DTSTAMP:20260421T020837
CREATED:20231128T144004Z
LAST-MODIFIED:20240322T130225Z
UID:13666-1712241000-1712255400@www.gustar.it
SUMMARY:CORSO DI PASTA TIRATA AL MATTARELLO E PASTE RIPIENE ANCHE SENZA GLUTINE CORSO SOLD OUT REPLICA IL 18 APRILE
DESCRIPTION:Benvenuti al corso di pasta fresca tirata a mano \, una tradizione tutta italiana . \nCi sarà tanto da fare e le ore voleranno ! \nAngela Tamburini \nLa base è sempre di un’impasto tradizionale con farine e acqua o farina e uova . \nE da qui avremo numerose varianti : le paste colorate \, quelle integrali \, quelle senza glutine con cui creare paste vuote e ripiene . \nGIOVEDI 4 APRILE 2024   dalle 14.30 alle 18.30 .
URL:https://www.gustar.it/corso/corso-di-pasta-tirata-al-mattarello-e-paste-ripiene-anche-senza-glutine-5/
LOCATION:Gustar\, via Fonda di S.Agostino 4\, Pistoia\, Italia\, 51100\, Italia
CATEGORIES:Gastronomia
ATTACH;FMTTYPE=image/jpeg:https://www.gustar.it/wp-content/uploads/2020/12/pasta.jpg
ORGANIZER;CN="Gustar Centro di Formazione delle Arti Bianche in Toscana":MAILTO:info@gustar.it
END:VEVENT
END:VCALENDAR