BEGIN:VCALENDAR
VERSION:2.0
PRODID:-//Gustar - ECPv6.2.8.1//NONSGML v1.0//EN
CALSCALE:GREGORIAN
METHOD:PUBLISH
X-WR-CALNAME:Gustar
X-ORIGINAL-URL:https://www.gustar.it
X-WR-CALDESC:Eventi per Gustar
REFRESH-INTERVAL;VALUE=DURATION:PT1H
X-Robots-Tag:noindex
X-PUBLISHED-TTL:PT1H
BEGIN:VTIMEZONE
TZID:Europe/Rome
BEGIN:DAYLIGHT
TZOFFSETFROM:+0100
TZOFFSETTO:+0200
TZNAME:CEST
DTSTART:20240331T010000
END:DAYLIGHT
BEGIN:STANDARD
TZOFFSETFROM:+0200
TZOFFSETTO:+0100
TZNAME:CET
DTSTART:20241027T010000
END:STANDARD
END:VTIMEZONE
BEGIN:VEVENT
DTSTART;TZID=Europe/Rome:20240413T143000
DTEND;TZID=Europe/Rome:20240413T173000
DTSTAMP:20260421T060943
CREATED:20240409T095620Z
LAST-MODIFIED:20240409T144047Z
UID:14125-1713018600-1713029400@www.gustar.it
SUMMARY:LA FROLLA E LE SUE APPLICAZIONI
DESCRIPTION:Continuano le iniziative per contribuire alla raccolta fondi in memoria di Martina Niccoli promossa da Fondazione Un Raggio di Luce ETS per portare lontano la sua grandissima passione per la pasticceria. \n  \nGrazie al supporto di GUSTAR CENTRO DI FORMAZIONE DELLE ARTI BIANCHE\, sabato 13 aprile dalle 14.30 alle 17.30 ci sarà un minicorso dimostrativo di pasticceria nell’ambito del quale\, scopriremo tutti i segreti della pasta frolla e le sue numerose applicazioni. \n  \nIl costo del corso è di 30 euro e parte del ricavato sarà destinato alla Fondazione Un Raggio di Luce per la realizzazione del progetto Bakery Training che ha come obiettivo quello di realizzare un percorso formativo di pasticceria e panificazione per 15 donne nepalesi\, della municipalità rurale di Jumla. \n  \nMa attenzione\, i posti sono LIMITATI! \nPer informazioni e prenotazioni: fondazione@unraggiodiluce.org\, tel. 0573.31291\, (whatsapp) 338.2612203 \n 
URL:https://www.gustar.it/corso/la-frolla-e-le-sue-applicazioni/
LOCATION:Gustar\, via Fonda di S.Agostino 4\, Pistoia\, Italia\, 51100\, Italia
ATTACH;FMTTYPE=image/jpeg:https://www.gustar.it/wp-content/uploads/onlusssssssss.jpg
ORGANIZER;CN="Gustar Centro di Formazione delle Arti Bianche in Toscana":MAILTO:info@gustar.it
END:VEVENT
END:VCALENDAR