BEGIN:VCALENDAR
VERSION:2.0
PRODID:-//Gustar - ECPv6.2.8.1//NONSGML v1.0//EN
CALSCALE:GREGORIAN
METHOD:PUBLISH
X-WR-CALNAME:Gustar
X-ORIGINAL-URL:https://www.gustar.it
X-WR-CALDESC:Eventi per Gustar
REFRESH-INTERVAL;VALUE=DURATION:PT1H
X-Robots-Tag:noindex
X-PUBLISHED-TTL:PT1H
BEGIN:VTIMEZONE
TZID:Europe/Rome
BEGIN:DAYLIGHT
TZOFFSETFROM:+0100
TZOFFSETTO:+0200
TZNAME:CEST
DTSTART:20240331T010000
END:DAYLIGHT
BEGIN:STANDARD
TZOFFSETFROM:+0200
TZOFFSETTO:+0100
TZNAME:CET
DTSTART:20241027T010000
END:STANDARD
END:VTIMEZONE
BEGIN:VEVENT
DTSTART;TZID=Europe/Rome:20240417T140000
DTEND;TZID=Europe/Rome:20240417T190000
DTSTAMP:20260421T075717
CREATED:20231121T133226Z
LAST-MODIFIED:20240417T160952Z
UID:13600-1713362400-1713380400@www.gustar.it
SUMMARY:CORSO PANIFICAZIONE CON STEFANO GATTI :IMPARIAMO AD UTILIZZARE IL LIEVITO MADRE\, SPECIALE PANINI DA RISTORAZIONE
DESCRIPTION:Mercoledi 17 aprile dalle 14.00 alle 19:00 con Stefano Gatti \nRicette per imparare a gestire il lievito madre e utilizzare farine alternative e semi misti Piccoli dettagli dove ogni ingrediente fa la differenza\, inserimento ingredienti\, riposo impasto\, formatura\, lievitazione e cottura……  ricette\, tanti consigli utili per allargare le vedute sulla panificazione e non solo. Accrescere la conoscenza sul pane e la trasformazione ed evoluzione che puo’ avere questo prodotto cosi’ amato dall’uomo…..pane curcuma e pinoli\, pane al farro e noci\, pane con multicereali e semi misti\, focaccia senatore cappelli e olive\, focaccia grano verna pistacchi e farina di pistacchio. \n\n\n\n E produzione di piccoli pani e focacce adatte per banchetti \,  cestini di pane \, aperitivi .\n\n\n\n\n 
URL:https://www.gustar.it/corso/corso-panificazione-con-stefano-gatti-impariamo-ad-utilizzare-il-lievito-madre-speciale-panini-da-ristorazione/
LOCATION:Gustar\, via Fonda di S.Agostino 4\, Pistoia\, Italia\, 51100\, Italia
CATEGORIES:Panificazione
ATTACH;FMTTYPE=image/jpeg:https://www.gustar.it/wp-content/uploads/stef.jpg
ORGANIZER;CN="Gustar Centro di Formazione delle Arti Bianche in Toscana":MAILTO:info@gustar.it
END:VEVENT
END:VCALENDAR