BEGIN:VCALENDAR
VERSION:2.0
PRODID:-//Gustar - ECPv6.2.8.1//NONSGML v1.0//EN
CALSCALE:GREGORIAN
METHOD:PUBLISH
X-WR-CALNAME:Gustar
X-ORIGINAL-URL:https://www.gustar.it
X-WR-CALDESC:Eventi per Gustar
REFRESH-INTERVAL;VALUE=DURATION:PT1H
X-Robots-Tag:noindex
X-PUBLISHED-TTL:PT1H
BEGIN:VTIMEZONE
TZID:Europe/Rome
BEGIN:DAYLIGHT
TZOFFSETFROM:+0100
TZOFFSETTO:+0200
TZNAME:CEST
DTSTART:20240331T010000
END:DAYLIGHT
BEGIN:STANDARD
TZOFFSETFROM:+0200
TZOFFSETTO:+0100
TZNAME:CET
DTSTART:20241027T010000
END:STANDARD
END:VTIMEZONE
BEGIN:VEVENT
DTSTART;TZID=Europe/Rome:20241106T140000
DTEND;TZID=Europe/Rome:20241106T190000
DTSTAMP:20260420T152211
CREATED:20240829T095304Z
LAST-MODIFIED:20241104T102640Z
UID:14472-1730901600-1730919600@www.gustar.it
SUMMARY:CORSO PANIFICAZIONE CON STEFANO GATTI :IMPARIAMO AD UTILIZZARE IL LIEVITO MADRE\, GESTIONE E PRODUZIONE
DESCRIPTION:Corso 6 novembre 2024 dalle 14:00 alle 19:00  presso scuola Gustar Pistoia. \n  \nProdurre pane\, grissini e focaccia con lievito madre\, gestione impasti e lievito madre\, dal pane alla menta e cioccolato fondente alla focaccia Toscana con lardo\, grissino al grano Arso ed un crackers con farina di riso e farina di ceci\,  ed un impasto a mano con Cedrina. \nRivolto ad un pubblico Amatoriale e Professionisti.
URL:https://www.gustar.it/corso/corso-panificazione-con-stefano-gatti-impariamo-ad-utilizzare-il-lievito-madre-gestione-e-produzione-3/
LOCATION:Gustar\, via Fonda di S.Agostino 4\, Pistoia\, Italia\, 51100\, Italia
CATEGORIES:Panificazione
ATTACH;FMTTYPE=image/jpeg:https://www.gustar.it/wp-content/uploads/Foto-Accademia-MLM.jpg
ORGANIZER;CN="Gustar Centro di Formazione delle Arti Bianche in Toscana":MAILTO:info@gustar.it
END:VEVENT
END:VCALENDAR