BEGIN:VCALENDAR
VERSION:2.0
PRODID:-//Gustar - ECPv6.2.8.1//NONSGML v1.0//EN
CALSCALE:GREGORIAN
METHOD:PUBLISH
X-ORIGINAL-URL:https://www.gustar.it
X-WR-CALDESC:Eventi per Gustar
REFRESH-INTERVAL;VALUE=DURATION:PT1H
X-Robots-Tag:noindex
X-PUBLISHED-TTL:PT1H
BEGIN:VTIMEZONE
TZID:Europe/Rome
BEGIN:DAYLIGHT
TZOFFSETFROM:+0100
TZOFFSETTO:+0200
TZNAME:CEST
DTSTART:20240331T010000
END:DAYLIGHT
BEGIN:STANDARD
TZOFFSETFROM:+0200
TZOFFSETTO:+0100
TZNAME:CET
DTSTART:20241027T010000
END:STANDARD
END:VTIMEZONE
BEGIN:VEVENT
DTSTART;TZID=Europe/Rome:20241125T090000
DTEND;TZID=Europe/Rome:20241125T170000
DTSTAMP:20260420T135621
CREATED:20240801T121649Z
LAST-MODIFIED:20240828T091417Z
UID:14351-1732525200-1732554000@www.gustar.it
SUMMARY:LA PASTICCERIA SALATA PER APERICENA E BUFFET
DESCRIPTION:Lunedi  25 novembre  2023 dalle 09.00 alle 17.00  \, Stefano Parenti  \, ci presenterà un corso  dove verrà proposto una serie di preparazioni di pasticceria salata    adatte ad aperitivi \,  buffet e cerimonie . Partiremo dalle basi come pan brioche e lievitati per arrivare a produrre : \n  \npan brioche alle carote \npanini al latte( spinaci\, pomodoro\, focaccine\, pan carre\, aristine\, grissini sfogliati) \npane al pomodoro \nbrise ( torta salata\, mignon) \ntartine della memoria ( torta di tartine) \nstrudel salato \nSaranno preparate anche le farciture per le ricette ottenute \nPer un pubblico di professionisti e  appassionati per preparare in casa un buffet di successo. \n 
URL:https://www.gustar.it/corso/la-pasticceria-salata-per-apericena-e-buffet-3/
LOCATION:Gustar\, via Fonda di S.Agostino 4\, Pistoia\, Italia\, 51100\, Italia
CATEGORIES:Panificazione,Pasticceria
ATTACH;FMTTYPE=image/jpeg:https://www.gustar.it/wp-content/uploads/2021/11/cinnamon-scaled.jpg
ORGANIZER;CN="Gustar Centro di Formazione delle Arti Bianche in Toscana":MAILTO:info@gustar.it
END:VEVENT
END:VCALENDAR