BEGIN:VCALENDAR
VERSION:2.0
PRODID:-//Gustar - ECPv6.2.8.1//NONSGML v1.0//EN
CALSCALE:GREGORIAN
METHOD:PUBLISH
X-WR-CALNAME:Gustar
X-ORIGINAL-URL:https://www.gustar.it
X-WR-CALDESC:Eventi per Gustar
REFRESH-INTERVAL;VALUE=DURATION:PT1H
X-Robots-Tag:noindex
X-PUBLISHED-TTL:PT1H
BEGIN:VTIMEZONE
TZID:Europe/Rome
BEGIN:DAYLIGHT
TZOFFSETFROM:+0100
TZOFFSETTO:+0200
TZNAME:CEST
DTSTART:20240331T010000
END:DAYLIGHT
BEGIN:STANDARD
TZOFFSETFROM:+0200
TZOFFSETTO:+0100
TZNAME:CET
DTSTART:20241027T010000
END:STANDARD
END:VTIMEZONE
BEGIN:VEVENT
DTSTART;TZID=Europe/Rome:20241207T143000
DTEND;TZID=Europe/Rome:20241207T183000
DTSTAMP:20260420T152208
CREATED:20240826T153300Z
LAST-MODIFIED:20241206T100744Z
UID:14455-1733581800-1733596200@www.gustar.it
SUMMARY:I SABATI DI MARZIA : I DOLCI DELLE FESTE POSTI ESAURITI
DESCRIPTION:Sabato 7 dicembre dalle 14:30 all3 18:30  con Marzia Cappellini  Gastone Pegoraro e Massimiliano Bettazzi  :  “I dolci tipici delle feste ” Un corso pratico dove realizzeremo : \nPanforte \nTorrone morbido \nCavallucci \nRicciarelli \nCantuccini
URL:https://www.gustar.it/corso/i-sabati-di-marzia-i-dolci-delle-feste-2/
LOCATION:Gustar\, via Fonda di S.Agostino 4\, Pistoia\, Italia\, 51100\, Italia
ATTACH;FMTTYPE=image/jpeg:https://www.gustar.it/wp-content/uploads/2020/12/torrone-1.jpg
ORGANIZER;CN="Gustar Centro di Formazione delle Arti Bianche in Toscana":MAILTO:info@gustar.it
END:VEVENT
END:VCALENDAR