BEGIN:VCALENDAR
VERSION:2.0
PRODID:-//Gustar - ECPv6.2.8.1//NONSGML v1.0//EN
CALSCALE:GREGORIAN
METHOD:PUBLISH
X-WR-CALNAME:Gustar
X-ORIGINAL-URL:https://www.gustar.it
X-WR-CALDESC:Eventi per Gustar
REFRESH-INTERVAL;VALUE=DURATION:PT1H
X-Robots-Tag:noindex
X-PUBLISHED-TTL:PT1H
BEGIN:VTIMEZONE
TZID:Europe/Rome
BEGIN:DAYLIGHT
TZOFFSETFROM:+0100
TZOFFSETTO:+0200
TZNAME:CEST
DTSTART:20250330T010000
END:DAYLIGHT
BEGIN:STANDARD
TZOFFSETFROM:+0200
TZOFFSETTO:+0100
TZNAME:CET
DTSTART:20251026T010000
END:STANDARD
END:VTIMEZONE
BEGIN:VEVENT
DTSTART;TZID=Europe/Rome:20250101T140000
DTEND;TZID=Europe/Rome:20250102T183000
DTSTAMP:20260420T152058
CREATED:20241119T095402Z
LAST-MODIFIED:20250107T082222Z
UID:14878-1735740000-1735842600@www.gustar.it
SUMMARY:I PRODOTTI DA COLAZIONE \,CORNETTI BRIOCHE E TRECCINE CON MASSIMILIANO BETTAZZI MARZIA CAPPELLINI
DESCRIPTION:Sabato 17 maggio  dalle 14:30 alle 18:00 appuntamento con  ” I sabati di Marzia ” con Marzia Cappellini e Massimiliano Bettazzi\, corsi mani in pasta dove ogni partecipante \, che sia un’appassionato oppure una persona che si avvicina per la prima volta all’arte della pasticceria  \, puo cimentersi nella preparazione di prodotti dolciari . Per passare un pomeriggio diverso con la professionalità e la simpatia di Marzia \, Massimiliano e Gastone . A fine corso ogni partecipante sarà omaggiato con i dolci prodotti
URL:https://www.gustar.it/corso/i-sabati-di-marzia-speciale-crostate-alla-frutta/
LOCATION:Gustar\, via Fonda di S.Agostino 4\, Pistoia\, Italia\, 51100\, Italia
CATEGORIES:Pasticceria
ATTACH;FMTTYPE=image/jpeg:https://www.gustar.it/wp-content/uploads/croissant.jpg
ORGANIZER;CN="Gustar Centro di Formazione delle Arti Bianche in Toscana":MAILTO:info@gustar.it
END:VEVENT
BEGIN:VEVENT
DTSTART;TZID=Europe/Rome:20250101T190000
DTEND;TZID=Europe/Rome:20250102T230000
DTSTAMP:20260420T152058
CREATED:20241111T162858Z
LAST-MODIFIED:20250127T151042Z
UID:14832-1735758000-1735858800@www.gustar.it
SUMMARY:CORSO PIZZERIA PER PROFESSIONISTI E AMATORI EVOLUTI
DESCRIPTION:Il 28 e 29 maggio dalle 19:00 alle 23:00 \nCorso di pizza Tonda contemporanea e pizza alla pala \nl corso durerà 8 ore suddivise in due sere ed è rivolto ad amatori che vogliono portare a un livello superiore la loro passione e professionisti.\nAndremo a realizzare passo passo più ricette ovvero pizza contemporanea\, pizza alla pala . \nDedicheremo un ampio spazio alla parte teorica andando ad analizzare le farine e i processi biochimici e microbiologici che avvengono all’interno di un impasto. \n  \nSvolgimento: \n  \n  \nPrimo giorno. \n\nPreparazione dell’impasto indiretto per la pizza contemporanea\n\n  \n\nRealizzazione di un preimpasto biga\nSpiegazione teorica sulle farine\n\n  \n\nFormatura dei panetti\nSpegazione teorica dell’impasto\n\n  \n\nStesura del panetto con prova pratica\nInfornamento della pizza con prova pratica\n\n  \n  \n  \nSecondo giorno. \n\nPreparazione dell’impasto indiretto per la pizza alla pala\nSpiegazione teorica sulla fermentazione\n\n  \n\nFormatura dei panetti\nSpegazione teorica del preimpasto biga e dei vari tipi di preimpasto\n\n  \n\nStesura del panetto con prova pratica\nInfornamento della pizza con prova pratica\n\n  \nGrazie a questo corso riuscirete a: \n\nScegliere le farine da utilizzare in un processo in base alla loro scheda\nComprende un impasto in base alla sua tenacità ed estensibilità quindi come cambiare le sue caratteristiche in base alla gestione e al prodotto che vogliamo\nSaper gestire la fase di lievitazione e maturazione in base alla conoscenza dei parametri ottimali per lo sviluppo dei microrganismi e andando a comprendere come favorire una giusta attività enzimatica.\nCreare e gestire un preimpasto in base al prodotto che vogliamo ottenere\, ogni preimpasto dona caratteristiche organolettiche e consistenze differenti\, dopo il corso capirai quale scegliere e perché.\nPersonalizzare il tuo impasto tagliando farine tecniche con farine ottenute con metodo di macinazione antico in modo da dare consistenze e note aromatiche uniche.\nGestire un impasto nel tempo in modo da adattare le proprie tempistiche all’impasto e non viceversa.\nComprendere la cottura e applicarla in base al prodotto\n\n  \n  \n  \nDurata totale del corso 8 ore.
URL:https://www.gustar.it/corso/corso-pizzeria-per-professionisti-e-amatori-evoluti-2/
LOCATION:Italia
CATEGORIES:Pizzeria
ATTACH;FMTTYPE=image/jpeg:https://www.gustar.it/wp-content/uploads/chiappizzaaaaa.jpg
ORGANIZER;CN="Gustar Centro di Formazione delle Arti Bianche in Toscana":MAILTO:info@gustar.it
END:VEVENT
END:VCALENDAR