BEGIN:VCALENDAR
VERSION:2.0
PRODID:-//Gustar - ECPv6.2.8.1//NONSGML v1.0//EN
CALSCALE:GREGORIAN
METHOD:PUBLISH
X-ORIGINAL-URL:https://www.gustar.it
X-WR-CALDESC:Eventi per Gustar
REFRESH-INTERVAL;VALUE=DURATION:PT1H
X-Robots-Tag:noindex
X-PUBLISHED-TTL:PT1H
BEGIN:VTIMEZONE
TZID:Europe/Rome
BEGIN:DAYLIGHT
TZOFFSETFROM:+0100
TZOFFSETTO:+0200
TZNAME:CEST
DTSTART:20250330T010000
END:DAYLIGHT
BEGIN:STANDARD
TZOFFSETFROM:+0200
TZOFFSETTO:+0100
TZNAME:CET
DTSTART:20251026T010000
END:STANDARD
END:VTIMEZONE
BEGIN:VEVENT
DTSTART;TZID=Europe/Rome:20250315T143000
DTEND;TZID=Europe/Rome:20250315T180000
DTSTAMP:20260420T090334
CREATED:20241118T130604Z
LAST-MODIFIED:20250107T081257Z
UID:14864-1742049000-1742061600@www.gustar.it
SUMMARY:I PRODOTTI DA COLAZIONE \,CORNETTI BRIOCHE E TRECCINE ----POSTI ESAURITI--- BIS SABATO  17 MAGGIO
DESCRIPTION:Sabato 15 marzo dalle 14:30 alle 18:00 nuovo appuntamento con  ” I sabati di Marzia ” con Marzia Cappellini e Massimiliano Bettazzi\, corsi mani in pasta dove ogni partecipante \, che sia un’appassionato oppure una persona che si avvicina per la prima volta all’arte della pasticceria  \, puo cimentersi nella preparazione di prodotti dolciari . Per passare un pomeriggio diverso con la professionalità e la simpatia di Marzia \, Massimiliano e Gastone . A fine corso ogni partecipante sarà omaggiato con i dolci prodotti
URL:https://www.gustar.it/corso/i-prodotti-da-colazione-cornetti-brioche-e-treccine-con-marzia-cappellini-e-massimiliano-bettazzi-2/
LOCATION:Gustar\, via Fonda di S.Agostino 4\, Pistoia\, Italia\, 51100\, Italia
CATEGORIES:Pasticceria
ATTACH;FMTTYPE=image/jpeg:https://www.gustar.it/wp-content/uploads/60d590c972a9b-28-06-21-jpg.jpg
ORGANIZER;CN="Gustar Centro di Formazione delle Arti Bianche in Toscana":MAILTO:info@gustar.it
END:VEVENT
END:VCALENDAR