BEGIN:VCALENDAR
VERSION:2.0
PRODID:-//Gustar - ECPv6.2.8.1//NONSGML v1.0//EN
CALSCALE:GREGORIAN
METHOD:PUBLISH
X-ORIGINAL-URL:https://www.gustar.it
X-WR-CALDESC:Eventi per Gustar
REFRESH-INTERVAL;VALUE=DURATION:PT1H
X-Robots-Tag:noindex
X-PUBLISHED-TTL:PT1H
BEGIN:VTIMEZONE
TZID:Europe/Rome
BEGIN:DAYLIGHT
TZOFFSETFROM:+0100
TZOFFSETTO:+0200
TZNAME:CEST
DTSTART:20250330T010000
END:DAYLIGHT
BEGIN:STANDARD
TZOFFSETFROM:+0200
TZOFFSETTO:+0100
TZNAME:CET
DTSTART:20251026T010000
END:STANDARD
END:VTIMEZONE
BEGIN:VEVENT
DTSTART;TZID=Europe/Rome:20250405T143000
DTEND;TZID=Europe/Rome:20250405T180000
DTSTAMP:20260420T090316
CREATED:20241118T134359Z
LAST-MODIFIED:20250325T054243Z
UID:14868-1743863400-1743876000@www.gustar.it
SUMMARY:PASQUA : PREPARA IL TUO UOVO FABERGE' ----POSTI ESAURITI
DESCRIPTION:Sabato 5 aprile dalle 14:30 alle 18:00 nuovo appuntamento con  ” I sabati di Marzia ” con Marzia Cappellini e Massimiliano Bettazzi\, corsi mani in pasta dove ogni partecipante \, che sia un’appassionato o che si avvicini per la prima volta all’arte della pasticceria  \, puo cimentersi nella preparazione del proprio uovo di Pasqua farcito con pan di spagna crema al mascarpone e frutta  . Per passare un pomeriggio diverso con la professionalità e la simpatia di Marzia \, Massimiliano e Gastone . A fine corso ogni partecipante sarà omaggiato con i dolci prodotti
URL:https://www.gustar.it/corso/pasqua-prepara-il-tuo-uovo-faberge/
LOCATION:Gustar\, via Fonda di S.Agostino 4\, Pistoia\, Italia\, 51100\, Italia
CATEGORIES:Pasticceria
ATTACH;FMTTYPE=image/jpeg:https://www.gustar.it/wp-content/uploads/uovo-tttt.jpg
ORGANIZER;CN="Gustar Centro di Formazione delle Arti Bianche in Toscana":MAILTO:info@gustar.it
END:VEVENT
END:VCALENDAR