BEGIN:VCALENDAR
VERSION:2.0
PRODID:-//Gustar - ECPv6.2.8.1//NONSGML v1.0//EN
CALSCALE:GREGORIAN
METHOD:PUBLISH
X-ORIGINAL-URL:https://www.gustar.it
X-WR-CALDESC:Eventi per Gustar
REFRESH-INTERVAL;VALUE=DURATION:PT1H
X-Robots-Tag:noindex
X-PUBLISHED-TTL:PT1H
BEGIN:VTIMEZONE
TZID:Europe/Rome
BEGIN:DAYLIGHT
TZOFFSETFROM:+0100
TZOFFSETTO:+0200
TZNAME:CEST
DTSTART:20250330T010000
END:DAYLIGHT
BEGIN:STANDARD
TZOFFSETFROM:+0200
TZOFFSETTO:+0100
TZNAME:CET
DTSTART:20251026T010000
END:STANDARD
END:VTIMEZONE
BEGIN:VEVENT
DTSTART;TZID=Europe/Rome:20250514T140000
DTEND;TZID=Europe/Rome:20250514T180000
DTSTAMP:20260420T053910
CREATED:20251204T174355Z
LAST-MODIFIED:20260122T150439Z
UID:16427-1747231200-1747245600@www.gustar.it
SUMMARY:CORSO AVANZATO DI PASTA TIRATA AL MATTARELLO
DESCRIPTION:Giovedi 14 maggio dalle 14.00 alle 18.00 corso pratico di pasta fresca tirata al mattarelo e paste ripiene con la sfoglina Angela Tamburini . \nAdatto a chi a  già dimestichezza con la sfoglia base e per perfezionare la tecnica della pasta al mattarello e creare paste  con un tocco speciale \nCome gestire impasti \nTiratura uniforme della sfoglia sottile a mano (senza macchinette) \nCome ottenere uno spessore perfetto per ripieni e paste ripiegate \nCome colorare naturalmente la sfoglia (spinaci\, barbabietola\, curcuma) \n  \nUso creativo delle forme e piegature \nCiao a tutti e ben venuti a questo corso . Mi chiamo Angela .Angela Tamburini e faccio la sfoglina\, cioè tiro la sfoglia per  fare la pasta e lo faccio a mano come vuole la tradizione  e ancor di più la tradizione bolognese. \n  \nPasta fresca ..pasta fatta a mano.
URL:https://www.gustar.it/corso/corso-avanzato-di-pasta-tirata-al-mattarello/
LOCATION:Gustar\, via Fonda di S.Agostino 4\, Pistoia\, Italia\, 51100\, Italia
CATEGORIES:Gastronomia
ATTACH;FMTTYPE=image/jpeg:https://www.gustar.it/wp-content/uploads/DSCF1379-scaled.jpg
ORGANIZER;CN="Gustar Centro di Formazione delle Arti Bianche in Toscana":MAILTO:info@gustar.it
END:VEVENT
END:VCALENDAR