BEGIN:VCALENDAR
VERSION:2.0
PRODID:-//Gustar - ECPv6.2.8.1//NONSGML v1.0//EN
CALSCALE:GREGORIAN
METHOD:PUBLISH
X-ORIGINAL-URL:https://www.gustar.it
X-WR-CALDESC:Eventi per Gustar
REFRESH-INTERVAL;VALUE=DURATION:PT1H
X-Robots-Tag:noindex
X-PUBLISHED-TTL:PT1H
BEGIN:VTIMEZONE
TZID:Europe/Rome
BEGIN:DAYLIGHT
TZOFFSETFROM:+0100
TZOFFSETTO:+0200
TZNAME:CEST
DTSTART:20250330T010000
END:DAYLIGHT
BEGIN:STANDARD
TZOFFSETFROM:+0200
TZOFFSETTO:+0100
TZNAME:CET
DTSTART:20251026T010000
END:STANDARD
END:VTIMEZONE
BEGIN:VEVENT
DTSTART;TZID=Europe/Rome:20250520T140000
DTEND;TZID=Europe/Rome:20250520T180000
DTSTAMP:20260420T053849
CREATED:20241204T121826Z
LAST-MODIFIED:20250412T072058Z
UID:15018-1747749600-1747764000@www.gustar.it
SUMMARY:CORSO DI PASTA TIRATA AL MATTARELLO  PASTE RIPIENE E SENZA GLUTINE---POSTI ESAURITI
DESCRIPTION:Martedi 20 maggio  o dalle 14.00 alle 18.00 corso pratico di pasta fresca tirata al mattarelo e paste ripiene con la sfoglina Angela Tamburini . \nCiao a tutti e ben venuti a questo corso . Mi chiamo Angela .Angela Tamburini e faccio la sfoglina\, cioè tiro la sfoglia per  fare la pasta e lo faccio a mano come vuole la tradizione  e ancor di più la tradizione bolognese. \nVi daro’alcuni cenni storici sulla pasta \, sulle farine sugli impasti e dopo partiremo con la parte pratica iniziando dall’impasto \, procedendo con la tiratura della pasta  e ai vari formati (alcuni) che si possono ottenere tra paste lunghe e paste ripiene.  Poi ci sarà una parte dove voi metterete le mani nella farina e  sicuramente sara’ la parte piu’ divertente del pomeriggio che oggi passeremo assieme. E perche no alla fine faremo anche qualche assaggio. \nPasta fresca ..pasta fatta a mano.
URL:https://www.gustar.it/corso/corso-di-pasta-tirata-al-mattarello-paste-ripiene-e-senza-glutine/
LOCATION:Gustar\, via Fonda di S.Agostino 4\, Pistoia\, Italia\, 51100\, Italia
CATEGORIES:Gastronomia
ATTACH;FMTTYPE=image/jpeg:https://www.gustar.it/wp-content/uploads/pasta-fresca.jpg
ORGANIZER;CN="Gustar Centro di Formazione delle Arti Bianche in Toscana":MAILTO:info@gustar.it
END:VEVENT
BEGIN:VEVENT
DTSTART;TZID=Europe/Rome:20250520T183000
DTEND;TZID=Europe/Rome:20250520T220000
DTSTAMP:20260420T053849
CREATED:20250305T110320Z
LAST-MODIFIED:20250416T131549Z
UID:15436-1747765800-1747778400@www.gustar.it
SUMMARY:I PRODOTTI DA COLAZIONE \,CORNETTI BRIOCHE E TRECCINE POSTI ESAURITI
DESCRIPTION:Martedi 20 maggio dalle 18:30 alle 22:00 nuovo appuntamento con  ” I sabati di Marzia ” con Marzia Cappellini e Massimiliano Bettazzi\, corsi mani in pasta dove ogni partecipante \, che sia un’appassionato oppure una persona che si avvicina per la prima volta all’arte della pasticceria  \, puo cimentersi nella preparazione di prodotti dolciari . Per passare un pomeriggio diverso con la professionalità e la simpatia di Marzia \, Massimiliano e Gastone . A fine corso ogni partecipante sarà omaggiato con i dolci prodotti
URL:https://www.gustar.it/corso/i-prodotti-da-colazione-cornetti-brioche-e-treccine/
LOCATION:Gustar\, via Fonda di S.Agostino 4\, Pistoia\, Italia\, 51100\, Italia
CATEGORIES:Pasticceria
ATTACH;FMTTYPE=image/jpeg:https://www.gustar.it/wp-content/uploads/2022/06/DSCF0988-scaled.jpg
ORGANIZER;CN="Gustar Centro di Formazione delle Arti Bianche in Toscana":MAILTO:info@gustar.it
END:VEVENT
BEGIN:VEVENT
DTSTART;TZID=Europe/Rome:20250520T203000
DTEND;TZID=Europe/Rome:20250520T230000
DTSTAMP:20260420T053849
CREATED:20241212T150617Z
LAST-MODIFIED:20250502T072129Z
UID:15056-1747773000-1747782000@www.gustar.it
SUMMARY:CORSO DI AVVICINAMENTO AL VINO : METODO CLASSICO E CHAMPAGNE
DESCRIPTION:Martedi 20  maggio  dalle 20.30 alle 23.30 \, corso guidato alla degustazione del vino metodo classico e champagne. Verranno degustati 4 tipologie di vini italiani ed esteri guidati da un’esperto del settore che ci aiuterà a valutare e descrivere l’aspetto\, il profumo e il gusto per  comprendere le differenze fra i diversi vini .
URL:https://www.gustar.it/corso/corso-di-avvicinamento-al-vino-metodo-classsico-e-champagne-2/
LOCATION:Gustar\, via Fonda di S.Agostino 4\, Pistoia\, Italia\, 51100\, Italia
CATEGORIES:Bartending
ATTACH;FMTTYPE=image/jpeg:https://www.gustar.it/wp-content/uploads/champagne-300x300-1.jpg
END:VEVENT
END:VCALENDAR