BEGIN:VCALENDAR
VERSION:2.0
PRODID:-//Gustar - ECPv6.2.8.1//NONSGML v1.0//EN
CALSCALE:GREGORIAN
METHOD:PUBLISH
X-ORIGINAL-URL:https://www.gustar.it
X-WR-CALDESC:Eventi per Gustar
REFRESH-INTERVAL;VALUE=DURATION:PT1H
X-Robots-Tag:noindex
X-PUBLISHED-TTL:PT1H
BEGIN:VTIMEZONE
TZID:Europe/Rome
BEGIN:DAYLIGHT
TZOFFSETFROM:+0100
TZOFFSETTO:+0200
TZNAME:CEST
DTSTART:20250330T010000
END:DAYLIGHT
BEGIN:STANDARD
TZOFFSETFROM:+0200
TZOFFSETTO:+0100
TZNAME:CET
DTSTART:20251026T010000
END:STANDARD
END:VTIMEZONE
BEGIN:VEVENT
DTSTART;TZID=Europe/Rome:20250922T140000
DTEND;TZID=Europe/Rome:20250922T180000
DTSTAMP:20260420T011902
CREATED:20250618T155932Z
LAST-MODIFIED:20250915T150405Z
UID:15755-1758549600-1758564000@www.gustar.it
SUMMARY:CORSO PRATICO DI BISCOTTERIA CON STEFANO DONATI POSTI ESAURITI
DESCRIPTION:Lunedi 22 settembre dalle 14:00 alle 18:00 \nCorso Pratico di Biscotteria Artigianale \ncon il Maestro Pasticcere Stefano Donati \n Un viaggio nei profumi del forno: prepara\, inforna e porta a casa i tuoi biscotti! \nHai sempre sognato di sfornare biscotti fragranti e perfetti? Questo corso pratico di 4 ore è pensato per chi vuole imparare l’arte della biscotteria artigianale\, guidato da un esperto del settore: Stefano Donati. \nCosa faremo insieme \nDurante il corso\, ogni partecipante avrà la propria postazione e preparerà con le proprie mani: \n\nCookies classici al cioccolato – croccanti fuori\, morbidi dentro\nGallette al miele – delicate e profumate\, perfette per la colazione\nFettine al cioccolato – biscotti eleganti\, ideali per il tè\nFrollini inglesi tipo shortbread – burrosi e friabili\, come da tradizione\n\n\nImpasterai\, modellerai\, cuocerai e porterai a casa una selezione dei tuoi biscotti appena sfornati! \nDettagli del corso \n\nDurata: 4 ore\nModalità: completamente pratico .\nLivello: adatto a tutti\, anche principianti\nDocente: Stefano Donati\, pasticcere professionista\nMateriali e ingredienti inclusi\n\nCosa porti a casa \n\nUna selezione dei biscotti preparati\nLe ricette testate e spiegate passo passo\nTanti consigli professionali per replicare tutto a casa\n\n  \n 
URL:https://www.gustar.it/corso/corso-pratico-di-biscotteria-con-stefano-donati/
LOCATION:Gustar\, via Fonda di S.Agostino 4\, Pistoia\, Italia\, 51100\, Italia
CATEGORIES:Pasticceria
ATTACH;FMTTYPE=image/jpeg:https://www.gustar.it/wp-content/uploads/2022/06/margheritine-300x300-1.jpg
ORGANIZER;CN="Gustar Centro di Formazione delle Arti Bianche in Toscana":MAILTO:info@gustar.it
END:VEVENT
BEGIN:VEVENT
DTSTART;TZID=Europe/Rome:20250922T140000
DTEND;TZID=Europe/Rome:20250923T180000
DTSTAMP:20260420T011902
CREATED:20250703T113847Z
LAST-MODIFIED:20250916T074014Z
UID:15858-1758549600-1758650400@www.gustar.it
SUMMARY:CORSO DI DECORAZIONE AL CORNETTO E SCRITTURA ARTISTICA
DESCRIPTION:La pasticceria moderna\, oggi\, conquista per il suo stile che esprime innovazione e raffinatezza\, ma talvolta manca di quella personalità che solo l’arte tradizionale\, come la Decorazione al Cornetto\, riesce a trasmettere\, esprimendo tutto il suo fascino e carattere. Un richiamo alle radici della tradizione\, che mantiene viva la connessione con il passato\, è ciò che molti apprezzano ancora oggi\, cercando una dolcezza che non è solo estetica. \nLunedi 22 e martedi 23  settembre    2025 dalle 14:00 alle 18:00 \nCon Giuliano Casotti  un corso di decorazioni al cornetto \, scrittura artistica e decorazioni classiche con cioccolato e ghiaccia reale e per pasticceria  \, su torta . \nPer pasticceri che vogliono arricchire le proprie conoscenze e per appassionati che vogliono stupire con i propri dolci realizzando decorazioni ad effetto .
URL:https://www.gustar.it/corso/corso-di-decorazione-al-cornetto-e-scrittura-artistica-3/
LOCATION:Gustar\, via Fonda di S.Agostino 4\, Pistoia\, Italia\, 51100\, Italia
CATEGORIES:Pasticceria
ATTACH;FMTTYPE=image/jpeg:https://www.gustar.it/wp-content/uploads/cornetto.jpg
ORGANIZER;CN="Gustar Centro di Formazione delle Arti Bianche in Toscana":MAILTO:info@gustar.it
END:VEVENT
END:VCALENDAR