BEGIN:VCALENDAR
VERSION:2.0
PRODID:-//Gustar - ECPv6.2.8.1//NONSGML v1.0//EN
CALSCALE:GREGORIAN
METHOD:PUBLISH
X-WR-CALNAME:Gustar
X-ORIGINAL-URL:https://www.gustar.it
X-WR-CALDESC:Eventi per Gustar
REFRESH-INTERVAL;VALUE=DURATION:PT1H
X-Robots-Tag:noindex
X-PUBLISHED-TTL:PT1H
BEGIN:VTIMEZONE
TZID:Europe/Rome
BEGIN:DAYLIGHT
TZOFFSETFROM:+0100
TZOFFSETTO:+0200
TZNAME:CEST
DTSTART:20240331T010000
END:DAYLIGHT
BEGIN:STANDARD
TZOFFSETFROM:+0200
TZOFFSETTO:+0100
TZNAME:CET
DTSTART:20241027T010000
END:STANDARD
END:VTIMEZONE
BEGIN:VEVENT
DTSTART;TZID=Europe/Rome:20241127T193000
DTEND;TZID=Europe/Rome:20241128T223000
DTSTAMP:20260421T000737
CREATED:20240801T122630Z
LAST-MODIFIED:20240916T070347Z
UID:14355-1732735800-1732833000@www.gustar.it
SUMMARY:CORSO BARMAN MUOVERE I PRIMI PASSI NEL MONDO DEL BERE MISCELATO E CAFFETTERIA
DESCRIPTION:Vuoi imparare i segreti del mondo del barman? Che sia un principiante\, un professionista o un appassionato\, c’è sempre un corso che fa per te. \nI nostri corsi barman sono tenuti da bartender professionisti ed esperti di settore in continuo aggiornamento. In più aggiungiamo sempre tanta passione per il nostro lavoro e voglia di insegnare. \nIl corso è da sviluppare in 2 serate consecutive (27 e 28 novembre ) per una durata di circa 3 ore a serata dalle 19:30 alle 22:30 \n1° SERATA: Caffetteria e servizio della mattina. Estrazione del caffè e montatura del latte corretta. Servizio del the e degli infusi. Preparazione di estratti e succhi freschi. \n2° SERATA: Dall’aperitivo al dopocena: allestire una postazione cocktail\, scegliere le bottiglie corrette e realizzare i drink più richiesti all’aperitivo. \nL’idea è di dare un’infarinatura generale al personale dei vari bar per poter anche alle prime armi. \n 
URL:https://www.gustar.it/corso/corso-barman-muovere-i-primi-passi-nel-mondo-del-bere-miscelato-e-caffetteria-2/
LOCATION:Gustar\, via Fonda di S.Agostino 4\, Pistoia\, Italia\, 51100\, Italia
CATEGORIES:Bartending
ATTACH;FMTTYPE=image/png:https://www.gustar.it/wp-content/uploads/qui-si-beve.png
ORGANIZER;CN="Gustar Centro di Formazione delle Arti Bianche in Toscana":MAILTO:info@gustar.it
END:VEVENT
BEGIN:VEVENT
DTSTART;TZID=Europe/Rome:20241129T203000
DTEND;TZID=Europe/Rome:20241129T233000
DTSTAMP:20260421T000737
CREATED:20240814T132401Z
LAST-MODIFIED:20241111T064923Z
UID:14396-1732912200-1732923000@www.gustar.it
SUMMARY:CORSO DI AVVICINAMENTO AL VINO
DESCRIPTION:Venerdi 29 novembre dalle 20.30 alle 23.30 \, corso guidato alla degustazione del vino rosso . Verranno degustati 4 tipologie di vini italiani ed esteri guidati da un’esperto del settore che ci aiuterà a valutare e descrivere l’aspetto\, il profumo e il gusto per  comprendere le differenze fra i diversi vini .
URL:https://www.gustar.it/corso/corso-di-avvicinamento-al-vino-3/
LOCATION:Gustar\, via Fonda di S.Agostino 4\, Pistoia\, Italia\, 51100\, Italia
CATEGORIES:Bartending
ATTACH;FMTTYPE=image/jpeg:https://www.gustar.it/wp-content/uploads/imag.jpg
ORGANIZER;CN="Gustar Centro di Formazione delle Arti Bianche in Toscana":MAILTO:info@gustar.it
END:VEVENT
END:VCALENDAR