BEGIN:VCALENDAR
VERSION:2.0
PRODID:-//Gustar - ECPv6.2.8.1//NONSGML v1.0//EN
CALSCALE:GREGORIAN
METHOD:PUBLISH
X-WR-CALNAME:Gustar
X-ORIGINAL-URL:https://www.gustar.it
X-WR-CALDESC:Eventi per Gustar
REFRESH-INTERVAL;VALUE=DURATION:PT1H
X-Robots-Tag:noindex
X-PUBLISHED-TTL:PT1H
BEGIN:VTIMEZONE
TZID:Europe/Rome
BEGIN:DAYLIGHT
TZOFFSETFROM:+0100
TZOFFSETTO:+0200
TZNAME:CEST
DTSTART:20240331T010000
END:DAYLIGHT
BEGIN:STANDARD
TZOFFSETFROM:+0200
TZOFFSETTO:+0100
TZNAME:CET
DTSTART:20241027T010000
END:STANDARD
END:VTIMEZONE
BEGIN:VEVENT
DTSTART;TZID=Europe/Rome:20240306T143000
DTEND;TZID=Europe/Rome:20240307T183000
DTSTAMP:20260420T060211
CREATED:20231120T150947Z
LAST-MODIFIED:20240129T094926Z
UID:13568-1709735400-1709836200@www.gustar.it
SUMMARY:CIOCCOLATO CORSO PRATICO PRIMO LIVELLO CON STEFANO DONATI
DESCRIPTION:Mercoledi 6 e giovedi 7 marzo  2024 dalle ore 14.30 alle 18.30 con Stefano Donati \nCorso pratico per amatori e professionisti \nConoscere il cioccolato ed apprendere le nozioni di base per creare CIOCCOLATINI  e COMPOSIZIONI \nPRIMA LEZIONE \nIntroduzione teorica su provenienza e lavorazione del cacao \nTemperaggio \nassemblaggio del cioccolato per ottenere soggetti decorativi per le torte \nSECONDA LEZIONE \nINTRODUZIONE TEORICA E PRATICA PER LA REALIZZAZIONE DI PRALINE \, CREMINI \, TARTUFI \, RICCETTI E RIPIENI PER CIOCCOLATINI \nPRESENTAZIONE FINALE CON LE PRALINE ASSORTITE E GLI ELABORATI IN CIOCCOLATO
URL:https://www.gustar.it/corso/cioccolato-corso-pratico-primo-livello-con-stefano-donati-2/
LOCATION:Gustar\, via Fonda di S.Agostino 4\, Pistoia\, Italia\, 51100\, Italia
CATEGORIES:Cioccolateria
ATTACH;FMTTYPE=image/jpeg:https://www.gustar.it/wp-content/uploads/2021/11/cioccolateria-scaled.jpg
ORGANIZER;CN="Gustar Centro di Formazione delle Arti Bianche in Toscana":MAILTO:info@gustar.it
END:VEVENT
END:VCALENDAR