BEGIN:VCALENDAR
VERSION:2.0
PRODID:-//Gustar - ECPv6.2.8.1//NONSGML v1.0//EN
CALSCALE:GREGORIAN
METHOD:PUBLISH
X-WR-CALNAME:Gustar
X-ORIGINAL-URL:https://www.gustar.it
X-WR-CALDESC:Eventi per Gustar
REFRESH-INTERVAL;VALUE=DURATION:PT1H
X-Robots-Tag:noindex
X-PUBLISHED-TTL:PT1H
BEGIN:VTIMEZONE
TZID:Europe/Rome
BEGIN:DAYLIGHT
TZOFFSETFROM:+0100
TZOFFSETTO:+0200
TZNAME:CEST
DTSTART:20240331T010000
END:DAYLIGHT
BEGIN:STANDARD
TZOFFSETFROM:+0200
TZOFFSETTO:+0100
TZNAME:CET
DTSTART:20241027T010000
END:STANDARD
END:VTIMEZONE
BEGIN:VEVENT
DTSTART;TZID=Europe/Rome:20240313T143000
DTEND;TZID=Europe/Rome:20240313T183000
DTSTAMP:20260421T134447
CREATED:20231201T113158Z
LAST-MODIFIED:20231201T113158Z
UID:13678-1710340200-1710354600@www.gustar.it
SUMMARY:CREARE UN MENU DI CARNE DALL'ANTIPASTO AL DOLCE CON LO CHEF ALESSANDRO MORELLI
DESCRIPTION:Mercoledi 13 marzo   dalle 14.30 alle 18.30 con Alessandro Morelli  un corso  dove verrà eseguito un menù a base carne di 4 portate dall’antipasto al dolce \, \nadatto a ristoratori \, per avere qualche spunto in più \, ed appassionati per stupire i propri aspiti . \n  \nAlessandro Morelli è uno chef conosciuto a livello internazionale e vanta una esperienza quarantennale maturata in diverse tipologie di locali (anche diversi stellati) sia in Italia che\, soprattutto\, all’estero. \nAllievo di Angelo Paracucchi fa parte di quella pattuglia di “giovani” chef che hanno contribuito\, a partire dagli anni ’80\,  al rinnovamento e alla diffusione nel mondo della nuova cucina italiana. \nAppassionato di libri\, cinema\, arte\, sport e soprattutto viaggi ha visitato numerosissimi Paesi in cinque continenti. \nE’ nato in Toscana\, a Pontedera nel 1965 e in questa città è cresciuto ed è ancora oggi residente. \n“Il sapore dei sogni” è il suo primo lavoro pubblicato. \n 
URL:https://www.gustar.it/corso/creare-un-menu-di-carne-dallantipasto-al-dolce-con-lo-chef-alessandro-morelli/
LOCATION:Gustar\, via Fonda di S.Agostino 4\, Pistoia\, Italia\, 51100\, Italia
CATEGORIES:Gastronomia
ATTACH;FMTTYPE=image/jpeg:https://www.gustar.it/wp-content/uploads/MORELL.jpg
ORGANIZER;CN="Gustar Centro di Formazione delle Arti Bianche in Toscana":MAILTO:info@gustar.it
END:VEVENT
BEGIN:VEVENT
DTSTART;TZID=Europe/Rome:20240315T143000
DTEND;TZID=Europe/Rome:20240316T143000
DTSTAMP:20260421T134447
CREATED:20231121T123305Z
LAST-MODIFIED:20240328T100212Z
UID:13596-1710513000-1710599400@www.gustar.it
SUMMARY:TECNICA DI COTTURA A BASSA TEMPERATURA E CONSERVAZIONE DEGLI ALIMENTI
DESCRIPTION:Quando :mercoledi 3 e giovedi 4 aprile \nOrari      :  14.30 -18.30 \nDurata   : 8 ore \n  \nCon Stefano Pinciaroli un corso dimostrativo dedicato alla tecnica di cottura sottovuoto a bassa temperatura  e conservazione degli alimenti. \nI temi affrontati saranno : \nSpiegazione della  tecnica di cottura sottovuoto a bassa temperatura \nScelta e lavorazione della materia prima : verdure \, pesce \, carne . \nCondizionamento e cottura degli alimenti . \nRigenerazione  e ulteriore rifinitura del prodotto. \nStefano Pinciaroli\, uno degli chef emergenti in Toscana\, nasce nel maggio 1978. Cresciuto nel piccolo borgo di Cerreto Guidi è il primo di cinque figli e inizia ad appassionarsi alla cucina aiutando la mamma a preparare il pranzo della domenica. \nFrequenta l’Istituto Alberghiero di Montecatini e non appena conseguito il diploma inizia a lavorare in diversi ristoranti in Italia e all’estero. \nNel 2000 inizia la lunga e importante collaborazione con il Grand Hotel di Firenze. In questo contesto Stefano ha modo di affiancare gli Chef Daniele Sera e Fabrizio Innocenti\, migliorando le proprie tecniche di cucina. \nAlla fine di questa esperienza\, Stefano decide di “tornare alle proprie origini” trasferendosi di nuovo a Cerreto Guidi e iniziando altre importanti collaborazioni con ristoranti della zona. \nForte di numerose esperienze\, nell’aprile 2010 Stefano parte con il progetto dell’apertura di PS Ristorante\, dove finalmente riesce a esprimere al meglio le proprie qualità\, stabilendo un forte legame fra tradizione e innovazione. \nDal 2010 PS Ristorante è entrato in diverse guide nazionali e non\, diventando un punto di riferimento della gastronomia toscana ed italiana. \n\nAprile 2016 Stefano Pinciaroli entra tra i Jeunes Restaurateurs: è uno degli 88 cuochi under 42 . \nDal 2020 è ala guida di Villa Petriolo a Cerreto Guidi \n 
URL:https://www.gustar.it/corso/tecnica-di-cottura-a-bassa-temperatura-e-conservazione-degli-alimenti-4/
LOCATION:Gustar\, via Fonda di S.Agostino 4\, Pistoia\, Italia\, 51100\, Italia
CATEGORIES:Gastronomia
ATTACH;FMTTYPE=image/jpeg:https://www.gustar.it/wp-content/uploads/2021/11/DSCN2986-2048x1536-1.jpg
ORGANIZER;CN="Gustar Centro di Formazione delle Arti Bianche in Toscana":MAILTO:info@gustar.it
END:VEVENT
BEGIN:VEVENT
DTSTART;TZID=Europe/Rome:20240321T143000
DTEND;TZID=Europe/Rome:20240321T183000
DTSTAMP:20260421T134447
CREATED:20231121T101515Z
LAST-MODIFIED:20231121T101659Z
UID:13583-1711031400-1711045800@www.gustar.it
SUMMARY:CORSO DI IMPIATTAMENTO ED ESTETICA DEL PIATTO CON STEFANO PINCIAROLI
DESCRIPTION:Il 21 marzo dalle 14:30 alle 18:30 con Stefano Pinciaroli un corso dove lo chef ci farà apprendere le tecniche di impiattamento moderno \, dalla disposizione degli ingredienti alla scelta dei colori \, per rendere \nun piatto accativante e piacevole . \nStefano Pinciaroli\, uno degli chef emergenti in Toscana\, nasce nel maggio 1978. Cresciuto nel piccolo borgo di Cerreto Guidi è il primo di cinque figli e inizia ad appassionarsi alla cucina aiutando la mamma a preparare il pranzo della domenica. \nFrequenta l’Istituto Alberghiero di Montecatini e non appena conseguito il diploma inizia a lavorare in diversi ristoranti in Italia e all’estero. \nNel 2000 inizia la lunga e importante collaborazione con il Grand Hotel di Firenze. In questo contesto Stefano ha modo di affiancare gli Chef Daniele Sera e Fabrizio Innocenti\, migliorando le proprie tecniche di cucina. \nAlla fine di questa esperienza\, Stefano decide di “tornare alle proprie origini” trasferendosi di nuovo a Cerreto Guidi e iniziando altre importanti collaborazioni con ristoranti della zona. \nForte di numerose esperienze\, nell’aprile 2010 Stefano parte con il progetto dell’apertura di PS Ristorante\, dove finalmente riesce a esprimere al meglio le proprie qualità\, stabilendo un forte legame fra tradizione e innovazione. \nDal 2010 PS Ristorante è entrato in diverse guide nazionali e non\, diventando un punto di riferimento della gastronomia toscana ed italiana. \n\nAprile 2016 Stefano Pinciaroli entra tra i Jeunes Restaurateurs: è uno degli 88 cuochi under 42 . \nDal 2020 è ala guida di Villa Petriolo a Cerreto Guidi
URL:https://www.gustar.it/corso/corso-di-impiattamento-ed-estetica-del-piatto-con-stefano-pinciaroli/
LOCATION:Gustar\, via Fonda di S.Agostino 4\, Pistoia\, Italia\, 51100\, Italia
CATEGORIES:Gastronomia
ATTACH;FMTTYPE=image/jpeg:https://www.gustar.it/wp-content/uploads/pincia-3.jpg
ORGANIZER;CN="Gustar Centro di Formazione delle Arti Bianche in Toscana":MAILTO:info@gustar.it
END:VEVENT
END:VCALENDAR