BEGIN:VCALENDAR
VERSION:2.0
PRODID:-//Gustar - ECPv6.2.8.1//NONSGML v1.0//EN
CALSCALE:GREGORIAN
METHOD:PUBLISH
X-ORIGINAL-URL:https://www.gustar.it
X-WR-CALDESC:Eventi per Gustar
REFRESH-INTERVAL;VALUE=DURATION:PT1H
X-Robots-Tag:noindex
X-PUBLISHED-TTL:PT1H
BEGIN:VTIMEZONE
TZID:Europe/Rome
BEGIN:DAYLIGHT
TZOFFSETFROM:+0100
TZOFFSETTO:+0200
TZNAME:CEST
DTSTART:20240331T010000
END:DAYLIGHT
BEGIN:STANDARD
TZOFFSETFROM:+0200
TZOFFSETTO:+0100
TZNAME:CET
DTSTART:20241027T010000
END:STANDARD
END:VTIMEZONE
BEGIN:VEVENT
DTSTART;TZID=Europe/Rome:20240404T143000
DTEND;TZID=Europe/Rome:20240404T183000
DTSTAMP:20260421T085238
CREATED:20231128T144004Z
LAST-MODIFIED:20240322T130225Z
UID:13666-1712241000-1712255400@www.gustar.it
SUMMARY:CORSO DI PASTA TIRATA AL MATTARELLO E PASTE RIPIENE ANCHE SENZA GLUTINE CORSO SOLD OUT REPLICA IL 18 APRILE
DESCRIPTION:Benvenuti al corso di pasta fresca tirata a mano \, una tradizione tutta italiana . \nCi sarà tanto da fare e le ore voleranno ! \nAngela Tamburini \nLa base è sempre di un’impasto tradizionale con farine e acqua o farina e uova . \nE da qui avremo numerose varianti : le paste colorate \, quelle integrali \, quelle senza glutine con cui creare paste vuote e ripiene . \nGIOVEDI 4 APRILE 2024   dalle 14.30 alle 18.30 .
URL:https://www.gustar.it/corso/corso-di-pasta-tirata-al-mattarello-e-paste-ripiene-anche-senza-glutine-5/
LOCATION:Gustar\, via Fonda di S.Agostino 4\, Pistoia\, Italia\, 51100\, Italia
CATEGORIES:Gastronomia
ATTACH;FMTTYPE=image/jpeg:https://www.gustar.it/wp-content/uploads/2020/12/pasta.jpg
ORGANIZER;CN="Gustar Centro di Formazione delle Arti Bianche in Toscana":MAILTO:info@gustar.it
END:VEVENT
BEGIN:VEVENT
DTSTART;TZID=Europe/Rome:20240407T093000
DTEND;TZID=Europe/Rome:20240407T173000
DTSTAMP:20260421T085238
CREATED:20240213T131051Z
LAST-MODIFIED:20240325T163210Z
UID:13934-1712482200-1712511000@www.gustar.it
SUMMARY:CORSO DI FERMENTAZIONE PER ISCRIZIONI 380 492 3319 MARCO FORTUNATO
DESCRIPTION:Fermentati\, 7 Aprile Pistoia ( ANCHE SE SULLA PAGINA C’è SCRITTO ESAURITO CI SONO ANCORA POSTI DISPONIBILI CONTATTARE 380 4923319 )\n\n\nWorkshop pratico \n\n\nUn corso a 360 gradi sulla fermentazione. Dalle bevande fermentate alle verdure passando per l’aceto. In questa giornata si vedranno e prepareranno diversi alimenti e bevande fermentate. Alcune saranno preparate direttamente dai partecipanti\, di altre osserveremo la produzione e tutte le fasi di lavorazione. \nDopo questo corso si avrà acquisito la sicurezza e la conoscenza necessaria a produrre i principali alimenti fermentati. Verdure\, kefir\, kombucha\, aceto ed altro ancora con la conoscenza dei segreti per evitare errori e riconoscere un prodotto ben riuscito da uno dubbio. Il programma prevede: \n\nKefir d’acqua\nkefir di latte (anche vegetale)\nKombucha\nVerdure fermentate\nkimchi\nLImoni fermentati\nAceto\n\nL’evento si terrà presso la scuola Gustar di Pistoia. Valore del corso 80€ che include materiale del corso\, dispense scritte e video di tutti i procedimenti. \nDocente: Marco Fortunato\, esperto produttore di alimenti fermentati quali bevande\, verdure\, miso\, tempeh ed altro. Fondatore del progetto I’m in fermentation. Da anni di occupa di insegnare a produrre questi alimenti. Ha tenuto diverse decine di corsi di formazione in Italia\, dal vivo ed on line insegnando a fermentare a centinaia di persone. \n il corso avrà i seguenti orari: inizierà alle 9:30 e terminerà alle 17:30 circa \n 
URL:https://www.gustar.it/corso/corso-di-fermentazione-per-iscrizioni-380-492-3319-marco-fortunato/
LOCATION:Gustar\, via Fonda di S.Agostino 4\, Pistoia\, Italia\, 51100\, Italia
CATEGORIES:Gastronomia
ATTACH;FMTTYPE=image/jpeg:https://www.gustar.it/wp-content/uploads/images.jpg
ORGANIZER;CN="Gustar Centro di Formazione delle Arti Bianche in Toscana":MAILTO:info@gustar.it
END:VEVENT
BEGIN:VEVENT
DTSTART;TZID=Europe/Rome:20240418T143000
DTEND;TZID=Europe/Rome:20240418T183000
DTSTAMP:20260421T085238
CREATED:20240322T125218Z
LAST-MODIFIED:20240411T120243Z
UID:14072-1713450600-1713465000@www.gustar.it
SUMMARY:CORSO DI PASTA TIRATA AL MATTARELLO E PASTE RIPIENE ANCHE SENZA GLUTINE BIS CORSO SOLD OUT
DESCRIPTION:Visto il successo del corso \, abbiamo deciso di bissare ! \nBenvenuti al corso di pasta fresca tirata a mano \, una tradizione tutta italiana . \nCi sarà tanto da fare e le ore voleranno ! \nAngela Tamburini \nLa base è sempre di un’impasto tradizionale con farine e acqua o farina e uova . \nE da qui avremo numerose varianti : le paste colorate \, quelle integrali \, quelle senza glutine con cui creare paste vuote e ripiene . \nGIOVEDI 18 APRILE 2024   dalle 14.30 alle 18.30 .
URL:https://www.gustar.it/corso/corso-di-pasta-tirata-al-mattarello-e-paste-ripiene-anche-senza-glutine-bis/
LOCATION:Gustar\, via Fonda di S.Agostino 4\, Pistoia\, Italia\, 51100\, Italia
CATEGORIES:Gastronomia
ATTACH;FMTTYPE=image/jpeg:https://www.gustar.it/wp-content/uploads/pasta-300x300-1.jpg
ORGANIZER;CN="Gustar Centro di Formazione delle Arti Bianche in Toscana":MAILTO:info@gustar.it
END:VEVENT
END:VCALENDAR