BEGIN:VCALENDAR
VERSION:2.0
PRODID:-//Gustar - ECPv6.2.8.1//NONSGML v1.0//EN
CALSCALE:GREGORIAN
METHOD:PUBLISH
X-ORIGINAL-URL:https://www.gustar.it
X-WR-CALDESC:Eventi per Gustar
REFRESH-INTERVAL;VALUE=DURATION:PT1H
X-Robots-Tag:noindex
X-PUBLISHED-TTL:PT1H
BEGIN:VTIMEZONE
TZID:Europe/Rome
BEGIN:DAYLIGHT
TZOFFSETFROM:+0100
TZOFFSETTO:+0200
TZNAME:CEST
DTSTART:20240331T010000
END:DAYLIGHT
BEGIN:STANDARD
TZOFFSETFROM:+0200
TZOFFSETTO:+0100
TZNAME:CET
DTSTART:20241027T010000
END:STANDARD
END:VTIMEZONE
BEGIN:VEVENT
DTSTART;TZID=Europe/Rome:20240604T150000
DTEND;TZID=Europe/Rome:20240604T183000
DTSTAMP:20260421T032435
CREATED:20240502T125650Z
LAST-MODIFIED:20240517T100102Z
UID:14169-1717513200-1717525800@www.gustar.it
SUMMARY:CORSO DI CUCINA TRA INNOVAZIONE E TRADIZIONE
DESCRIPTION:Martedi 4 giugno dalle 15;:00 alle 18:30 un corso di cucina a quattro mani che prevede la realizzazione di un menù completo dall’antipasto al dolce \, \ndove la tradizione \, interpretata da Alvaro Bartoli executive chef di fama internazionale \, incontra l’innovazione con Alessio Morganti chef e titolare del ristorante ” Le Cento Buche ” di Prato . \nI piatti del corso: \nTimballo di ricotta alici e insalata di asparagi e la sua crema .\nCarpaccio di “paranza” del pastore\nRisotto rapa rossa erborinato del Mugello\nGyoza come fa il risotto Alvaro.\nPera di coniglio con verdure il suo fondo\nConiglio e carota+\nPescato del giorno  primaverile\nFragole nel prato . \nIn  collaborazione con l’Associazione Cuochi Montecatini Pistoia Prato . \nCorso gratuito per i soci F.I.C iscrizione obbligatoria  entro il 30 maggio 3783020333  anche con messaggio WhatsApp \, o presso Gustar Pistoia \n 
URL:https://www.gustar.it/corso/corso-di-cucina-tra-innovazione-e-tradizione/
LOCATION:Gustar\, via Fonda di S.Agostino 4\, Pistoia\, Italia\, 51100\, Italia
CATEGORIES:Gastronomia
ATTACH;FMTTYPE=image/jpeg:https://www.gustar.it/wp-content/uploads/Volpe-2.jpg
ORGANIZER;CN="Gustar Centro di Formazione delle Arti Bianche in Toscana":MAILTO:info@gustar.it
END:VEVENT
BEGIN:VEVENT
DTSTART;TZID=Europe/Rome:20240608T143000
DTEND;TZID=Europe/Rome:20240608T183000
DTSTAMP:20260421T032435
CREATED:20231124T145604Z
LAST-MODIFIED:20240517T095921Z
UID:13644-1717857000-1717871400@www.gustar.it
SUMMARY:BUFFET SOTTO LE STELLE
DESCRIPTION:Sabato 8 giugno 2024 con Marzia Cappelini dalle 14.30 alle 18.30 \, un corso  dove verrà proposto una serie di piccoli bocconi \, bicchierini e tartellette   adatte ad aperitivi \,  buffet e cerimonie .Si spazierà da preparazioni a  base di verdura \,  pesce  \, formaggi freschi \, e frutta .
URL:https://www.gustar.it/corso/buffet-sotto-le-stelle/
LOCATION:Gustar\, via Fonda di S.Agostino 4\, Pistoia\, Italia\, 51100\, Italia
CATEGORIES:Gastronomia
ATTACH;FMTTYPE=image/jpeg:https://www.gustar.it/wp-content/uploads/thumbnail_IMG_5755-300x300-1.jpg
ORGANIZER;CN="Gustar Centro di Formazione delle Arti Bianche in Toscana":MAILTO:info@gustar.it
END:VEVENT
END:VCALENDAR