BEGIN:VCALENDAR
VERSION:2.0
PRODID:-//Gustar - ECPv6.2.8.1//NONSGML v1.0//EN
CALSCALE:GREGORIAN
METHOD:PUBLISH
X-ORIGINAL-URL:https://www.gustar.it
X-WR-CALDESC:Eventi per Gustar
REFRESH-INTERVAL;VALUE=DURATION:PT1H
X-Robots-Tag:noindex
X-PUBLISHED-TTL:PT1H
BEGIN:VTIMEZONE
TZID:Europe/Rome
BEGIN:DAYLIGHT
TZOFFSETFROM:+0100
TZOFFSETTO:+0200
TZNAME:CEST
DTSTART:20250330T010000
END:DAYLIGHT
BEGIN:STANDARD
TZOFFSETFROM:+0200
TZOFFSETTO:+0100
TZNAME:CET
DTSTART:20251026T010000
END:STANDARD
END:VTIMEZONE
BEGIN:VEVENT
DTSTART;TZID=Europe/Rome:20250301T143000
DTEND;TZID=Europe/Rome:20250302T183000
DTSTAMP:20260420T113122
CREATED:20241202T132620Z
LAST-MODIFIED:20250326T145621Z
UID:14958-1740839400-1740940200@www.gustar.it
SUMMARY:TECNICA DI COTTURA A BASSA TEMPERATURA E CONSERVAZIONE DEGLI ALIMENTI
DESCRIPTION:Quando :  martedi 1 e mercoledi 2 aprile \nOrari      :  14.30 -18.30 \nDurata   : 8 ore \n  \nCon Stefano Pinciaroli un corso dimostrativo dedicato alla tecnica di cottura sottovuoto a bassa temperatura  e conservazione degli alimenti. \nI temi affrontati saranno : \nSpiegazione della  tecnica di cottura sottovuoto a bassa temperatura \nScelta e lavorazione della materia prima : verdure \, pesce \, carne . \nCondizionamento e cottura degli alimenti . \nRigenerazione  e ulteriore rifinitura del prodotto. \nStefano Pinciaroli\, uno degli chef emergenti in Toscana\, nasce nel maggio 1978. Cresciuto nel piccolo borgo di Cerreto Guidi è il primo di cinque figli e inizia ad appassionarsi alla cucina aiutando la mamma a preparare il pranzo della domenica. \nFrequenta l’Istituto Alberghiero di Montecatini e non appena conseguito il diploma inizia a lavorare in diversi ristoranti in Italia e all’estero. \nNel 2000 inizia la lunga e importante collaborazione con il Grand Hotel di Firenze. In questo contesto Stefano ha modo di affiancare gli Chef Daniele Sera e Fabrizio Innocenti\, migliorando le proprie tecniche di cucina. \nAlla fine di questa esperienza\, Stefano decide di “tornare alle proprie origini” trasferendosi di nuovo a Cerreto Guidi e iniziando altre importanti collaborazioni con ristoranti della zona. \nForte di numerose esperienze\, nell’aprile 2010 Stefano parte con il progetto dell’apertura di PS Ristorante\, dove finalmente riesce a esprimere al meglio le proprie qualità\, stabilendo un forte legame fra tradizione e innovazione. \nDal 2010 PS Ristorante è entrato in diverse guide nazionali e non\, diventando un punto di riferimento della gastronomia toscana ed italiana. \n\nAprile 2016 Stefano Pinciaroli entra tra i Jeunes Restaurateurs: è uno degli 88 cuochi under 42 . \nDal 2020 è ala guida di Villa Petriolo a Cerreto Guidi \n 
URL:https://www.gustar.it/corso/tecnica-di-cottura-a-bassa-temperatura-e-conservazione-degli-alimenti-5/
LOCATION:Gustar\, via Fonda di S.Agostino 4\, Pistoia\, Italia\, 51100\, Italia
CATEGORIES:Gastronomia
ATTACH;FMTTYPE=image/jpeg:https://www.gustar.it/wp-content/uploads/PINCIA-TRE.jpg
ORGANIZER;CN="Gustar Centro di Formazione delle Arti Bianche in Toscana":MAILTO:info@gustar.it
END:VEVENT
BEGIN:VEVENT
DTSTART;TZID=Europe/Rome:20250326T190000
DTEND;TZID=Europe/Rome:20250326T230000
DTSTAMP:20260420T113122
CREATED:20241212T150005Z
LAST-MODIFIED:20250227T111154Z
UID:15051-1743015600-1743030000@www.gustar.it
SUMMARY:CORSO  CUCINA DAL MONDO : CUCINA THAILANDESE
DESCRIPTION:Mercoledi 26 marzo 2025 dalle 19.00 alle 23.00 \nPer chi che ama il sapore di cibo THAILANDESE\, potete farlo da solo a casa!! Per tutti quelli che hanno visitato l’asia e vogliono riassaporarne il gusto\, sarete gratificati da piatti assolutamente tipici\, autentici\, un buonissimo street food e tanta ospitalità. Per coloro che invece sono solamente curiosi \, è il momento di esplorare una nuova frontiera del gusto! \n  \nPROGRAMMA RICETTE \n  \nTom Kha Gai: curry bianco con pollo  \n Moo Pad King: Maiale saltato in padella con zenzero \n Kra Prao Moo Sub: Maiale saltato in padella con basilico \n Tom Yum Goong: zuppa di gamberi agro-piccante \nPor Pia: Involtini primaverA
URL:https://www.gustar.it/corso/corso-cucina-dal-mondo-cucina-thailandese-3/
LOCATION:Gustar\, via Fonda di S.Agostino 4\, Pistoia\, Italia\, 51100\, Italia
CATEGORIES:Gastronomia
ATTACH;FMTTYPE=image/jpeg:https://www.gustar.it/wp-content/uploads/thai.jpg
ORGANIZER;CN="Gustar Centro di Formazione delle Arti Bianche in Toscana":MAILTO:info@gustar.it
END:VEVENT
BEGIN:VEVENT
DTSTART;TZID=Europe/Rome:20250327T140000
DTEND;TZID=Europe/Rome:20250327T180000
DTSTAMP:20260420T113122
CREATED:20241122T140834Z
LAST-MODIFIED:20250318T173433Z
UID:14919-1743084000-1743098400@www.gustar.it
SUMMARY:FINGER FOOD PER APERICENA E BUFFET
DESCRIPTION:Giovedi 27 marzo 2024 \nDalle 14.00 alle 18.00 \nChef David Nesi \, executive chef di  ” Valerio Catering “\, ci presenterà un corso  dove verranno proposti  una serie di finger food \, bicchierini e tartellette   adatte ad aperitivi \,  buffet e cerimonie . \nSi spazierà da preparazioni a  base di verdura \,  pesce  \, formaggi freschi \, e frutta . \nPer un pubblico di appassionati per preparare in casa un buffet di successo \, ma anche adatto a professionisti per avere qualche idea in più. \nprogramma del corso : \nGirandola di salmone con formaggio di capra e olive \nBavarese di stracchinio con crema di pomodoro \ndelicatezza robiola cotto e noci \nbignè mohito \ntortino di polpo patate e patè di olive nere \nbaccala mantecato con passatina di ceci e cuscino di cracker \ntartare di tonno alla caprese \ncrostoncino di finocchiona  e fichi \n 
URL:https://www.gustar.it/corso/finger-food-per-apericena-e-buffet-4/
LOCATION:Gustar\, via Fonda di S.Agostino 4\, Pistoia\, Italia\, 51100\, Italia
CATEGORIES:Gastronomia
ATTACH;FMTTYPE=image/jpeg:https://www.gustar.it/wp-content/uploads/newfinger-300x300-1.jpg
ORGANIZER;CN="Gustar Centro di Formazione delle Arti Bianche in Toscana":MAILTO:info@gustar.it
END:VEVENT
END:VCALENDAR