BEGIN:VCALENDAR
VERSION:2.0
PRODID:-//Gustar - ECPv6.2.8.1//NONSGML v1.0//EN
CALSCALE:GREGORIAN
METHOD:PUBLISH
X-WR-CALNAME:Gustar
X-ORIGINAL-URL:https://www.gustar.it
X-WR-CALDESC:Eventi per Gustar
REFRESH-INTERVAL;VALUE=DURATION:PT1H
X-Robots-Tag:noindex
X-PUBLISHED-TTL:PT1H
BEGIN:VTIMEZONE
TZID:Europe/Rome
BEGIN:DAYLIGHT
TZOFFSETFROM:+0100
TZOFFSETTO:+0200
TZNAME:CEST
DTSTART:20240331T010000
END:DAYLIGHT
BEGIN:STANDARD
TZOFFSETFROM:+0200
TZOFFSETTO:+0100
TZNAME:CET
DTSTART:20241027T010000
END:STANDARD
END:VTIMEZONE
BEGIN:VEVENT
DTSTART;TZID=Europe/Rome:20241119T140000
DTEND;TZID=Europe/Rome:20241119T180000
DTSTAMP:20260420T194003
CREATED:20240813T101911Z
LAST-MODIFIED:20240930T082518Z
UID:14372-1732024800-1732039200@www.gustar.it
SUMMARY:CORSO DI PASTA TIRATA AL MATTARELLO E PASTE RIPIENE
DESCRIPTION:Martedi 19 novembre  o dalle 14.00 alle 18.00 corso pratico di pasta fresca tirata al mattarelo e paste ripiene con la sfoglina Angela Tamburini . \nCiao a tutti e ben venuti a questo corso . Mi chiamo Angela .Angela Tamburini e faccio la sfoglina\, cioè tiro la sfoglia per  fare la pasta e lo faccio a mano come vuole la tradizione  e ancor di più la tradizione bolognese. \nVi daro’alcuni cenni storici sulla pasta \, sulle farine sugli impasti e dopo partiremo con la parte pratica iniziando dall’impasto \, procedendo con la tiratura della pasta  e ai vari formati (alcuni) che si possono ottenere tra paste lunghe e paste ripiene.  Poi ci sarà una parte dove voi metterete le mani nella farina e  sicuramente sara’ la parte piu’ divertente del pomeriggio che oggi passeremo assieme. E perche no alla fine faremo anche qualche assaggio. \nPasta fresca ..pasta fatta a mano.
URL:https://www.gustar.it/corso/corso-di-pasta-tirata-al-mattarello-e-paste-ripiene-2/
LOCATION:Gustar\, via Fonda di S.Agostino 4\, Pistoia\, Italia\, 51100\, Italia
CATEGORIES:Gastronomia
ATTACH;FMTTYPE=image/jpeg:https://www.gustar.it/wp-content/uploads/2021/01/culurgiones.jpg
END:VEVENT
END:VCALENDAR