BEGIN:VCALENDAR
VERSION:2.0
PRODID:-//Gustar - ECPv6.2.8.1//NONSGML v1.0//EN
CALSCALE:GREGORIAN
METHOD:PUBLISH
X-ORIGINAL-URL:https://www.gustar.it
X-WR-CALDESC:Eventi per Gustar
REFRESH-INTERVAL;VALUE=DURATION:PT1H
X-Robots-Tag:noindex
X-PUBLISHED-TTL:PT1H
BEGIN:VTIMEZONE
TZID:Europe/Rome
BEGIN:DAYLIGHT
TZOFFSETFROM:+0100
TZOFFSETTO:+0200
TZNAME:CEST
DTSTART:20260329T010000
END:DAYLIGHT
BEGIN:STANDARD
TZOFFSETFROM:+0200
TZOFFSETTO:+0100
TZNAME:CET
DTSTART:20261025T010000
END:STANDARD
END:VTIMEZONE
BEGIN:VEVENT
DTSTART;TZID=Europe/Rome:20260101T150000
DTEND;TZID=Europe/Rome:20260101T183000
DTSTAMP:20260419T135335
CREATED:20250703T111352Z
LAST-MODIFIED:20260107T065544Z
UID:15846-1767279600-1767292200@www.gustar.it
SUMMARY:CORSO DI CUCINA TRA INNOVAZIONE E TRADIZIONE
DESCRIPTION:Mercoledi 18 febbraio   dalle 15;:00 alle 18:30 un corso di cucina a quattro mani che prevede la realizzazione di un menù completo dall’antipasto al dolce \, \ndove la tradizione \, interpretata da Alvaro Bartoli executive chef di fama internazionale \, incontra l’innovazione con Alessio Morganti chef e titolare del ristorante ” Le Cento Buche ” di Prato . \nPer esplorare i piatti della trazione e reinterpretarli con tecniche e impiattamenti moderni. \n 
URL:https://www.gustar.it/corso/corso-di-cucina-tra-innovazione-e-tradizione-3/
LOCATION:Gustar\, via Fonda di S.Agostino 4\, Pistoia\, Italia\, 51100\, Italia
CATEGORIES:Gastronomia
ATTACH;FMTTYPE=image/jpeg:https://www.gustar.it/wp-content/uploads/IMG_6012-scaled.jpg
ORGANIZER;CN="Gustar Centro di Formazione delle Arti Bianche in Toscana":MAILTO:info@gustar.it
END:VEVENT
END:VCALENDAR