BEGIN:VCALENDAR
VERSION:2.0
PRODID:-//Gustar - ECPv6.2.8.1//NONSGML v1.0//EN
CALSCALE:GREGORIAN
METHOD:PUBLISH
X-WR-CALNAME:Gustar
X-ORIGINAL-URL:https://www.gustar.it
X-WR-CALDESC:Eventi per Gustar
REFRESH-INTERVAL;VALUE=DURATION:PT1H
X-Robots-Tag:noindex
X-PUBLISHED-TTL:PT1H
BEGIN:VTIMEZONE
TZID:Europe/Rome
BEGIN:DAYLIGHT
TZOFFSETFROM:+0100
TZOFFSETTO:+0200
TZNAME:CEST
DTSTART:20240331T010000
END:DAYLIGHT
BEGIN:STANDARD
TZOFFSETFROM:+0200
TZOFFSETTO:+0100
TZNAME:CET
DTSTART:20241027T010000
END:STANDARD
END:VTIMEZONE
BEGIN:VEVENT
DTSTART;TZID=Europe/Rome:20240930T140000
DTEND;TZID=Europe/Rome:20241001T180000
DTSTAMP:20260421T061024
CREATED:20240523T180203Z
LAST-MODIFIED:20240912T113933Z
UID:14249-1727704800-1727805600@www.gustar.it
SUMMARY:CORSO DI DECORAZIONE AL CORNETTO E SCRITTURA ARTISTICA POSTI ESAURITI
DESCRIPTION:Lunedi 30 steembre  e martedi 1 ottobre  2024 dalle 14:00 alle 18:00 \nIn Gustar si terrà un corso di decorazioni al cornetto \, scrittura artistica e decorazioni classiche con cioccolato e ghiaccia reale e per pasticceria  \, su torta . \nPer pasticceri che vogliono arricchire le proprie conoscenze e per appassionati che vogliono stupire con i propri dolci realizzando decorazioni ad effetto .
URL:https://www.gustar.it/corso/corso-di-decorazione-al-cornetto-e-scrittura-artistica/
LOCATION:Gustar\, via Fonda di S.Agostino 4\, Pistoia\, Italia\, 51100\, Italia
CATEGORIES:Pasticceria
ATTACH;FMTTYPE=image/jpeg:https://www.gustar.it/wp-content/uploads/cornetto.jpg
ORGANIZER;CN="Gustar Centro di Formazione delle Arti Bianche in Toscana":MAILTO:info@gustar.it
END:VEVENT
BEGIN:VEVENT
DTSTART;TZID=Europe/Rome:20241002T140000
DTEND;TZID=Europe/Rome:20241003T180000
DTSTAMP:20260421T061024
CREATED:20240424T114257Z
LAST-MODIFIED:20241004T150311Z
UID:14151-1727877600-1727978400@www.gustar.it
SUMMARY:CORSO   PRATICO BASE  DI  FORMAZIONE PER  PASTICCIERE POSTI ESAURITI
DESCRIPTION:PROGRAMMA DI 10 MODULI SVILUPPATO IN 16 GIORNI \nINIZIO: 02 ottobre 2024\n \nFINE :     21 novembre  2024\n \nORARIO 14.00-18.00 \nPER UN TOTALE DI 64 ORE \n  \nMODULI : \n            1 ) ATTREZZATURE LABORATORIO E MATERIE PRIME   \n            2) LE SFOGLIE  \n            3) LE FROLLE   \n            4) MASSE MONTATE\, PAN DI SPAGNA\, MERINGHE\, CREME AL BURRO\, PLUMCAKE \n             5) BIGNE’ \n             6) CREME \n             7) LIEVITATI DA COLAZIONE \n             8)BISCOTTERIA \n              9)DECORAZIONI E CIOCCOLATO \n             10) TRADIZIONALI \n  \nDate :  02-03-09-10-16-17-23-24-30-31 ottobre\n \n              6-7-13-14-20-21                                novembre\n \n           
URL:https://www.gustar.it/corso/corso-pratico-base-di-formazione-per-pasticciere-3/
LOCATION:Gustar\, via Fonda di S.Agostino 4\, Pistoia\, Italia\, 51100\, Italia
CATEGORIES:Pasticceria
ATTACH;FMTTYPE=image/jpeg:https://www.gustar.it/wp-content/uploads/2019/05/DSC2458.jpg
ORGANIZER;CN="Gustar Centro di Formazione delle Arti Bianche in Toscana":MAILTO:info@gustar.it
END:VEVENT
BEGIN:VEVENT
DTSTART;TZID=Europe/Rome:20241019T140000
DTEND;TZID=Europe/Rome:20241020T190000
DTSTAMP:20260421T061024
CREATED:20240625T142741Z
LAST-MODIFIED:20241029T164147Z
UID:14304-1729346400-1729450800@www.gustar.it
SUMMARY:TORTE DA FORNO  : CONOSCENZA  E STRATEGIE PER UNA SHELF-LIFE PROLUNGATA NEI DOLCI
DESCRIPTION:Il corso sui dolci a lunga conservazione offre una formazione approfondita sulle tecniche e i metodi per prolungare la loro shelf-life. \nDai principi di conservazione agli ingredienti speciali\, si esploreranno tutte le strategie per garantire la freschezza e la qualità dei dolci nel tempo\, dal dare qualche giorno in più ai dolci freschi a qualche mese ai dolci da forno. Ogni categoria potrà essere toccata in base alle scelte e alle esigenze della propria produzione. \nil corso si svolge in principal modo con una fase teorica ed una fase pratica in formula one to many \n  \nNella fase teorica\,( vero valore aggiunto al corso)\, ci sarà un’ approfondimento di base sulla spiegazione del rapporto che c’è tra acqua libera ed umidità dell’ambiente in cui i dolci vivono. \nSaranno presi in considerazione i vari aspetti di conservazione e verrà realizzato uno studio sui metodi di allungamento della self-life \ncompreso una parentesi sull’ ingredientistica più indicata per arrivare alla migliore conservazione possibile. \n  \nNella fase pratica verranno realizzati una serie di dolci da forno con le caratteristiche ideali per  una self life più duratura. \n  \nil corso ha lo scopo di portare i partecipanti a capire come si può portare un normale dolce da forno con una vita di 4-5 giorni ad una vita di 10 giorni \nma si otterranno anche le conoscenze necessarie per fare conservare di più qualsiasi dolce anche fresco dalla crema pasticcera ai mignon in genere. \n  \ninfine si avranno le competenze per la realizzazione di dolci da scaffale venduti dentro a packaging e spedibili con una conservazione di più di 3 mesi.
URL:https://www.gustar.it/corso/torte-da-forno-conoscenza-e-strategie-per-una-shelf-life-prolungata-nei-dolci/
LOCATION:Gustar\, via Fonda di S.Agostino 4\, Pistoia\, Italia\, 51100\, Italia
CATEGORIES:Pasticceria
ATTACH;FMTTYPE=image/jpeg:https://www.gustar.it/wp-content/uploads/Stefano-Laghi-in-divisa-da-lavoro-foto-concessa.jpg
ORGANIZER;CN="Gustar Centro di Formazione delle Arti Bianche in Toscana":MAILTO:info@gustar.it
END:VEVENT
BEGIN:VEVENT
DTSTART;TZID=Europe/Rome:20241021T083000
DTEND;TZID=Europe/Rome:20241022T180000
DTSTAMP:20260421T061024
CREATED:20241016T122203Z
LAST-MODIFIED:20241016T122203Z
UID:14723-1729499400-1729620000@www.gustar.it
SUMMARY:Diventa un Maestro della vetrina di Natale con un M.O.F FRANCK MICHEL
DESCRIPTION:Vuoi imparare a creare dolci perfetti come un professionista? Iscriviti alla nostra masterclass esclusiva con Frank Michel\, Meilleur Ouvrier de France \nCosa imparerai:\n  \n\nTecniche segrete: Scopri i trucchi del mestiere per ottenere Buche de noel\, praline e altre specialità soffici e\nRicette autentiche: Impara a preparare le ricette tradizionali francesi con un tocco personale\nDecorazione creativa: Dai libero sfogo alla tua creatività e personalizza le tue\n\n  \nPerché partecipare?\n  \n\nUn’occasione unica: Impara dai migliori e aggiungi una nuova competenza al tuo\nNetworking: Conosci altri appassionati e professionisti del\nAttestato di partecipazione: Riceverai un attestato riconosciuto a livello\n\n\nProgramma:\n  \n\n21 Ottobre:\n\n  \n\nOre 08:30 – Registrazione partecipanti e inizio corso\n\n  \n\nOre 13:00 – Pausa pranzo\n\n  \n\nOre 14:00 – Ripresa corso\n\n  \n\nOre 18:00 – Termine corso\n\n  \n\n22 Ottobre:\n\n  \n\nOre 08:30 – Inizio corso\n\n  \n\nOre 13:00 – Pausa pranzo\n\n  \n\nOre 14:00 – Ripresa corso\n\n  \n\nOre 18:00 – Termine corso\, foto di rito e consegna attestati\n\n  \n  \n\n– PAIN d’EPICES = Gingerbread\n– CAKE NOISETTES CARAMEL = cake nocciole e caramello\n-FLEUR DE KAO = Fiore di Kao\n– TARTE NACOTTE = Crostate Nacotte\n– BUCHE CAFFE – IN = Tronchetto al caffè\n– BUCHE ROULEE MARRONS e AGRUMES = Tronchetto arrotolato castagne e agrumi 7\n– ENTREMETS PISTACHES CITRON = Entremets Pistacchi e limone\n– PRALI BREST = Pasta choux e pralinato\n– BOUCHEES CARAMEL PRALINE’= Bocconcini al caramello e pralinato 10\n– BONBONS NUIT BLANCHE = pralina Notte Bianca\n– BONBONS CAFFE’= pralina al caffè 12\n  – RICETTE AGGIUNTIVE
URL:https://www.gustar.it/corso/diventa-un-maestro-della-vetrina-di-natale-con-un-m-o-f-franck-michel/
LOCATION:Gustar\, via Fonda di S.Agostino 4\, Pistoia\, Italia\, 51100\, Italia
CATEGORIES:Pasticceria
ATTACH;FMTTYPE=image/jpeg:https://www.gustar.it/wp-content/uploads/Immagine456.jpg
ORGANIZER;CN="Gustar Centro di Formazione delle Arti Bianche in Toscana":MAILTO:info@gustar.it
END:VEVENT
BEGIN:VEVENT
DTSTART;TZID=Europe/Rome:20241026T143000
DTEND;TZID=Europe/Rome:20241026T180000
DTSTAMP:20260421T061024
CREATED:20240826T145524Z
LAST-MODIFIED:20241023T142117Z
UID:14447-1729953000-1729965600@www.gustar.it
SUMMARY:I SABATI DI MARZIA CORSO PRATICO : IL PAN DI SPAGNA CREA LA TUA TORTA DI COMPLEANNO
DESCRIPTION:  \nSabato 26 ottobre dalle 14:30 alle 18:00 con Marzia Cappellini e Massimiliano Bettazzi \,ti insegneremo  a preparare la tua torta \, a partire dal  pan di spagna \, crema e decorazione finale \, \ntutto questo sotto la supervisione dei  nostri  docenti che  ti seguiranno  passo dopo passo . Un corso totalmente mani in pasta \, nel nostro laboratorio attrezzato con postazione individuali . \n 
URL:https://www.gustar.it/corso/i-sabati-di-marzia-corso-pratico-il-pan-di-spagna-crea-la-tua-torta-di-compleanno/
LOCATION:Gustar\, via Fonda di S.Agostino 4\, Pistoia\, Italia\, 51100\, Italia
CATEGORIES:Pasticceria
ATTACH;FMTTYPE=image/jpeg:https://www.gustar.it/wp-content/uploads/compleannooo-scaled.jpg
ORGANIZER;CN="Gustar Centro di Formazione delle Arti Bianche in Toscana":MAILTO:info@gustar.it
END:VEVENT
BEGIN:VEVENT
DTSTART;TZID=Europe/Rome:20241028T140000
DTEND;TZID=Europe/Rome:20241029T180000
DTSTAMP:20260421T061024
CREATED:20240523T183006Z
LAST-MODIFIED:20241025T130940Z
UID:14254-1730124000-1730224800@www.gustar.it
SUMMARY:MONOPORZIONI DA BANCO CON STEFANO DONATI
DESCRIPTION:Lunedi 28 e martedi 29 ottobre dalle 14:00 alle 18:00 con Stefano Donati un corso su come arricchire il proprio banco di pasticceria con monoporzioni buone e colorate \, con  un unico sistema di preparazione \nin modo da ottenere in poco tempo una serie di referenze diverse . Un metodo di lavoro che ci permetterà di razionalizzare la produzione nel nostro laboratorio. \nStefano Donati dal 2002 Collaborazione con Istituti scolastici di istruzione secondaria superiore del settore turistico alberghiero per attività di DOCENZA (aggiornamento insegnanti\, didattica di terza area in preparazione dell’esame finale\, partecipazione Commissione esame di qualifica) \n\nNel 2000 ho tenuto un corso sulle torte secche e da credenza a Perugia – EUROCHOCOLATE\nNel 2001 ho partecipato ad un corso di 45 ore riguardo l’aerografia\, utilizzata spesso nella pasticceria artistica\n\nEsperto nelle seguenti materie: \n\nzucchero colato-tirato-soffiato e modellato;\npastigliaggio per strutture\, pastigliaggio giapponese per fiori\, foglie e decorazioni in genere;\ncioccolato: strutture artistiche\, soggettistica varia\, uova di pasqua\, pralineria assortita\nfrutta e verdura scolpita\, come decorare tavoli per buffet\n\nIn questi anni ho partecipato a vari concorsi di pasticceria ottenendo il titolo di Campione italiano 2000. \nConcorsi di pasticceria \n1998: Sigep D’oro\, ciccolato artistico (Rimini) \n1999: Super Sigep D’oro\, degustazione praline assortite (Rimini) \n2000: Gran Prix di Montecarlo\, 1° classificato Campionato Italia (Montecarlo) \n2001: Siab concorso di alta pasticceria 2° classificato (Verona) \n2001: Dolci e capolavori  in cioccolato 1° classificato (Torino) \n2004: Selezione coppa del Mondo 1° classificato (Rimini) \n2005: Coppa del mondo della pasticceria (Lione) \nDal 2006 in poi ho partecipato a varie giurie regionali e nazionali\, dove tuttora sono chiamato a degustare e giudicare pezzi artistici
URL:https://www.gustar.it/corso/monoporzioni-da-banco-con-stefano-donati-2/
LOCATION:Gustar\, via Fonda di S.Agostino 4\, Pistoia\, Italia\, 51100\, Italia
CATEGORIES:Pasticceria
ATTACH;FMTTYPE=image/jpeg:https://www.gustar.it/wp-content/uploads/trancio.jpg
ORGANIZER;CN="Gustar Centro di Formazione delle Arti Bianche in Toscana":MAILTO:info@gustar.it
END:VEVENT
BEGIN:VEVENT
DTSTART;TZID=Europe/Rome:20241028T170000
DTEND;TZID=Europe/Rome:20241028T190000
DTSTAMP:20260421T061024
CREATED:20241010T154226Z
LAST-MODIFIED:20241010T154400Z
UID:14689-1730134800-1730142000@www.gustar.it
SUMMARY:Laboratorio per bambini  con Dori ed Emma " HALLOWEEN "
DESCRIPTION:Laboratorio per bambini dai 6 ai 12 anni .
URL:https://www.gustar.it/corso/laboratorio-per-bambini-con-dori-ed-emma-halloween/
LOCATION:Gustar\, via Fonda di S.Agostino 4\, Pistoia\, Italia\, 51100\, Italia
CATEGORIES:Pasticceria
ATTACH;FMTTYPE=image/jpeg:https://www.gustar.it/wp-content/uploads/HALLOWEEN-1.jpg
ORGANIZER;CN="Gustar Centro di Formazione delle Arti Bianche in Toscana":MAILTO:info@gustar.it
END:VEVENT
END:VCALENDAR