BEGIN:VCALENDAR
VERSION:2.0
PRODID:-//Gustar - ECPv6.2.8.1//NONSGML v1.0//EN
CALSCALE:GREGORIAN
METHOD:PUBLISH
X-ORIGINAL-URL:https://www.gustar.it
X-WR-CALDESC:Eventi per Gustar
REFRESH-INTERVAL;VALUE=DURATION:PT1H
X-Robots-Tag:noindex
X-PUBLISHED-TTL:PT1H
BEGIN:VTIMEZONE
TZID:Europe/Rome
BEGIN:DAYLIGHT
TZOFFSETFROM:+0100
TZOFFSETTO:+0200
TZNAME:CEST
DTSTART:20240331T010000
END:DAYLIGHT
BEGIN:STANDARD
TZOFFSETFROM:+0200
TZOFFSETTO:+0100
TZNAME:CET
DTSTART:20241027T010000
END:STANDARD
END:VTIMEZONE
BEGIN:VEVENT
DTSTART;TZID=Europe/Rome:20241201T140000
DTEND;TZID=Europe/Rome:20241201T170000
DTSTAMP:20260420T231720
CREATED:20241122T145038Z
LAST-MODIFIED:20241209T092337Z
UID:14924-1733061600-1733072400@www.gustar.it
SUMMARY:MARZIA : CASINE BISCOTTO DI NATALE
DESCRIPTION:Giovedi 14 dicembre dalle 14:00 alle 17:00 con Marzia cappellini un corso dedicato alle casette di biscotto di Natale \, da usare come centrotavola per i giorni di festa . \nUn corso totalmente pratico dove possono partecipare anche i bambini DAI 6 ANNI accompagnati obbligatoriamente da un genitore  . \n 
URL:https://www.gustar.it/corso/marzia-casine-biscotto-di-natale-2/
LOCATION:Gustar\, via Fonda di S.Agostino 4\, Pistoia\, Italia\, 51100\, Italia
CATEGORIES:Pasticceria
ATTACH;FMTTYPE=image/jpeg:https://www.gustar.it/wp-content/uploads/casetta.jpg
ORGANIZER;CN="Gustar Centro di Formazione delle Arti Bianche in Toscana":MAILTO:info@gustar.it
END:VEVENT
BEGIN:VEVENT
DTSTART;TZID=Europe/Rome:20241217T170000
DTEND;TZID=Europe/Rome:20241217T190000
DTSTAMP:20260420T231720
CREATED:20241202T141924Z
LAST-MODIFIED:20241202T143358Z
UID:14972-1734454800-1734462000@www.gustar.it
SUMMARY:Laboratorio per bambini  con Dori ed Emma:" Natale sugli sci "
DESCRIPTION:Laboratorio per bambini dai 6 ai 12 anni .
URL:https://www.gustar.it/corso/laboratorio-per-bambini-con-dori-ed-emma-natale-sugli-sci/
LOCATION:Gustar\, via Fonda di S.Agostino 4\, Pistoia\, Italia\, 51100\, Italia
CATEGORIES:Pasticceria
ATTACH;FMTTYPE=image/jpeg:https://www.gustar.it/wp-content/uploads/dori-natalllll.jpg
ORGANIZER;CN="Gustar Centro di Formazione delle Arti Bianche in Toscana":MAILTO:info@gustar.it
END:VEVENT
END:VCALENDAR