BEGIN:VCALENDAR
VERSION:2.0
PRODID:-//Gustar - ECPv6.2.8.1//NONSGML v1.0//EN
CALSCALE:GREGORIAN
METHOD:PUBLISH
X-WR-CALNAME:Gustar
X-ORIGINAL-URL:https://www.gustar.it
X-WR-CALDESC:Eventi per Gustar
REFRESH-INTERVAL;VALUE=DURATION:PT1H
X-Robots-Tag:noindex
X-PUBLISHED-TTL:PT1H
BEGIN:VTIMEZONE
TZID:Europe/Rome
BEGIN:DAYLIGHT
TZOFFSETFROM:+0100
TZOFFSETTO:+0200
TZNAME:CEST
DTSTART:20250330T010000
END:DAYLIGHT
BEGIN:STANDARD
TZOFFSETFROM:+0200
TZOFFSETTO:+0100
TZNAME:CET
DTSTART:20251026T010000
END:STANDARD
END:VTIMEZONE
BEGIN:VEVENT
DTSTART;TZID=Europe/Rome:20250506T170000
DTEND;TZID=Europe/Rome:20250506T190000
DTSTAMP:20260420T114546
CREATED:20250416T094214Z
LAST-MODIFIED:20250428T125033Z
UID:15606-1746550800-1746558000@www.gustar.it
SUMMARY:Laboratorio per bambini  con Dori ed Emma :Festa della mamma
DESCRIPTION:Laboratorio per bambini dai 6 ai 12 anni .
URL:https://www.gustar.it/corso/laboratorio-per-bambini-con-dori-ed-emma-festa-della-mamma/
LOCATION:Gustar\, via Fonda di S.Agostino 4\, Pistoia\, Italia\, 51100\, Italia
CATEGORIES:Pasticceria
ATTACH;FMTTYPE=image/jpeg:https://www.gustar.it/wp-content/uploads/FESTA-MAMMA-1.jpg
ORGANIZER;CN="Gustar Centro di Formazione delle Arti Bianche in Toscana":MAILTO:info@gustar.it
END:VEVENT
BEGIN:VEVENT
DTSTART;TZID=Europe/Rome:20250512T140000
DTEND;TZID=Europe/Rome:20250513T180000
DTSTAMP:20260420T114547
CREATED:20241119T143335Z
LAST-MODIFIED:20250428T124519Z
UID:14883-1747058400-1747159200@www.gustar.it
SUMMARY:CORSO DI DECORAZIONE AL CORNETTO E SCRITTURA ARTISTICA---POSTI ESAURITI
DESCRIPTION:Lunedi 12 e martedi 13  maggio   2025 dalle 14:00 alle 18:00 \nIn Gustar si terrà un corso di decorazioni al cornetto \, scrittura artistica e decorazioni classiche con cioccolato e ghiaccia reale e per pasticceria  \, su torta . \nPer pasticceri che vogliono arricchire le proprie conoscenze e per appassionati che vogliono stupire con i propri dolci realizzando decorazioni ad effetto .
URL:https://www.gustar.it/corso/corso-di-decorazione-al-cornetto-e-scrittura-artistica-2/
LOCATION:Gustar\, via Fonda di S.Agostino 4\, Pistoia\, Italia\, 51100\, Italia
CATEGORIES:Pasticceria
ATTACH;FMTTYPE=image/jpeg:https://www.gustar.it/wp-content/uploads/2022/06/goriiiiiiiiiiiiiiiiiiiiiiiiiiiiiiii.jpg
ORGANIZER;CN="Gustar Centro di Formazione delle Arti Bianche in Toscana":MAILTO:info@gustar.it
END:VEVENT
BEGIN:VEVENT
DTSTART;TZID=Europe/Rome:20250517T143000
DTEND;TZID=Europe/Rome:20250517T180000
DTSTAMP:20260420T114547
CREATED:20250107T081931Z
LAST-MODIFIED:20250416T131337Z
UID:15185-1747492200-1747504800@www.gustar.it
SUMMARY:I PRODOTTI DA COLAZIONE \,CORNETTI BRIOCHE E TRECCINE CON MASSIMILIANO BETTAZZI MARZIA CAPPELLINI POSTI ESAURITI
DESCRIPTION:Sabato 17 maggio  dalle 14:30 alle 18:00 appuntamento con  ” I sabati di Marzia ” con Marzia Cappellini e Massimiliano Bettazzi\, corsi mani in pasta dove ogni partecipante \, che sia un’appassionato oppure una persona che si avvicina per la prima volta all’arte della pasticceria  \, puo cimentersi nella preparazione di prodotti dolciari . Per passare un pomeriggio diverso con la professionalità e la simpatia di Marzia \, Massimiliano e Gastone . A fine corso ogni partecipante sarà omaggiato con i dolci prodotti
URL:https://www.gustar.it/corso/i-prodotti-da-colazione-cornetti-brioche-e-treccine-con-massimiliano-bettazzi-marzia-cappellini/
LOCATION:Gustar\, via Fonda di S.Agostino 4\, Pistoia\, Italia\, 51100\, Italia
CATEGORIES:Pasticceria
ATTACH;FMTTYPE=image/jpeg:https://www.gustar.it/wp-content/uploads/croissant.jpg
ORGANIZER;CN="Gustar Centro di Formazione delle Arti Bianche in Toscana":MAILTO:info@gustar.it
END:VEVENT
BEGIN:VEVENT
DTSTART;TZID=Europe/Rome:20250520T183000
DTEND;TZID=Europe/Rome:20250520T220000
DTSTAMP:20260420T114547
CREATED:20250305T110320Z
LAST-MODIFIED:20250416T131549Z
UID:15436-1747765800-1747778400@www.gustar.it
SUMMARY:I PRODOTTI DA COLAZIONE \,CORNETTI BRIOCHE E TRECCINE POSTI ESAURITI
DESCRIPTION:Martedi 20 maggio dalle 18:30 alle 22:00 nuovo appuntamento con  ” I sabati di Marzia ” con Marzia Cappellini e Massimiliano Bettazzi\, corsi mani in pasta dove ogni partecipante \, che sia un’appassionato oppure una persona che si avvicina per la prima volta all’arte della pasticceria  \, puo cimentersi nella preparazione di prodotti dolciari . Per passare un pomeriggio diverso con la professionalità e la simpatia di Marzia \, Massimiliano e Gastone . A fine corso ogni partecipante sarà omaggiato con i dolci prodotti
URL:https://www.gustar.it/corso/i-prodotti-da-colazione-cornetti-brioche-e-treccine/
LOCATION:Gustar\, via Fonda di S.Agostino 4\, Pistoia\, Italia\, 51100\, Italia
CATEGORIES:Pasticceria
ATTACH;FMTTYPE=image/jpeg:https://www.gustar.it/wp-content/uploads/2022/06/DSCF0988-scaled.jpg
ORGANIZER;CN="Gustar Centro di Formazione delle Arti Bianche in Toscana":MAILTO:info@gustar.it
END:VEVENT
BEGIN:VEVENT
DTSTART;TZID=Europe/Rome:20250526T140000
DTEND;TZID=Europe/Rome:20250527T190000
DTSTAMP:20260420T114547
CREATED:20250102T102858Z
LAST-MODIFIED:20250523T152828Z
UID:15162-1748268000-1748372400@www.gustar.it
SUMMARY:CORSO DI MONOPORZIONI E TORTE ALLA FRUTTA CON EMMANUELE FORCONE
DESCRIPTION:Lunedi 26 e martedi 27  maggio  2025 dalle 14.00 alle 19.00 \nCorso di pasticceria con il maestro Emmanuele Forcone per la realizzazione di monoporzioni e torte alla frutta \nUn corso dove il maestro vi guiderà  passo dopo passo nella realizzazione di dolci monoporzione per stupire i vostri  clienti e conquistare anche i palati più fini. \nEmmanuele Forcone  ad oggi è tra i più giovani maestri dell’ Accademia Maestri Pasticceri Italiani e a soli 35 anni è stato 4 volte Campione Italiano di Pasticceria\, Campione del Mondo di Pasticceria (in occasione della XV “Coupe du Monde de la Patisserie” – Lione\, Francia) e adesso è Consulente e Formatore Internazionale. \nI suoi studenti mirano sempre a perfezionare le proprie abilità\, infatti tra loro ci sono anche squadre che partecipano a grandi manifestazioni\, come chi si è aggiudicato il 3° posto alla Coppa del Mondo e chi ha conquistato il 1° posto assoluto nella sezione “Piece Artistica in Zucchero”. \nEmmanuele è di origini abruzzesi e per diversi anni ha espresso tutta la sua creatività nella pasticceria Pannamore di Vasto\, dove con estro e professionalità ha proposto le sue gustose creazioni\, tra cui la cioccolateria e la pasticceria moderna in cui è diventato Maestro. \nLe importanti esperienze di gestione e di vita nel laboratorio che ha maturato\, gli permettono di essere uno dei consulenti più apprezzati nel panorama italiano e mondiale\, per scuole\, aziende e privati. \nLa sua tendenza alla perfezione lo ha spinto\, fin da giovanissimo apprendista\, a frequentare corsi nelle scuole più rinomate\, partecipando a fiere di settore italiane ed estere ed investendo il proprio tempo libero nello studio\, nella sperimentazione e nella ricerca. \nPoi\, sempre più attratto dal mondo della pasticceria e delle competizioni\, si è cimentato in svariati concorsi dove ha ottenuto i seguenti risultati: \n2003 – Primo classificato al Campionato Italiano di pasticceria Juniores al SIGEP di Rimini \n2004 – Primo classificato per il miglior entremets alla gara internazionale contro la Francia “Disfida di Barletta” \n2005 – Primo classificato Campionato Italiano di Pasticceria Seniores al SIGEP di Rimini \n2008 – Primo classificato Trofeo Camel distillerie “Torta alla Zagara”. \n2009 – Ingresso nell’Accademia Maestri Pasticceri Italiani. \n2010 – Primo classificato Campionato Italiano seniores di Pasticceria al SIGEP di Rimini \n2011 – Vice Campione del Mondo di pasticceria alla Coupe du Monde de la Patisserie di Lione \n2013 – Allenatore di Marcello Boccia\, primo classificato  nella categoria zucchero artistico alla Coupe du Monde de la Patisserie di Lione  \n2014 – Primo classificato campionato italiano  di pasticceria seniores al SIGEP di Rimini \n2014 – Scrive il suo primo libro “Cioccolato Creativo”  edito da Italian Gourmet \n2015 – CAMPIONE DEL MONDO DI PASTICCERIA in qualità di Capitano alla “Coupe du Monde de la Patisserie di Lione in Francia” \n2015 – Scrive insieme al suo team della Coupe Du Monde de la Patisserie il libro “Cuore\, Mani\, Ali” edito da Chiriotti Editori. \n2017 – E’ Presidente della Giuria internazionale alla Coupe Du Monde de la Patisserie di Lione \n2020 – Lancia Pastry Video Book\, la Prima Collana di Video-libri dedicata alla Pasticceria d’élite. \n2021 – Allenatore squadra neo-vincitrice alla Coupe Du Monde de la Patisserie di Lione
URL:https://www.gustar.it/corso/corso-di-monoporzion-con-emmanuele-forcone/
LOCATION:Gustar\, via Fonda di S.Agostino 4\, Pistoia\, Italia\, 51100\, Italia
CATEGORIES:Pasticceria
ATTACH;FMTTYPE=image/jpeg:https://www.gustar.it/wp-content/uploads/forcone.jpg
ORGANIZER;CN="Gustar Centro di Formazione delle Arti Bianche in Toscana":MAILTO:info@gustar.it
END:VEVENT
BEGIN:VEVENT
DTSTART;TZID=Europe/Rome:20250527T090000
DTEND;TZID=Europe/Rome:20250527T173000
DTSTAMP:20260420T114547
CREATED:20241119T150700Z
LAST-MODIFIED:20241119T150700Z
UID:14887-1748336400-1748367000@www.gustar.it
SUMMARY:CORSO CONFETTURE MARMELLATE E CREME SPALMABILI
DESCRIPTION:Martedi 27 maggio  dalle 09:00 alle 17.30 con Corrado Carosi \, un corso dove apprendere la tecnica per fare  confetture marmellate di nuova concezione \, oltre ai classici gusti faremo : fragola e zenzero \, pesca e cioccolato peperoni rossi ; una parte del corso sarà dedicata alle creme spalmabili come nocciolata \, caramello e vaniglia caramello e cocco e altre. \n 
URL:https://www.gustar.it/corso/corso-confetture-marmellate-e-creme-spalmabili-2/
LOCATION:Gustar\, via Fonda di S.Agostino 4\, Pistoia\, Italia\, 51100\, Italia
CATEGORIES:Pasticceria
ATTACH;FMTTYPE=image/jpeg:https://www.gustar.it/wp-content/uploads/marmellllll.jpg
ORGANIZER;CN="Gustar Centro di Formazione delle Arti Bianche in Toscana":MAILTO:info@gustar.it
END:VEVENT
END:VCALENDAR