BEGIN:VCALENDAR
VERSION:2.0
PRODID:-//Gustar - ECPv6.2.8.1//NONSGML v1.0//EN
CALSCALE:GREGORIAN
METHOD:PUBLISH
X-ORIGINAL-URL:https://www.gustar.it
X-WR-CALDESC:Eventi per Gustar
REFRESH-INTERVAL;VALUE=DURATION:PT1H
X-Robots-Tag:noindex
X-PUBLISHED-TTL:PT1H
BEGIN:VTIMEZONE
TZID:Europe/Rome
BEGIN:DAYLIGHT
TZOFFSETFROM:+0100
TZOFFSETTO:+0200
TZNAME:CEST
DTSTART:20260329T010000
END:DAYLIGHT
BEGIN:STANDARD
TZOFFSETFROM:+0200
TZOFFSETTO:+0100
TZNAME:CET
DTSTART:20261025T010000
END:STANDARD
END:VTIMEZONE
BEGIN:VEVENT
DTSTART;TZID=Europe/Rome:20260101T140000
DTEND;TZID=Europe/Rome:20260101T180000
DTSTAMP:20260419T175758
CREATED:20251128T192739Z
LAST-MODIFIED:20260126T132502Z
UID:16346-1767276000-1767290400@www.gustar.it
SUMMARY:I FRITTI DI CARNEVALE CON STEFANO DONATI
DESCRIPTION:MERCOLEDI 28 GENNAIO 2026 dalle ore 14.00 alle ore 18.00 :  ” I fritti di Carnevale ” con Stefano Donati: \nCENCI \nFRITTELLE DI RISO \nZEPPOLE \nBOMBOLONI CON CREMA \nCANNOLI \nUn corso per appassionati e professionisti tenuto dal maestro Stefano Donati  \, dove potremo apprendere tutti i segreti per un fritto perfetto \ne imparare tutte le tecniche  di lavorazione  e quali materie prime utilizzare . \nDal 2002 Collaborazione con Istituti scolastici di istruzione secondaria superiore del settore turistico alberghiero per attività di DOCENZA (aggiornamento insegnanti\, didattica di terza area in preparazione dell’esame finale\, partecipazione Commissione esame di qualifica) \n\nNel 2000 ho tenuto un corso sulle torte secche e da credenza a Perugia – EUROCHOCOLATE\nNel 2001 ho partecipato ad un corso di 45 ore riguardo l’aerografia\, utilizzata spesso nella pasticceria artistica\n\nEsperto nelle seguenti materie: \n\nzucchero colato-tirato-soffiato e modellato;\npastigliaggio per strutture\, pastigliaggio giapponese per fiori\, foglie e decorazioni in genere;\ncioccolato: strutture artistiche\, soggettistica varia\, uova di pasqua\, pralineria assortita\nfrutta e verdura scolpita\, come decorare tavoli per buffet\n\nIn questi anni ho partecipato a vari concorsi di pasticceria ottenendo il titolo di Campione italiano 2000. \nConcorsi di pasticceria \n1998: Sigep D’oro\, ciccolato artistico (Rimini) \n1999: Super Sigep D’oro\, degustazione praline assortite (Rimini) \n2000: Gran Prix di Montecarlo\, 1° classificato Campionato Italia (Montecarlo) \n2001: Siab concorso di alta pasticceria 2° classificato (Verona) \n2001: Dolci e capolavori  in cioccolato 1° classificato (Torino) \n2004: Selezione coppa del Mondo 1° classificato (Rimini) \n2005: Coppa del mondo della pasticceria (Lione) \nDal 2006 in poi ho partecipato a varie giurie regionali e nazionali\, dove tuttora sono chiamato a degustare e giudicare pezzi artistici
URL:https://www.gustar.it/corso/i-fritti-di-carnevale-con-stefano-donati-4/
LOCATION:Gustar\, via Fonda di S.Agostino 4\, Pistoia\, Italia\, 51100\, Italia
CATEGORIES:Pasticceria
ATTACH;FMTTYPE=image/jpeg:https://www.gustar.it/wp-content/uploads/ZEPPOLKE-scaled.jpg
ORGANIZER;CN="Gustar Centro di Formazione delle Arti Bianche in Toscana":MAILTO:info@gustar.it
END:VEVENT
BEGIN:VEVENT
DTSTART;TZID=Europe/Rome:20260101T140000
DTEND;TZID=Europe/Rome:20260101T190000
DTSTAMP:20260419T175758
CREATED:20250908T081122Z
LAST-MODIFIED:20260107T074206Z
UID:15993-1767276000-1767294000@www.gustar.it
SUMMARY:L'ALCHIMIA DEL DOLCE E DEL SALATO CON STEFANO PARENTI E STEFANO GATTI
DESCRIPTION:Un corso a 4 mani dove la panificazione incontra la pasticeria \, perfetto per appassionati e professionisti che vogliono esplorare nuovi abbinamenti e tecniche \, il tutto  nato dall’idea e dalla sincera amicizia di due pilastri del settore\, Stefano Gatti \, panificatore \,e Stefano Parenti\, pasticcere \,  ricette semplici che danno l’impronta della Toscana vera “terra dove siamo nati e che ci ospita da sempre con calore”. \nprogramma \n  \nRicette di Stefano Gatti \n  \nPane senatore Cappelli e semi misti \nFocaccia Multicereali \nPane alla menta e cioccolato \nCreckers farina ceci e farina riso \n  \nRicette di Stefano Parenti \n  \nBiscotti al the verde al gelsomino \nCroccantissimi alla nocciola \nmadeleine limone/ vaniglia \nmorbidone cacao e arancia \n  \nil maestro artigiano Stefano Gatti nasce a Viareggio in versilia (lu)\, come quarta generazione di una famiglia di fornai. lavora nell’azienda familiare e già da giovanissimo apre la propria attività. dopo la specializzazione alla cast alimenti\, entra come socio e docente alla scuola richomont club. consegue il titolo di: ambassadour de pain nel mondo e rappresentante dell’italia. questi i principali riconoscimenti da lui conseguiti: nel 2015 è maestro artigiano panificatore della regione toscana e maestro lievitista; nel 2014 viene citato come “miglior produttore di pane in italia\, riconoscimento bakery 3.0″\, il primo evento in italia interamente dedicato alla panificazione\, organizzato da “il panificatore italiano” di italian gourment-dbinformation. \nnel 2013 viene ritenuto dalla classifica di vanity fair tra i 10 migliori produttori di panettoni artigianali in italia a milano golosa di davide paolini con il panettone al peperoncino e cioccolato. nel 2010 vince il premio “miglior panificio d’italia” award del panificio 2010 a milano arrivando quinto. nel 2008 pubblica tre ricette sul libro “premiati forni d’italia”\, editrice reed business information e sempre in quell’anno pubblica le sue ricette “ostie al formaggio grana” e “befanini” sulle riviste il panificatore italiano e il pasticcere italiano.
URL:https://www.gustar.it/corso/lalchimia-del-dolce-e-del-salato-con-stefano-parenti-e-stefano-gatti/
LOCATION:Gustar\, via Fonda di S.Agostino 4\, Pistoia\, Italia\, 51100\, Italia
CATEGORIES:Panificazione,Pasticceria
ATTACH;FMTTYPE=image/png:https://www.gustar.it/wp-content/uploads/gatiiii.png
ORGANIZER;CN="Gustar Centro di Formazione delle Arti Bianche in Toscana":MAILTO:info@gustar.it
END:VEVENT
BEGIN:VEVENT
DTSTART;TZID=Europe/Rome:20260124T143000
DTEND;TZID=Europe/Rome:20260124T180000
DTSTAMP:20260419T175758
CREATED:20251127T150349Z
LAST-MODIFIED:20251127T152053Z
UID:16326-1769265000-1769277600@www.gustar.it
SUMMARY:I SABATI DI MARZIA : LE PASTE DA BANCO
DESCRIPTION:Sabato 24 GENNAIO un corso ala riscoperta delle classiche paste da banco \,  impareremo a confezionare dolci e paste della domenica\, diti di sfoglia\, bighè \,eclair \,crostatine di frutta e di crema \, diplomatico e scendiletto \, con Marzia Cappellini Massimiliano Bettazzi e Gastone Pegoraro \n 
URL:https://www.gustar.it/corso/i-sabati-di-marzia-le-paste-da-banco-2/
LOCATION:Gustar\, via Fonda di S.Agostino 4\, Pistoia\, Italia\, 51100\, Italia
CATEGORIES:Pasticceria
ATTACH;FMTTYPE=image/jpeg:https://www.gustar.it/wp-content/uploads/PASTE-scaled.jpg
ORGANIZER;CN="Gustar Centro di Formazione delle Arti Bianche in Toscana":MAILTO:info@gustar.it
END:VEVENT
END:VCALENDAR