BEGIN:VCALENDAR
VERSION:2.0
PRODID:-//Gustar - ECPv6.2.8.1//NONSGML v1.0//EN
CALSCALE:GREGORIAN
METHOD:PUBLISH
X-ORIGINAL-URL:https://www.gustar.it
X-WR-CALDESC:Eventi per Gustar
REFRESH-INTERVAL;VALUE=DURATION:PT1H
X-Robots-Tag:noindex
X-PUBLISHED-TTL:PT1H
BEGIN:VTIMEZONE
TZID:Europe/Rome
BEGIN:DAYLIGHT
TZOFFSETFROM:+0100
TZOFFSETTO:+0200
TZNAME:CEST
DTSTART:20250330T010000
END:DAYLIGHT
BEGIN:STANDARD
TZOFFSETFROM:+0200
TZOFFSETTO:+0100
TZNAME:CET
DTSTART:20251026T010000
END:STANDARD
END:VTIMEZONE
BEGIN:VEVENT
DTSTART;TZID=Europe/Rome:20250927T143000
DTEND;TZID=Europe/Rome:20250927T180000
DTSTAMP:20260420T051603
CREATED:20250609T145005Z
LAST-MODIFIED:20250923T114343Z
UID:15718-1758983400-1758996000@www.gustar.it
SUMMARY:I SABATI DI MARZIA CORSO PRATICO : LA PASTA SFOGLIA
DESCRIPTION:Sabato 27 settembre dalle 14:30 alle 18:00 con Marzia Cappellini e Massimiliano Bettazzi \, un corso pratico dove ti insegneremo  a preparare la tua torta \, IL MILLEFOGLIE  \, a partire dalla   pasta sfoglia \, crema e decorazione finale \, \ntutto questo sotto la supervisione dai nostri   docenti che  ti seguiranno passo dopo passo . \n 
URL:https://www.gustar.it/corso/i-sabati-di-marzia-corso-pratico-la-pasta-sfoglia-2/
LOCATION:Gustar\, via Fonda di S.Agostino 4\, Pistoia\, Italia\, 51100\, Italia
CATEGORIES:Pasticceria
ATTACH;FMTTYPE=image/jpeg:https://www.gustar.it/wp-content/uploads/MILLEFOGLIE-2-300x300-1.jpg
ORGANIZER;CN="Gustar Centro di Formazione delle Arti Bianche in Toscana":MAILTO:info@gustar.it
END:VEVENT
END:VCALENDAR