BEGIN:VCALENDAR
VERSION:2.0
PRODID:-//Gustar - ECPv6.2.8.1//NONSGML v1.0//EN
CALSCALE:GREGORIAN
METHOD:PUBLISH
X-WR-CALNAME:Gustar
X-ORIGINAL-URL:https://www.gustar.it
X-WR-CALDESC:Eventi per Gustar
REFRESH-INTERVAL;VALUE=DURATION:PT1H
X-Robots-Tag:noindex
X-PUBLISHED-TTL:PT1H
BEGIN:VTIMEZONE
TZID:Europe/Rome
BEGIN:DAYLIGHT
TZOFFSETFROM:+0100
TZOFFSETTO:+0200
TZNAME:CEST
DTSTART:20230326T010000
END:DAYLIGHT
BEGIN:STANDARD
TZOFFSETFROM:+0200
TZOFFSETTO:+0100
TZNAME:CET
DTSTART:20231029T010000
END:STANDARD
END:VTIMEZONE
BEGIN:VEVENT
DTSTART;TZID=Europe/Rome:20230909T090000
DTEND;TZID=Europe/Rome:20230923T090000
DTSTAMP:20260421T181348
CREATED:20230308T135858Z
LAST-MODIFIED:20231002T082335Z
UID:12754-1694250000-1695459600@www.gustar.it
SUMMARY:CORSO DI PASTICCERIA MIGNON CON MASSIMO CARNIO
DESCRIPTION:Martedi 10 e mercoledi 11 ottobre 2023 dalle 09.00 alle 17.00 con Massimo Carnio un corso pratico di pasticceria dove verrano prodotte  15 tipologie di mignon \npartendo dalle basi come : biscuit \, frolle \, crumble gelè e creme fino ai glassaggi e ganache . \nBuona parte del tempo dedicato alla decorazioni finali \nPer Massimo Carnio la pasticceria è un affare di famiglia. Figlio d’arte\, è cresciuto in una famiglia di pasticcieri apprendendo i segreti del mestiere dal papà e dal nonno. La sua passione per la lavorazione del cioccolato nasce da lontano e si è nutrita dell’insegnamento dei migliori maestri cioccolatieri del mondo\, insegnamenti a cui ha unito eleganza e semplicità. Dal 2000 gestisce il suo caffè-pasticceria Alla Villa dei Cedri a Valdobbiadene. Oltre a numerosi riconoscimenti \nMassimo Carnio è campione del mondo di gelatieria 2020\, campione italiano di cioccolateria 2015\, unico finalista italiano al Cacao Barry World Chocolate Master a Parigi. Miglior pralina\, miglior piece artistica\, premio stampa… \n 
URL:https://www.gustar.it/corso/corso-di-pasticceria-mignon-con-massimo-carnio-2/
LOCATION:Gustar\, via Fonda di S.Agostino 4\, Pistoia\, Italia\, 51100\, Italia
CATEGORIES:Pasticceria
ATTACH;FMTTYPE=image/png:https://www.gustar.it/wp-content/uploads/2021/12/carnio-new.png
END:VEVENT
BEGIN:VEVENT
DTSTART;TZID=Europe/Rome:20230911T150000
DTEND;TZID=Europe/Rome:20230912T163000
DTSTAMP:20260421T181348
CREATED:20230606T132316Z
LAST-MODIFIED:20231114T095407Z
UID:13016-1694444400-1694536200@www.gustar.it
SUMMARY:CORSO PALA ROMANA E FOCACCIA AL PADELLINO CON FARINE SEMI E INTEGRALI IMPASTI INDIRETTI CON ANDREA AIMAR
DESCRIPTION:Quando  \nlunedi 11 settembre 2023               ore 15:00/19:00 \ngiorno 12 settembre 2023           ore 8:30/16:30\n \nprogramma \nscelta delle farine /come creare e bilanciare il fermento \ncreazione dei fermenti \nAffronteremo il tema  farine\,come leggere una scheda tecnica\,quali caratteristiche dovranno avere  per ottimizzare il nostro prodotto finale \nscelta delle farine e come bilanciare una ricetta con piu’ farine senza dover utilizzare un mix gia pronto \nvedremo come creare un impasto\,la sequenza degli ingredienti \,la scelta delle temperature dell’acqua e dell’impasto finale \nandremo con la stagliatura e formatura dei panetti. \nin attesa che i panetti arriveranno a giusta lievitazione\,andremo ad approffondire i processi di maturazione \,lievitazione. \ncome bilanciare una ricetta in base alle attrezzature/materie prime/temperature/tempi \ngestione dell’impasto durante il riposo in massa a T.C. \nultima parte sarà dedicata alla stesura
URL:https://www.gustar.it/corso/corso-pala-romana-e-focaccia-al-padellino-con-farine-semi-e-integrali-impasti-indiretti-con-andrea-aimar/
LOCATION:Gustar\, via Fonda di S.Agostino 4\, Pistoia\, Italia\, 51100\, Italia
CATEGORIES:Pizzeria
ATTACH;FMTTYPE=image/jpeg:https://www.gustar.it/wp-content/uploads/321482377_1319097522006317_6029895687194612819_n.jpg
ORGANIZER;CN="Gustar Centro di Formazione delle Arti Bianche in Toscana":MAILTO:info@gustar.it
END:VEVENT
BEGIN:VEVENT
DTSTART;TZID=Europe/Rome:20230914T093000
DTEND;TZID=Europe/Rome:20230914T183000
DTSTAMP:20260421T181348
CREATED:20230615T150735Z
LAST-MODIFIED:20240801T121841Z
UID:13071-1694683800-1694716200@www.gustar.it
SUMMARY:barman
DESCRIPTION:Giovedi 14 settembre  2023 dalle 09.30 alle 18.30  \, Stefano Parenti  \, ci presenterà un corso  dove verrà proposto una serie di preparazioni di pasticceria salata    adatte ad aperitivi \,  buffet e cerimonie . Partiremo dalle basi come sfoglia \, pan brioche e lievitati per arrivare a produrre : \nPan brioche alle carote\, gnocchi fritti \, pizzette di frolla montata\, mignon al formaggio\, muffin pomodoro \, strudel salato\, grissini sfogliati\, panini  \, focaccine \, pancarre \, aristine\n\, torta speck e formaggio \, tartelletta cremino al pistacchio e uova. \nSaranno preparate anche le farciture per le ricette ottenute \nPer un pubblico di professionisti e  appassionati per preparare in casa un buffet di successo. \n 
URL:https://www.gustar.it/corso/la-pasticceria-salata-per-apericena-e-buffet-2/
LOCATION:Gustar\, via Fonda di S.Agostino 4\, Pistoia\, Italia\, 51100\, Italia
CATEGORIES:Pasticceria
ATTACH;FMTTYPE=image/jpeg:https://www.gustar.it/wp-content/uploads/2021/11/cinnamon-scaled.jpg
ORGANIZER;CN="Gustar Centro di Formazione delle Arti Bianche in Toscana":MAILTO:info@gustar.it
END:VEVENT
BEGIN:VEVENT
DTSTART;TZID=Europe/Rome:20230923T143000
DTEND;TZID=Europe/Rome:20230923T183000
DTSTAMP:20260421T181348
CREATED:20230725T062933Z
LAST-MODIFIED:20230725T062933Z
UID:13136-1695479400-1695493800@www.gustar.it
SUMMARY:I SABATI DI MARZIA : BISCOTTI
DESCRIPTION:Sabato 23 settembre  dalle 14:30 alle 18:30 tornano ” I sabati di Marzia ” con Marzia Cappellini e Gastone Pegoraro \, corsi mani in pasta dove ogni partecipante \, che sia un’appassionato oppure una persona che si avvicina per la prima volta all’arte della pasticceria  \, puo cimentersi nella prepaazione di prodotti dolciari . Per passare un pomeriggio diverso con la professionalità e la simpatia di Marzia e Gastone . A fine corso ogni partecipante sarà omaggiato con i biscotti prodotti
URL:https://www.gustar.it/corso/i-sabati-di-marzia-biscotti/
LOCATION:Gustar\, via Fonda di S.Agostino 4\, Pistoia\, Italia\, 51100\, Italia
CATEGORIES:Pasticceria
ATTACH;FMTTYPE=image/jpeg:https://www.gustar.it/wp-content/uploads/2019/05/biscotti-viennesi-400x400.jpg
ORGANIZER;CN="Gustar Centro di Formazione delle Arti Bianche in Toscana":MAILTO:info@gustar.it
END:VEVENT
BEGIN:VEVENT
DTSTART;TZID=Europe/Rome:20230925T190000
DTEND;TZID=Europe/Rome:20230926T230000
DTSTAMP:20260421T181348
CREATED:20230724T091902Z
LAST-MODIFIED:20230724T092303Z
UID:13124-1695668400-1695769200@www.gustar.it
SUMMARY:LE PIZZE DI ALEX CORSO PRATICO DI PIZZERIA
DESCRIPTION:Corso di pizzeria base con produzione di :pizze alla pala \, in teglia \, al metro \, pizze “gourmet ”  focacce e cecina . \nPer chi mette per la prima volta le ” mani in pasta ” \, ma anche nozioni di produzione razionale per attività professionali \, il tutto curato dal maestro pizzaiolo Alessan
URL:https://www.gustar.it/corso/le-pizze-di-alex-corso-pratico-di-pizzeria-4/
LOCATION:Gustar\, via Fonda di S.Agostino 4\, Pistoia\, Italia\, 51100\, Italia
CATEGORIES:Pizzeria
ATTACH;FMTTYPE=image/jpeg:https://www.gustar.it/wp-content/uploads/2021/11/shutterstock_1732731302-scaled.jpg
ORGANIZER;CN="Gustar Centro di Formazione delle Arti Bianche in Toscana":MAILTO:info@gustar.it
END:VEVENT
BEGIN:VEVENT
DTSTART;TZID=Europe/Rome:20230926T143000
DTEND;TZID=Europe/Rome:20230926T183000
DTSTAMP:20260421T181348
CREATED:20230720T072655Z
LAST-MODIFIED:20230725T104145Z
UID:13104-1695738600-1695753000@www.gustar.it
SUMMARY:TORTE DA FORNO DELLA TRADIZIONE
DESCRIPTION:Martedi 26 settembre 2023 dalle 14.30 alle 18.30 con Gastone Pegoraroe Massimiliano Bettazzi \n” torte da forno della tradizione ” \nUn corso per appassionati e professionisti per imparare a fare le classiche torte da forno come  : torta Barozzi \, torta Miserable \, Porrettana \, Garfagnina \, Chianciano \, torta Abetone
URL:https://www.gustar.it/corso/torte-da-forno-della-tradizione-3/
LOCATION:Gustar\, via Fonda di S.Agostino 4\, Pistoia\, Italia\, 51100\, Italia
CATEGORIES:Pasticceria
ATTACH;FMTTYPE=image/jpeg:https://www.gustar.it/wp-content/uploads/IMG_6373-scaled.jpg
ORGANIZER;CN="Gustar Centro di Formazione delle Arti Bianche in Toscana":MAILTO:info@gustar.it
END:VEVENT
END:VCALENDAR