BEGIN:VCALENDAR
VERSION:2.0
PRODID:-//Gustar - ECPv6.2.8.1//NONSGML v1.0//EN
CALSCALE:GREGORIAN
METHOD:PUBLISH
X-WR-CALNAME:Gustar
X-ORIGINAL-URL:https://www.gustar.it
X-WR-CALDESC:Eventi per Gustar
REFRESH-INTERVAL;VALUE=DURATION:PT1H
X-Robots-Tag:noindex
X-PUBLISHED-TTL:PT1H
BEGIN:VTIMEZONE
TZID:Europe/Rome
BEGIN:DAYLIGHT
TZOFFSETFROM:+0100
TZOFFSETTO:+0200
TZNAME:CEST
DTSTART:20230326T010000
END:DAYLIGHT
BEGIN:STANDARD
TZOFFSETFROM:+0200
TZOFFSETTO:+0100
TZNAME:CET
DTSTART:20231029T010000
END:STANDARD
END:VTIMEZONE
BEGIN:VEVENT
DTSTART;TZID=Europe/Rome:20231101T140000
DTEND;TZID=Europe/Rome:20231102T190000
DTSTAMP:20260421T090519
CREATED:20230720T065023Z
LAST-MODIFIED:20231106T100129Z
UID:13101-1698847200-1698951600@www.gustar.it
SUMMARY:CORSO PANIFICAZIONE CON STEFANO GATTI :IMPARIAMO AD UTILIZZARE IL LIEVITO MADRE\, SPECIALE PANINI DA RISTORAZIONE
DESCRIPTION:Mercoledi 8 novembre dalle 14.00 alle 19:00 con Stefano Gatti \nRicette per imparare a gestire il lievito madre e utilizzare farine alternative e semi misti Piccoli dettagli dove ogni ingrediente fa la differenza\, inserimento ingredienti\, riposo impasto\, formatura\, lievitazione e cottura……  ricette\, tanti consigli utili per allargare le vedute sulla panificazione e non solo. Accrescere la conoscenza sul pane e la trasformazione ed evoluzione che puo’ avere questo prodotto cosi’ amato dall’uomo…..pane curcuma e pinoli\, pane al farro e noci\, pane con multicereali e semi misti\, focaccia senatore cappelli e olive\, focaccia grano verna pistacchi e farina di pistacchio. \n\n\n\n E produzione di piccoli pani e focacce adatte per banchetti \,  cestini di pane \, aperitivi .\n\n\n\n\n 
URL:https://www.gustar.it/corso/corso-panificazione-con-stefano-gatti-impariamo-ad-utilizzare-il-lievito-madre-gestione-e-produzione-2/
LOCATION:Gustar\, via Fonda di S.Agostino 4\, Pistoia\, Italia\, 51100\, Italia
CATEGORIES:Panificazione
ATTACH;FMTTYPE=image/jpeg:https://www.gustar.it/wp-content/uploads/2021/02/Foto-per-locandina--scaled.jpg
ORGANIZER;CN="Gustar Centro di Formazione delle Arti Bianche in Toscana":MAILTO:info@gustar.it
END:VEVENT
BEGIN:VEVENT
DTSTART;TZID=Europe/Rome:20231101T143000
DTEND;TZID=Europe/Rome:20231102T183000
DTSTAMP:20260421T090519
CREATED:20230707T122809Z
LAST-MODIFIED:20231107T140638Z
UID:13093-1698849000-1698949800@www.gustar.it
SUMMARY:CREARE UN MENU DI ALTA RISTORAZIONE DI CARNE DALL'ANTIPASTO AL DOLCE CON STEFANO PINCIAROLI
DESCRIPTION:Giovedi 9 novembre  dalle 14.30 alle 18.30 con Stefano Pinciaroli un corso  dove verrà eseguito un menù di 4 portate dall’antipasto al dolce \, \nadatto a ristoratori \, per avere qualche spunto in più \, ed appassionati per stupire i propri aspiti . \n 
URL:https://www.gustar.it/corso/creare-un-menu-di-alta-ristorazione-di-carne-dallantipasto-al-dolce-con-stefano-pinciaroli-2/
LOCATION:Gustar\, via Fonda di S.Agostino 4\, Pistoia\, Italia\, 51100\, Italia
CATEGORIES:Gastronomia
ATTACH;FMTTYPE=image/jpeg:https://www.gustar.it/wp-content/uploads/pincia.jpg
ORGANIZER;CN="Gustar Centro di Formazione delle Arti Bianche in Toscana":MAILTO:info@gustar.it
END:VEVENT
BEGIN:VEVENT
DTSTART;TZID=Europe/Rome:20231106T080000
DTEND;TZID=Europe/Rome:20231107T200000
DTSTAMP:20260421T090519
CREATED:20230821T095241Z
LAST-MODIFIED:20230821T095241Z
UID:13189-1699257600-1699387200@www.gustar.it
SUMMARY:CORSO PANETTONI A LIEVITO MADRE BILANCIAMENTO GRANDI LIEVITATI DI NATALE CON ANDREA AIMAR
DESCRIPTION:programma blianciamento grandi lievitati \nLUNEDI 6 NOVEMBRE  2023 DALLE 16:00 ALLE 20:00 \nMARTEDI 7 NOVEMBRE  DALLE 08:00 ALLE 16:00 \n  \nparte teorica :creazione della ricetta \nquali % utilizzare per ogni singolo ingrediente per determinare shelf life\,bouquet aromatici\,struttura \nnell’ultima ora verrà fatto il primo impasto del panettone \nil giorno dopo alle 08;00 andremo a realizzare il secondo impasto \nchiuso impasto si lascerà riposare  circa 90 minuti per poi spezzare e formare \nlasceremo lievitare per circa 5-6 ore e poi potremmo cuocere \ndurante le fasi di riposo dell’impasto verranno analizzati i singoli ingredienti \,come influiscono le fermentazioni\,le strutture e i bouquet aromatici finali dei nostri prodotti \ncome avere delle fermentazioni corrette in tempi stabiliti \npotremmo creare ricette e decidere le tempistiche tra il primo e secondo impasto \nverranno fatti alcuni accenni sulla pasta madre. \nverranno rilasciate delle dispense inerenti agli argomenti trattati \ncorso indicato per amatoriali e per professionisti
URL:https://www.gustar.it/corso/corso-panettoni-a-lievito-madre-bilanciamento-grandi-lievitati-di-natale-con-andrea-aimar/
LOCATION:Gustar\, via Fonda di S.Agostino 4\, Pistoia\, Italia\, 51100\, Italia
CATEGORIES:Pasticceria
ATTACH;FMTTYPE=image/jpeg:https://www.gustar.it/wp-content/uploads/2021/12/ai.jpg
ORGANIZER;CN="Gustar Centro di Formazione delle Arti Bianche in Toscana":MAILTO:info@gustar.it
END:VEVENT
BEGIN:VEVENT
DTSTART;TZID=Europe/Rome:20231108T203000
DTEND;TZID=Europe/Rome:20231108T233000
DTSTAMP:20260421T090519
CREATED:20230831T124549Z
LAST-MODIFIED:20230831T124549Z
UID:13211-1699475400-1699486200@www.gustar.it
SUMMARY:CORSO DI AVVICINAMENTO AL VINO
DESCRIPTION:Mercoledi 8 novembre dalle 20.30 alle 23.30 \, corso guidato alla degustazione del vino rosso . Verranno degustati 4 tipologie di vini italiani ed esteri guidati da un’esperto del settore che ci aiuterà a valutare e descrivere l’aspetto\, il profumo e il gusto per  comprendere le differenze fra i diversi vini .
URL:https://www.gustar.it/corso/corso-di-avvicinamento-al-vino-2/
LOCATION:Gustar\, via Fonda di S.Agostino 4\, Pistoia\, Italia\, 51100\, Italia
CATEGORIES:Bartending
ATTACH;FMTTYPE=image/jpeg:https://www.gustar.it/wp-content/uploads/imag.jpg
ORGANIZER;CN="Gustar Centro di Formazione delle Arti Bianche in Toscana":MAILTO:info@gustar.it
END:VEVENT
BEGIN:VEVENT
DTSTART;TZID=Europe/Rome:20231114T093000
DTEND;TZID=Europe/Rome:20231114T173000
DTSTAMP:20260421T090519
CREATED:20230807T090505Z
LAST-MODIFIED:20231110T110148Z
UID:13179-1699954200-1699983000@www.gustar.it
SUMMARY:CORSO DI PASTICCERIA SALUTISTICA E PER INTOLLERANZE
DESCRIPTION:Martedi 14 novembre dalle 09:30 alle 17:30 \, con Corrado Carosi \, un corso sulla pasticceria per intollarenze al lattosio  e glutine . Come produrre referenze come cake \, frolle \, focacce  con farine alternative e creme senza uova . \n\nCorrado Carosi\, è uno dei giovani volti più conosciuti\, a livello nazionale\, nell’ambito della pasticceria professionale. \nGià durante gli studi superiori si avvicina alla passione per quest’arte\, che negli anni trasformerà nella sua professione. \nDopo aver lavorato per il maestro Morandin decide\, a soli 23 anni\, di aprire la sua prima pasticceria in via Landinelli\, a Sarzana. \nL’idea di pasticceria di Corrado si contraddistingue per un approccio innovativo e pragmatico\, che lo porta a superare le regole classiche e a crearne di nuove\, senza però dimenticare la tradizione e il risultato finale. \nA partire dal 2015 partecipa a numerose trasmissioni televisive come “il più grande pasticcere” e “casa Alice” ed è stabilmente giudice presso Alma scuola internazionale di pasticceria di Colorno. \nCollabora con riviste del settore ed è testimonial di varie aziende\, inoltre è docente in numerose scuole di pasticceria in Italia. \nI numerosi successi conseguiti\, per lui non sono un punto di arrivo\, ma uno stimolo per il suo continuo miglioramento. \nCorrado Carosi dà molta rilevanza al suo aggiornamento personale e partecipa\, ogni anno\, a corsi di aggiornamento professionale. \nDal 2016 è docente di pasticceria presso Gustar \nDal 2022 maestro A.M.P.I.
URL:https://www.gustar.it/corso/corso-di-pasticceria-salutistica-e-per-intolleranze/
LOCATION:Gustar\, via Fonda di S.Agostino 4\, Pistoia\, Italia\, 51100\, Italia
CATEGORIES:Pasticceria
ATTACH;FMTTYPE=image/png:https://www.gustar.it/wp-content/uploads/2016/02/Pasticceria.png
ORGANIZER;CN="Gustar Centro di Formazione delle Arti Bianche in Toscana":MAILTO:info@gustar.it
END:VEVENT
BEGIN:VEVENT
DTSTART;TZID=Europe/Rome:20231114T170000
DTEND;TZID=Europe/Rome:20231114T190000
DTSTAMP:20260421T090519
CREATED:20231027T150407Z
LAST-MODIFIED:20231103T084048Z
UID:13403-1699981200-1699988400@www.gustar.it
SUMMARY:LABORATORIO PER BAMBINI CON DORI ED EMMA "GRAVITY CAKE "
DESCRIPTION:Martedi 14 novembre dalle 17:00 alle 19:00 laboratorio per bambini dai 6 ai 12 anni
URL:https://www.gustar.it/corso/laboratorio-per-bambini-con-dori-ed-emma-gravity-cake/
LOCATION:Gustar\, via Fonda di S.Agostino 4\, Pistoia\, Italia\, 51100\, Italia
CATEGORIES:Pasticceria
ATTACH;FMTTYPE=image/jpeg:https://www.gustar.it/wp-content/uploads/gravity-cake.jpg
ORGANIZER;CN="Gustar Centro di Formazione delle Arti Bianche in Toscana":MAILTO:info@gustar.it
END:VEVENT
BEGIN:VEVENT
DTSTART;TZID=Europe/Rome:20231122T190000
DTEND;TZID=Europe/Rome:20231124T230000
DTSTAMP:20260421T090519
CREATED:20230613T161936Z
LAST-MODIFIED:20231121T085456Z
UID:13027-1700679600-1700866800@www.gustar.it
SUMMARY:CORSO DI PANIFICAZIONE BASE CON IVO CORSINI   ( POSTI ESAURITI )
DESCRIPTION:MERCOLEDI 22 \, GIOVEDI   23  \, VENERDI 24  NOVEMBRE 2023\n \nDALLE ORE 19.00 ALLE 23.00 \nCORSO BASE DI PANIFICAZIONE CON IVO CORSINI \nUN CORSO PRATICO DOVE IMPAREREMO AD OTTENERE OTTIMI PANI FATTI A MANO E CON L’AUSILIO DI IMPASTATRICI . \nPARTENDO DALLA PARTE TEORICA PARLANDO DI FARINE LIEVITI E LIEVITAZIONI \, TECNICHE DI IMPASTO CONTROLLO DELLE TEMPERATURE E MODALITA DI COTTURA \nPROGRAMMA : \nI cereali \, tipologie \, macinazione e mulini . \nComposizione della farina \, preimpasti biga e poolish . \nTipologie di lieviti \nImpasto \, lievitazione tradizionale e con l’aiuto del freddo  \, formatura  e tipologie di cottura e di forni. \nUn corso per togliere ogni dubbio legato alla realizzazione di questo prodotto sempre presente sulle nostre tavole \nprodotti che realizzeremo : \nPani con pasta dura \nCiabatta \nPane toscano \nGrissini \nPanini da hamburger \nPane con goccie di cioccolato \nPizza in teglia \nFocaccia genovese \nFocaccia di porretta \nBrioches danese \nIvo Corsini \nNasce a Porretta Terme Il 15 novembre del 1976\,  gestisce la storica attività di famiglia fondata nel 1875 che da cinque generazioni si trova in via Terme a Porretta Terme. E’ sposato con Genny e papà di Matilde e Claudio.\nNel 1995 si diploma come ragioniere e perito commerciale.\nNel 1996 assolve l’obbligo del servizio militare nelle truppe alpine congedandosi nel 1997 con il grado di caporale.\nNel marzo del 1997 entra come titolare nella attività di famiglia. Nel frattempo continua a coltivare la sua passione per l’equitazione ottenendo risultati in concorsi nazionali di salto ostacoli.\nNel 2000 entra a far parte del Richemont Club Italia dove approfondisce  le sue conoscenze al fianco di importanti Maestri come Piergiorgio Giorilli e Pegoraro Gastone.\nNel 2001 partecipa\, in Francia ad Aurillac\, al mercato internazionale del pane.\nSempre nel 2001 si classifica al primo posto alle selezioni nazionali per partecipare alla Coppa Europea della Panificazione Artigianale.\nNel 2002 insieme alla squadra italiana ottiene il titolo di Campione Europeo di Panificazione Artigianale.\nNel 2006 viene invitato  per l’apertura di venti negozi nel sud del Giappone per il lancio di prodotti italiani di panificazione e di pasticceria lievitata.\nNel 2011 inizia a collaborare all’apertura di alcuni panifici in Russia.\nNel 2012 partecipa a Parigi\, insieme alla squadra italiana\, alla Coppa del Mondo di Panificazione Artigianale.\nClassificandosi al quarto posto partecipa di diritto ai Master della Panificazione  Artigianale disputati a Parigi nel 2014.\nNel 2016 in collaborazione con una società giapponese apre una cioccolateria nel centro di Fukuoka in Giappone.\nNel 2020 entra a far parte dell’Accademia dei Maestri del Lievito Madre.\nHa partecipato più volte a trasmissione televisive come  “Uno Mattina” e  “La Vita In Diretta”\nÈ consulente per Irinox Spa nell’utilizzo del freddo nei processi produttivi nel settore della panificazione\, consulente per Mondial Forni e per il Molino Agugiaro e Figna nella ricerca e sviluppo. Collabora con alcune riviste di settore\, con Istituti Alberghieri e  Scuole di Cucina \, è attualmente il tecnico per la panificazione del mulino Agugiaro e Figna \n 
URL:https://www.gustar.it/corso/corso-di-panificazione-base-con-ivo-corsini-3/
LOCATION:Gustar\, via Fonda di S.Agostino 4\, Pistoia\, Italia\, 51100\, Italia
CATEGORIES:Panificazione
ATTACH;FMTTYPE=image/jpeg:https://www.gustar.it/wp-content/uploads/2021/07/ivoIvo-Corsini.jpg
ORGANIZER;CN="Gustar Centro di Formazione delle Arti Bianche in Toscana":MAILTO:info@gustar.it
END:VEVENT
BEGIN:VEVENT
DTSTART;TZID=Europe/Rome:20231125T143000
DTEND;TZID=Europe/Rome:20231125T183000
DTSTAMP:20260421T090519
CREATED:20230725T071704Z
LAST-MODIFIED:20230727T111459Z
UID:13148-1700922600-1700937000@www.gustar.it
SUMMARY:I SABATI DI MARZIA : CIOCCOLATO
DESCRIPTION:Sabato 25 novembre dalle 14.30 alle 18:30 con Marzia Cappelli : a tutto cioccolato . Un corso dove Marzia ci insegnerà a fare torroni \, torte\,  biscotti e bevande calde il tutto a base di cioccolato \, per scaldare i pomeriggi nostri d’inverno.
URL:https://www.gustar.it/corso/i-sabati-di-marzia-cioccolato/
LOCATION:Gustar\, via Fonda di S.Agostino 4\, Pistoia\, Italia\, 51100\, Italia
CATEGORIES:Pasticceria
ATTACH;FMTTYPE=image/jpeg:https://www.gustar.it/wp-content/uploads/Il-cioccolato-antidepressivo-e-antiossidante.jpg
ORGANIZER;CN="Gustar Centro di Formazione delle Arti Bianche in Toscana":MAILTO:info@gustar.it
END:VEVENT
BEGIN:VEVENT
DTSTART;TZID=Europe/Rome:20231127T143000
DTEND;TZID=Europe/Rome:20231128T183000
DTSTAMP:20260421T090519
CREATED:20230615T145814Z
LAST-MODIFIED:20231113T160421Z
UID:13063-1701095400-1701196200@www.gustar.it
SUMMARY:CORSO VIENNOISERIE LIEVITATI E SFOGLIATI  PER LA PRIMA COLAZIONE (POSTI ESAURITI )
DESCRIPTION:Lunedi 27 novembre 2023  dalle 14.30 alle 18.30 \nMartedi 28 novembre 2023 dalle 09:00  alle 18.30 \n  \nCon Stefano Parenti \nLievitati   e prodotti sfogliati\,  bilanciatura delle ricette per ottenere croissant bicolori \, cornetti all’italiana \, sfogliato al riso e alle mele  \,pain au chocolat \, piume al cioccolato rocher e  al lampone  \, girella uvetta e mandorle  \,  per colazioni e buffet . \nSaranno illustrate tutte le tecniche di impasto \, lievitazione e  laminazione dei prodotti. \n 
URL:https://www.gustar.it/corso/corso-viennoiserie-lievitati-e-sfogliati-per-la-prima-colazione-3/
LOCATION:Gustar\, via Fonda di S.Agostino 4\, Pistoia\, Italia\, 51100\, Italia
CATEGORIES:Pasticceria
ATTACH;FMTTYPE=image/jpeg:https://www.gustar.it/wp-content/uploads/60d590c972a9b-28-06-21-jpg.jpg
ORGANIZER;CN="Gustar Centro di Formazione delle Arti Bianche in Toscana":MAILTO:info@gustar.it
END:VEVENT
BEGIN:VEVENT
DTSTART;TZID=Europe/Rome:20231128T143000
DTEND;TZID=Europe/Rome:20231128T183000
DTSTAMP:20260421T090519
CREATED:20230724T064840Z
LAST-MODIFIED:20231116T152727Z
UID:13116-1701181800-1701196200@www.gustar.it
SUMMARY:CORSO DI PASTA TIRATA AL MATTARELLO E PASTE RIPIENE ANCHE SENZA GLUTINE
DESCRIPTION:Benvenuti al corso di pasta fresca tirata a mano \, una tradizione tutta italiana . \nCi sarà tanto da fare e le ore voleranno ! \nAngela Tamburini \nLa base è sempre di un’impasto tradizionale con farine e acqua o farina e uova . \nE da qui avremo numerose varianti : le paste colorate \, quelle integrali \, quelle senza glutine con cui creare paste vuote e ripiene . \nMartedi 28 novembre e 2023  dalle 14.30 alle 18.30 .
URL:https://www.gustar.it/corso/corso-di-pasta-tirata-al-mattarello-e-paste-ripiene-anche-senza-glutine-4/
LOCATION:Gustar\, via Fonda di S.Agostino 4\, Pistoia\, Italia\, 51100\, Italia
CATEGORIES:Gastronomia
ATTACH;FMTTYPE=image/jpeg:https://www.gustar.it/wp-content/uploads/2020/12/pasta.jpg
ORGANIZER;CN="Gustar Centro di Formazione delle Arti Bianche in Toscana":MAILTO:info@gustar.it
END:VEVENT
BEGIN:VEVENT
DTSTART;TZID=Europe/Rome:20231129T143000
DTEND;TZID=Europe/Rome:20231129T183000
DTSTAMP:20260421T090519
CREATED:20230615T140600Z
LAST-MODIFIED:20230615T140600Z
UID:13050-1701268200-1701282600@www.gustar.it
SUMMARY:IL MENU DELLE FESTE
DESCRIPTION:Mercoledi 29 novembre  dalle 14.30 alle 18.30 con Stefano Pinciaroli un corso  dove verrà eseguito il  menù delle feste di 4 portate dall’antipasto al dolce \, \nadatto a ristoratori \, per avere qualche spunto in più \, ed appassionati per stupire i propri aspiti . \nStefano Pinciaroli\, uno degli chef emergenti in Toscana\, nasce nel maggio 1978. Cresciuto nel piccolo borgo di Cerreto Guidi è il primo di cinque figli e inizia ad appassionarsi alla cucina aiutando la mamma a preparare il pranzo della domenica. \nFrequenta l’Istituto Alberghiero di Montecatini e non appena conseguito il diploma inizia a lavorare in diversi ristoranti in Italia e all’estero. \nNel 2000 inizia la lunga e importante collaborazione con il Grand Hotel di Firenze. In questo contesto Stefano ha modo di affiancare gli Chef Daniele Sera e Fabrizio Innocenti\, migliorando le proprie tecniche di cucina. \nAlla fine di questa esperienza\, Stefano decide di “tornare alle proprie origini” trasferendosi di nuovo a Cerreto Guidi e iniziando altre importanti collaborazioni con ristoranti della zona. \nForte di numerose esperienze\, nell’aprile 2010 Stefano parte con il progetto dell’apertura di PS Ristorante\, dove finalmente riesce a esprimere al meglio le proprie qualità\, stabilendo un forte legame fra tradizione e innovazione. \nDal 2010 PS Ristorante è entrato in diverse guide nazionali e non\, diventando un punto di riferimento della gastronomia toscana ed italiana. \n\nAprile 2016 Stefano Pinciaroli entra tra i Jeunes Restaurateurs: è uno degli 88 cuochi under 42 . \nDal 2020 è ala guida di Villa Petriolo a Cerreto Guidi
URL:https://www.gustar.it/corso/il-menu-delle-feste-2/
LOCATION:Gustar\, via Fonda di S.Agostino 4\, Pistoia\, Italia\, 51100\, Italia
CATEGORIES:Gastronomia
ATTACH;FMTTYPE=image/jpeg:https://www.gustar.it/wp-content/uploads/DSCN5892-scaled.jpg
ORGANIZER;CN="Gustar Centro di Formazione delle Arti Bianche in Toscana":MAILTO:info@gustar.it
END:VEVENT
END:VCALENDAR