BEGIN:VCALENDAR
VERSION:2.0
PRODID:-//Gustar - ECPv6.2.8.1//NONSGML v1.0//EN
CALSCALE:GREGORIAN
METHOD:PUBLISH
X-WR-CALNAME:Gustar
X-ORIGINAL-URL:https://www.gustar.it
X-WR-CALDESC:Eventi per Gustar
REFRESH-INTERVAL;VALUE=DURATION:PT1H
X-Robots-Tag:noindex
X-PUBLISHED-TTL:PT1H
BEGIN:VTIMEZONE
TZID:Europe/Rome
BEGIN:DAYLIGHT
TZOFFSETFROM:+0100
TZOFFSETTO:+0200
TZNAME:CEST
DTSTART:20240331T010000
END:DAYLIGHT
BEGIN:STANDARD
TZOFFSETFROM:+0200
TZOFFSETTO:+0100
TZNAME:CET
DTSTART:20241027T010000
END:STANDARD
END:VTIMEZONE
BEGIN:VEVENT
DTSTART;TZID=Europe/Rome:20240201T143000
DTEND;TZID=Europe/Rome:20240201T183000
DTSTAMP:20260421T035409
CREATED:20231116T140626Z
LAST-MODIFIED:20240201T084359Z
UID:13510-1706797800-1706812200@www.gustar.it
SUMMARY:I FRITTI DI CARNEVALE CON STEFANO DONATI POSTI ESAURITI
DESCRIPTION:GIOVEDI 1 FEBBRAIO 2024 dalle ore 14.30 alle ore 18.30 :  ” I fritti di Carnevale ” con Stefano Donati: \nCENCI \nFRITTELLE DI RISO \nZEPPOLE \nBOMBOLONI CON CREMA \nCANNOLI \nUn corso per appassionati e professionisti tenuto dal maestro Stefano Donati  \, dove potremo apprendere tutti i segreti per un fritto perfetto \ne imparare tutte le tecniche  di lavorazione  e quali materie prime utilizzare . \nDal 2002 Collaborazione con Istituti scolastici di istruzione secondaria superiore del settore turistico alberghiero per attività di DOCENZA (aggiornamento insegnanti\, didattica di terza area in preparazione dell’esame finale\, partecipazione Commissione esame di qualifica) \n\nNel 2000 ho tenuto un corso sulle torte secche e da credenza a Perugia – EUROCHOCOLATE\nNel 2001 ho partecipato ad un corso di 45 ore riguardo l’aerografia\, utilizzata spesso nella pasticceria artistica\n\nEsperto nelle seguenti materie: \n\nzucchero colato-tirato-soffiato e modellato;\npastigliaggio per strutture\, pastigliaggio giapponese per fiori\, foglie e decorazioni in genere;\ncioccolato: strutture artistiche\, soggettistica varia\, uova di pasqua\, pralineria assortita\nfrutta e verdura scolpita\, come decorare tavoli per buffet\n\nIn questi anni ho partecipato a vari concorsi di pasticceria ottenendo il titolo di Campione italiano 2000. \nConcorsi di pasticceria \n1998: Sigep D’oro\, ciccolato artistico (Rimini) \n1999: Super Sigep D’oro\, degustazione praline assortite (Rimini) \n2000: Gran Prix di Montecarlo\, 1° classificato Campionato Italia (Montecarlo) \n2001: Siab concorso di alta pasticceria 2° classificato (Verona) \n2001: Dolci e capolavori  in cioccolato 1° classificato (Torino) \n2004: Selezione coppa del Mondo 1° classificato (Rimini) \n2005: Coppa del mondo della pasticceria (Lione) \nDal 2006 in poi ho partecipato a varie giurie regionali e nazionali\, dove tuttora sono chiamato a degustare e giudicare pezzi artistici
URL:https://www.gustar.it/corso/i-fritti-di-carnevale-con-stefano-donati-2/
LOCATION:Gustar\, via Fonda di S.Agostino 4\, Pistoia\, Italia\, 51100\, Italia
CATEGORIES:Pasticceria
ATTACH;FMTTYPE=image/jpeg:https://www.gustar.it/wp-content/uploads/ZEPPOLKE-scaled.jpg
ORGANIZER;CN="Gustar Centro di Formazione delle Arti Bianche in Toscana":MAILTO:info@gustar.it
END:VEVENT
BEGIN:VEVENT
DTSTART;TZID=Europe/Rome:20240203T143000
DTEND;TZID=Europe/Rome:20240203T183000
DTSTAMP:20260421T035410
CREATED:20231116T160448Z
LAST-MODIFIED:20240118T153524Z
UID:13533-1706970600-1706985000@www.gustar.it
SUMMARY:I SABATI DI MARZIA : DOLCI TIPICI TOSCANI POSTI ESAURITI
DESCRIPTION:Un corso dove impareremo a fare i dolci tipici toscani : zuccotto \, scole pistoiesi \, cantuccini di prato e schiacciata fiorentina e scarpaccia viareggina con la simpatia di Marzia Cappellini e la professionalità di Massimiliano Bettazzi
URL:https://www.gustar.it/corso/i-sabati-di-marzia-dolci-tipici-toscani/
LOCATION:Gustar\, via Fonda di S.Agostino 4\, Pistoia\, Italia\, 51100\, Italia
CATEGORIES:Pasticceria
ATTACH;FMTTYPE=image/jpeg:https://www.gustar.it/wp-content/uploads/SCOLE.jpg
ORGANIZER;CN="Gustar Centro di Formazione delle Arti Bianche in Toscana":MAILTO:info@gustar.it
END:VEVENT
BEGIN:VEVENT
DTSTART;TZID=Europe/Rome:20240205T070000
DTEND;TZID=Europe/Rome:20240205T173000
DTSTAMP:20260421T035410
CREATED:20231116T142537Z
LAST-MODIFIED:20231116T143350Z
UID:13516-1707116400-1707154200@www.gustar.it
SUMMARY:LE COLOMBE A LIEVITO MADRE E VASOCOTTURA CON CORRADO CAROSI
DESCRIPTION:Lunedi 5 febbraio dalle 07:00 alle 17:30 un corso sulle colombe pasquali a lievito madre e teccnica di vasocottura con Corrado Carosi . \nDurante il corso buona parte del tempo sarà dedicato alla gestione e ottimizzazione del lievito madre . \n  \nCorrado Carosi\, è uno dei giovani volti più conosciuti\, a livello nazionale\, nell’ambito della pasticceria professionale. \nGià durante gli studi superiori si avvicina alla passione per quest’arte\, che negli anni trasformerà nella sua professione. \nDopo aver lavorato per il maestro Morandin decide\, a soli 23 anni\, di aprire la sua prima pasticceria in via Landinelli\, a Sarzana. \nL’idea di pasticceria di Corrado si contraddistingue per un approccio innovativo e pragmatico\, che lo porta a superare le regole classiche e a crearne di nuove\, senza però dimenticare la tradizione e il risultato finale. \nA partire dal 2015 partecipa a numerose trasmissioni televisive come “il più grande pasticcere” e “casa Alice” ed è stabilmente giudice presso Alma scuola internazionale di pasticceria di Colorno. \nCollabora con riviste del settore ed è testimonial di varie aziende\, inoltre è docente in numerose scuole di pasticceria in Italia. \nI numerosi successi conseguiti\, per lui non sono un punto di arrivo\, ma uno stimolo per il suo continuo miglioramento. \nCorrado Carosi dà molta rilevanza al suo aggiornamento personale e partecipa\, ogni anno\, a corsi di aggiornamento professionale. \nDal 2016 è docente di pasticceria presso Gustar \nDal 2022 maestro A.M.P.I.
URL:https://www.gustar.it/corso/le-colombe-a-lievito-madre-e-vasocottura-con-corrado-carosi/
LOCATION:Gustar\, via Fonda di S.Agostino 4\, Pistoia\, Italia\, 51100\, Italia
CATEGORIES:Pasticceria
ATTACH;FMTTYPE=image/png:https://www.gustar.it/wp-content/uploads/2022/07/Corrado_Ampi-min-698x1024-1.png
ORGANIZER;CN="Gustar Centro di Formazione delle Arti Bianche in Toscana":MAILTO:info@gustar.it
END:VEVENT
BEGIN:VEVENT
DTSTART;TZID=Europe/Rome:20240206T170000
DTEND;TZID=Europe/Rome:20240206T190000
DTSTAMP:20260421T035410
CREATED:20240123T134710Z
LAST-MODIFIED:20240123T144703Z
UID:13826-1707238800-1707246000@www.gustar.it
SUMMARY:LABORATORIO PER BAMBINI CON DORI ED EMMA " IL CARNEVALE "
DESCRIPTION:Martedi 6 febbraio dalle 17:00 alle 19:00 laboratorio per bambini dai 6 ai 12 anni
URL:https://www.gustar.it/corso/laboratorio-per-bambini-con-dori-ed-emma-il-carnevale/
LOCATION:Gustar\, via Fonda di S.Agostino 4\, Pistoia\, Italia\, 51100\, Italia
CATEGORIES:Pasticceria
ATTACH;FMTTYPE=image/jpeg:https://www.gustar.it/wp-content/uploads/maschere-pasta-frolla.jpg
ORGANIZER;CN="Gustar Centro di Formazione delle Arti Bianche in Toscana":MAILTO:info@gustar.it
END:VEVENT
BEGIN:VEVENT
DTSTART;TZID=Europe/Rome:20240206T190000
DTEND;TZID=Europe/Rome:20240206T230000
DTSTAMP:20260421T035410
CREATED:20231201T114254Z
LAST-MODIFIED:20240123T075912Z
UID:13682-1707246000-1707260400@www.gustar.it
SUMMARY:CREARE UN MENU DI PESCE DALL'ANTIPASTO AL DOLCE CON CHEF ALESSANDRO MORELLI
DESCRIPTION:Martedi 6 febbraio 2024 dalle 19:00 alle 23:00 con Alessandro Morelli  un corso  dove verrà eseguito un menù di 4 portate dall’antipasto al dolce \, \nadatto a ristoratori \, per avere qualche spunto in più \, ed appassionati per stupire i propri aspiti . \n 
URL:https://www.gustar.it/corso/creare-un-menu-di-pesce-dallantipasto-al-dolce-con-chef-alessandro-morelli/
LOCATION:Gustar\, via Fonda di S.Agostino 4\, Pistoia\, Italia\, 51100\, Italia
CATEGORIES:Gastronomia
ATTACH;FMTTYPE=image/jpeg:https://www.gustar.it/wp-content/uploads/2019/05/la-cucina-alta-toscana.jpg
ORGANIZER;CN="Gustar Centro di Formazione delle Arti Bianche in Toscana":MAILTO:info@gustar.it
END:VEVENT
BEGIN:VEVENT
DTSTART;TZID=Europe/Rome:20240215T143000
DTEND;TZID=Europe/Rome:20240215T183000
DTSTAMP:20260421T035410
CREATED:20231116T153854Z
LAST-MODIFIED:20231116T154020Z
UID:13528-1708007400-1708021800@www.gustar.it
SUMMARY:FINGER FOOD PER APERICENA E BUFFET
DESCRIPTION:Giovedi 15 febbraio 2024 \nDalle 14.30 alle 18.30 \nChef David Nesi \, executive chef di  ” Valerio Catering “\, ci presenterà un corso  dove verranno proposti  una serie di finger food \, bicchierini e tartellette   adatte ad aperitivi \,  buffet e cerimonie . \nSi spazierà da preparazioni a  base di verdura \,  pesce  \, formaggi freschi \, e frutta . \nPer un pubblico di appassionati per preparare in casa un buffet di successo \, ma anche adatto a professionisti per avere qualche idea in più.
URL:https://www.gustar.it/corso/finger-food-per-apericena-e-buffet-3/
LOCATION:Gustar\, via Fonda di S.Agostino 4\, Pistoia\, Italia\, 51100\, Italia
CATEGORIES:Gastronomia
ATTACH;FMTTYPE=image/jpeg:https://www.gustar.it/wp-content/uploads/2021/12/Dove-mangiare-tapas-a-Granada-300x300-1.jpg
ORGANIZER;CN="Gustar Centro di Formazione delle Arti Bianche in Toscana":MAILTO:info@gustar.it
END:VEVENT
BEGIN:VEVENT
DTSTART;TZID=Europe/Rome:20240222T143000
DTEND;TZID=Europe/Rome:20240222T183000
DTSTAMP:20260421T035410
CREATED:20231120T145807Z
LAST-MODIFIED:20231120T145807Z
UID:13564-1708612200-1708626600@www.gustar.it
SUMMARY:PRIMI PIATTI GOURMET CON STEFANO PINCIAROLI
DESCRIPTION:Giovedi 22 febbraio 2024 dalle 14:30 alle 18.30 un corso dove lo chef Stefano Pinciaroli ci proporra i primi piatti che lo hanno reso famoso : pasta fresca \, risotti \, cereali alternativi confezionati con la creatività e il gusto che lo cotraddistinguono . \nStefano Pinciaroli\, uno degli chef emergenti in Toscana\, nasce nel maggio 1978. Cresciuto nel piccolo borgo di Cerreto Guidi è il primo di cinque figli e inizia ad appassionarsi alla cucina aiutando la mamma a preparare il pranzo della domenica. \nFrequenta l’Istituto Alberghiero di Montecatini e non appena conseguito il diploma inizia a lavorare in diversi ristoranti in Italia e all’estero. \nNel 2000 inizia la lunga e importante collaborazione con il Grand Hotel di Firenze. In questo contesto Stefano ha modo di affiancare gli Chef Daniele Sera e Fabrizio Innocenti\, migliorando le proprie tecniche di cucina. \nAlla fine di questa esperienza\, Stefano decide di “tornare alle proprie origini” trasferendosi di nuovo a Cerreto Guidi e iniziando altre importanti collaborazioni con ristoranti della zona. \nForte di numerose esperienze\, nell’aprile 2010 Stefano parte con il progetto dell’apertura di PS Ristorante\, dove finalmente riesce a esprimere al meglio le proprie qualità\, stabilendo un forte legame fra tradizione e innovazione. \nDal 2010 PS Ristorante è entrato in diverse guide nazionali e non\, diventando un punto di riferimento della gastronomia toscana ed italiana. \n\nAprile 2016 Stefano Pinciaroli entra tra i Jeunes Restaurateurs: è uno degli 88 cuochi under 42 . \nDal 2020 è ala guida di Villa Petriolo a Cerreto Guidi
URL:https://www.gustar.it/corso/primi-piatti-gourmet-con-stefano-pinciaroli-2/
LOCATION:Gustar\, via Fonda di S.Agostino 4\, Pistoia\, Italia\, 51100\, Italia
CATEGORIES:Gastronomia
ATTACH;FMTTYPE=image/jpeg:https://www.gustar.it/wp-content/uploads/pincia-2.jpg
ORGANIZER;CN="Gustar Centro di Formazione delle Arti Bianche in Toscana":MAILTO:info@gustar.it
END:VEVENT
END:VCALENDAR