BEGIN:VCALENDAR
VERSION:2.0
PRODID:-//Gustar - ECPv6.2.8.1//NONSGML v1.0//EN
CALSCALE:GREGORIAN
METHOD:PUBLISH
X-WR-CALNAME:Gustar
X-ORIGINAL-URL:https://www.gustar.it
X-WR-CALDESC:Eventi per Gustar
REFRESH-INTERVAL;VALUE=DURATION:PT1H
X-Robots-Tag:noindex
X-PUBLISHED-TTL:PT1H
BEGIN:VTIMEZONE
TZID:Europe/Rome
BEGIN:DAYLIGHT
TZOFFSETFROM:+0100
TZOFFSETTO:+0200
TZNAME:CEST
DTSTART:20250330T010000
END:DAYLIGHT
BEGIN:STANDARD
TZOFFSETFROM:+0200
TZOFFSETTO:+0100
TZNAME:CET
DTSTART:20251026T010000
END:STANDARD
END:VTIMEZONE
BEGIN:VEVENT
DTSTART;TZID=Europe/Rome:20251001T140000
DTEND;TZID=Europe/Rome:20251004T180000
DTSTAMP:20260419T172206
CREATED:20250619T120916Z
LAST-MODIFIED:20251017T081806Z
UID:15759-1759327200-1759600800@www.gustar.it
SUMMARY:CORSO DESSERT AL PIATTO DI STEFANO DONATI
DESCRIPTION:  \n  \nMercoledi 22  e giovedi 23 ottobre  2025 dalle ore 14:00 alle 18:00 \nUn corso dimostrativo dove il pastrychef  \, insegnerà  come produrre dessert da  ristorazione \, partendo dalle basi : biscuit \, frolle \, crumble gelè \, creme \, glassaggi e ganache \, fino alle decorazioni finali . \nUna full immersion  nella creazione di dessert al piatto\, pensata per chi vuole portare il proprio livello tecnico e creativo a standard da ristorazione moderna. \nCosa imparerai \nDurante il corso verranno realizzati 4 dessert al piatto completi\, ognuno dei quali sarà occasione per approfondire le basi fondamentali della pasticceria moderna: \nGelificazioni\, cremosi\, spume\, frolle\, biscotti\, salse e inserti \nTecniche di impiattamento e bilanciamento estetico \nStruttura di un dessert al piatto: consistenze\, temperature e volumi \nCome creare varianti infinite a partire dalle basi \n  \n  \nIncluso nel corso \nDispensa tecnica con ricette base e varianti \nDegustazione dei dessert realizzati \nCoffee break \n  \nStefano Donati dal 2002 Collaborazione con Istituti scolastici di istruzione secondaria superiore del settore turistico alberghiero per attività di DOCENZA (aggiornamento insegnanti\, didattica di terza area in preparazione dell’esame finale\, partecipazione Commissione esame di qualifica) \n\nNel 2000 ho tenuto un corso sulle torte secche e da credenza a Perugia – EUROCHOCOLATE\nNel 2001 ho partecipato ad un corso di 45 ore riguardo l’aerografia\, utilizzata spesso nella pasticceria artistica\n\nEsperto nelle seguenti materie: \n\nzucchero colato-tirato-soffiato e modellato;\npastigliaggio per strutture\, pastigliaggio giapponese per fiori\, foglie e decorazioni in genere;\ncioccolato: strutture artistiche\, soggettistica varia\, uova di pasqua\, pralineria assortita\nfrutta e verdura scolpita\, come decorare tavoli per buffet\n\nIn questi anni ho partecipato a vari concorsi di pasticceria ottenendo il titolo di Campione italiano 2000. \nConcorsi di pasticceria \n1998: Sigep D’oro\, ciccolato artistico (Rimini) \n1999: Super Sigep D’oro\, degustazione praline assortite (Rimini) \n2000: Gran Prix di Montecarlo\, 1° classificato Campionato Italia (Montecarlo) \n2001: Siab concorso di alta pasticceria 2° classificato (Verona) \n2001: Dolci e capolavori  in cioccolato 1° classificato (Torino) \n2004: Selezione coppa del Mondo 1° classificato (Rimini) \n2005: Coppa del mondo della pasticceria (Lione) \nDal 2006 in poi ho partecipato a varie giurie regionali e nazionali\, dove tuttora sono chiamato a degustare e giudicare pezzi artistici \n  \n 
URL:https://www.gustar.it/corso/corso-dessert-al-piatto-di-stefano-donati/
LOCATION:Gustar\, via Fonda di S.Agostino 4\, Pistoia\, Italia\, 51100\, Italia
CATEGORIES:Pasticceria
ATTACH;FMTTYPE=image/jpeg:https://www.gustar.it/wp-content/uploads/thumbnail_3c3131dd-f837-4381-ba34-1be5eac21285.jpg
ORGANIZER;CN="Gustar Centro di Formazione delle Arti Bianche in Toscana":MAILTO:info@gustar.it
END:VEVENT
BEGIN:VEVENT
DTSTART;TZID=Europe/Rome:20251001T190000
DTEND;TZID=Europe/Rome:20251001T230000
DTSTAMP:20260419T172206
CREATED:20250630T133045Z
LAST-MODIFIED:20250930T081745Z
UID:15816-1759345200-1759359600@www.gustar.it
SUMMARY:CORSO DI PIZZERIA BASE POSTI ESAURITI BIS IL 28 NOVEMBRE
DESCRIPTION:Mercoledi  1 ottobre   dalle 19:00 alle 23:00 \nCorso di Pizza tonda contemporanea \ne pizza in teglia \nIl corso durerà circa 4 ore ed è rivolto ad amatori che vogliono portare a un livello superiore la loro passione e professionisti.\nAndremo a realizzare passo passo la ricetta.\nL’impasto in questione sarà sviluppato con procedimento diretto.\nDedicheremo un ampio spazio alla parte teorica andando ad analizzare le farine e i processi biochimici e microbiologici che avvengono all’interno di un impasto. \nSvolgimento: \n  \n\nPreparazione di un impasto diretto\nSpiegazione teorica sulle farine\nFormatura dei panetti\nSpegazione teorica dell’impasto\nStesura del panetto con prova pratica\nInfornamento della pizza con prova pratica\n\nGrazie a questo corso riuscirete a: \n\nScegliere le farine da utilizzare in un processo in base alla loro scheda\nComprende un impasto in base alla sua tenacità ed estensibilità quindi come cambiare le sue caratteristiche in base alla gestione e al prodotto che vogliamo\nAcquisire le nozioni pratiche per realizzare il prodotto\nGestire un impasto nel tempo in modo da adattare le proprie tempistiche all’impasto e non viceversa.\nComprendere la cottura e applicarla in base al prodotto Durata del corso 4 ore.
URL:https://www.gustar.it/corso/corso-di-pizzeria-base/
LOCATION:Gustar\, via Fonda di S.Agostino 4\, Pistoia\, Italia\, 51100\, Italia
CATEGORIES:Pizzeria
ATTACH;FMTTYPE=image/jpeg:https://www.gustar.it/wp-content/uploads/OIP.jpg
ORGANIZER;CN="Gustar Centro di Formazione delle Arti Bianche in Toscana":MAILTO:info@gustar.it
END:VEVENT
BEGIN:VEVENT
DTSTART;TZID=Europe/Rome:20251006T090000
DTEND;TZID=Europe/Rome:20251007T170000
DTSTAMP:20260419T172206
CREATED:20250609T134110Z
LAST-MODIFIED:20250926T122157Z
UID:15710-1759741200-1759856400@www.gustar.it
SUMMARY:Corso Torte  Monumentali  con  Decorazioni Ghiaccia e Pastigliaggio POSTI ESAURITI
DESCRIPTION:Lunedi 6 e martedi 7  ottobre  dalle 09:00 alle 17:00\n\nUn corso full immersion di due giornate adatto a professionisti titolari di ristoranti\, pasticcerie \,catering\, ecc. \nche vogliono accrescere le proprie competenze volte a realizzare spettacolari torte monumentali  sia \nper amatori che desiderano accrescere le proprie competenze in ambito decorativo. \nI  corsisti lavoreranno su torta DUMMY ricoperata in pasta di zucchero\, individualmente alla propria postazione\, realizzando  alcune tecniche e fiori\, affrontate durante il corso. \n  \n\n Introduzione teorica sulle torte monumentali e progettazione.\n Disegno\, approfondimento e spiegazione delle varie tecniche e torta che andremo a realizzare.\n Come gestire una torta da Cerimonia assemblata con parte di torta vera e parte Dummy \n Spiegazione delle tipologie di paste da copertura e modellaggio da utilizzare e preparazioni di varie tipologie di Pastigliaggio.\n Spiegazione e Preparazione della ghiaccia reale\, utilizzi e ricette\, sviluppando decorazioni al cornetto stile Italiano e tecniche più ricercate come Overpiping \, Scroll e metodo Lambeth.\n Realizzeremo tipologie di fiori\, foglie \, volant sovrapposti\, per poi passare tutto con sfumature in aerografo.\n Assemblaggio e consigli su il trasporto e preparazione in location .\n\n 
URL:https://www.gustar.it/corso/corso-torte-monumentali-con-decorazioni-ghiaccia-e-pastigliaggio-2/
LOCATION:Gustar\, via Fonda di S.Agostino 4\, Pistoia\, Italia\, 51100\, Italia
CATEGORIES:Pasticceria
ATTACH;FMTTYPE=image/jpeg:https://www.gustar.it/wp-content/uploads/casotti.jpg
ORGANIZER;CN="Gustar Centro di Formazione delle Arti Bianche in Toscana":MAILTO:info@gustar.it
END:VEVENT
BEGIN:VEVENT
DTSTART;TZID=Europe/Rome:20251009T140000
DTEND;TZID=Europe/Rome:20251009T190000
DTSTAMP:20260419T172206
CREATED:20250724T140219Z
LAST-MODIFIED:20251001T145448Z
UID:15895-1760018400-1760036400@www.gustar.it
SUMMARY:Corso di Panificazione Moderna\, aromatizzazione impasti e gestione del Lievito Madre
DESCRIPTION:Giovedi 9 ottobre  dalle 14.00 alle 19:00 con Stefano Gatti \nRicette per imparare a gestire il lievito madre e utilizzare farine alternative e aromatizzazioni miste. Piccoli dettagli dove ogni ingrediente fa la differenza\, inserimento ingredienti\, riposo impasto\, formatura\, lievitazione e cottura……  ricette\, tanti consigli utili per allargare le vedute sulla panificazione e non solo. Accrescere la conoscenza sul pane e la trasformazione ed evoluzione che puo’ avere questo prodotto cosi’ amato dall’uomo…. \n\n  \n\n\nBaguette alla liquirizia DOP.\nFocaccia aromatizzata al Rosmarino e polvere di Pomodoro\nPane al “baffo” con curcuma e pinoli\nCiabatta aromatizzata Aghi di Pino\nPan Bauletto Mela Annurca e Cannella\n\n\n\nil maestro artigiano Stefano Gatti nasce a Viareggio in versilia (lu)\, come quarta generazione di una famiglia di fornai. lavora nell’azienda familiare e già da giovanissimo apre la propria attività. dopo la specializzazione alla cast alimenti\, entra come socio e docente alla scuola richomont club. consegue il titolo di: ambassadour de pain nel mondo e rappresentante dell’italia. questi i principali riconoscimenti da lui conseguiti: nel 2015 è maestro artigiano panificatore della regione toscana e maestro lievitista; nel 2014 viene citato come “miglior produttore di pane in italia\, riconoscimento bakery 3.0″\, il primo evento in italia interamente dedicato alla panificazione\, organizzato da “il panificatore italiano” di italian gourment-dbinformation. \nnel 2013 viene ritenuto dalla classifica di vanity fair tra i 10 migliori produttori di panettoni artigianali in italia a milano golosa di davide paolini con il panettone al peperoncino e cioccolato. nel 2010 vince il premio “miglior panificio d’italia” award del panificio 2010 a milano arrivando quinto. nel 2008 pubblica tre ricette sul libro “premiati forni d’italia”\, editrice reed business information e sempre in quell’anno pubblica le sue ricette “ostie al formaggio grana” e “befanini” sulle riviste il panificatore italiano e il pasticcere italiano. \n 
URL:https://www.gustar.it/corso/corso-di-panificazione-moderna-aromatizzazione-impasti-e-gestione-del-lievito-madre-2/
LOCATION:Gustar\, via Fonda di S.Agostino 4\, Pistoia\, Italia\, 51100\, Italia
CATEGORIES:Panificazione
ATTACH;FMTTYPE=image/jpeg:https://www.gustar.it/wp-content/uploads/catssssssssssssssssssssssssssssssssssss.jpg
ORGANIZER;CN="Gustar Centro di Formazione delle Arti Bianche in Toscana":MAILTO:info@gustar.it
END:VEVENT
BEGIN:VEVENT
DTSTART;TZID=Europe/Rome:20251011T143000
DTEND;TZID=Europe/Rome:20251011T180000
DTSTAMP:20260419T172206
CREATED:20250618T145849Z
LAST-MODIFIED:20250618T151054Z
UID:15748-1760193000-1760205600@www.gustar.it
SUMMARY:I SABATI DI MARZIA CORSO PRATICO : IL PAN DI SPAGNA CREA LA TUA TORTA DI COMPLEANNO
DESCRIPTION:  \nCorso Pratico di Pasticceria: Il Pan di Spagna  \nImpara a realizzare il pan di Spagna perfetto e trasformalo in una torta di compleanno da sogno! \nSabato 11 ottobre dalle 14:30 alle 18:00 con Marzia Cappellini e Massimiliano Bettazzi \,ti insegneremo  a preparare la tua torta \, a partire dal  pan di spagna \, crema e decorazione finale \, \ntutto questo sotto la supervisione dei  nostri  docenti che  ti seguiranno  passo dopo passo . Un corso totalmente mani in pasta \, nel nostro laboratorio attrezzato con postazione individuali . \n  \n  \nCosa imparerai \n  \n  \n\nGli ingredienti base e le tecniche per un pan di Spagna alto\, soffice e stabile\nCome tagliare e farcire il pan di Spagna senza romperlo\nLe creme più adatte per farciture: chantilly\,  crema pasticcera e varianti\nCome montare e decorare la torta con tecniche semplici e d’effetto\nConsigli su conservazione\, trasporto e presentazione\n\n  \n  \nA chi è rivolto \n  \n  \n\nAppassionati di cucina e dolci fatti in casa\nChi vuole imparare a fare torte per amici\, figli\, eventi\nPrincipianti curiosi o chi vuole perfezionare la tecnica\n\n  \nModalità del corso \nCorso totalmente pratico: \nimpasti\, monti e decori con le tue mani \n\nDurata  3 ore e 30\nMateriali e ingredienti inclusi
URL:https://www.gustar.it/corso/i-sabati-di-marzia-corso-pratico-il-pan-di-spagna-crea-la-tua-torta-di-compleanno-2/
LOCATION:Gustar\, via Fonda di S.Agostino 4\, Pistoia\, Italia\, 51100\, Italia
CATEGORIES:Pasticceria
ATTACH;FMTTYPE=image/jpeg:https://www.gustar.it/wp-content/uploads/compleannooo-300x300-1.jpg
ORGANIZER;CN="Gustar Centro di Formazione delle Arti Bianche in Toscana":MAILTO:info@gustar.it
END:VEVENT
BEGIN:VEVENT
DTSTART;TZID=Europe/Rome:20251020T133000
DTEND;TZID=Europe/Rome:20251027T173000
DTSTAMP:20260419T172206
CREATED:20250613T174030Z
LAST-MODIFIED:20251029T154903Z
UID:15724-1760967000-1761586200@www.gustar.it
SUMMARY:CORSO DI FORMAZIONE AVANZATO PER PASTICCIERE
DESCRIPTION:CORSO  DI FORMAZIONE     AVANZATO  PER         PASTICCIERE \nPROGRAMMA DI 10 MODULI SVILUPPATO IN 16 GIORNI \nPER UN TOTALE DI 64 ORE \nORARIO 13.30-17.30 \nINIZIO:  20 OTTOBRE 2025 \nHAI GIÀ SOLIDE BASI DI PASTICCERIA E VUOI PORTARE LE TUE COMPETENZE A UN LIVELLO SUPERIORE? IL NOSTRO CORSO DI PASTICCERIA AVANZATA È PENSATO PER CHI DESIDERA PERFEZIONARE LE TECNICHE\, AFFINARE LA CREATIVITÀ E APPROFONDIRE LA CONOSCENZA DEGLI INGREDIENTI\, DELLE STRUTTURE E DELLE TENDENZE CONTEMPORANEE DELLA PASTICCERIA PROFESSIONALE. \n  \nCOSA IMPARERAI : \nMATERIE PRIME ATTREZZATURE \nBILANCIAMENTI PAN DI SPAGNA E TORTE DA FORNO \nLIEVITATI DA COLAZIONE INNOVATIVI \nTIPOLOGIE PASTA SFOGLIA NUOVE TENDENZE \nTORTE MODERNE \nPASTICCERIA SALATA \nPASTICCERIA MIGNON \nSOGGETTI  IN CIOCCOLATO E PRALINERIA \nPASTIGLIAGGIO E GHIACCIA \nDECORAZIONE \nCOSTO EURO 1100 \n  \n  DATE :       \n20-21-27-28                                        OTTOBRE \n3-4-10-11-17-18-24-25                      NOVEMBRE \n1-2 -9-10                                                 DICEMBRE 
URL:https://www.gustar.it/corso/corso-di-formazione-avanzato-per-pasticciere-3/
LOCATION:Gustar\, via Fonda di S.Agostino 4\, Pistoia\, Italia\, 51100\, Italia
CATEGORIES:Pasticceria
ATTACH;FMTTYPE=image/jpeg:https://www.gustar.it/wp-content/uploads/AVA-1.jpg
ORGANIZER;CN="Gustar Centro di Formazione delle Arti Bianche in Toscana":MAILTO:info@gustar.it
END:VEVENT
BEGIN:VEVENT
DTSTART;TZID=Europe/Rome:20251022T133000
DTEND;TZID=Europe/Rome:20251025T173000
DTSTAMP:20260419T172206
CREATED:20250606T131843Z
LAST-MODIFIED:20251029T155138Z
UID:15706-1761139800-1761413400@www.gustar.it
SUMMARY:CORSO   PRATICO BASE  DI  FORMAZIONE PER  PASTICCIERE
DESCRIPTION:PROGRAMMA DI 10 MODULI SVILUPPATO IN 16 GIORNI \nINIZIO: 22 ottobre 2025\n \nFINE :     12 dicembre  2025\n \nORARIO 13:30.00-17.30 \nPER UN TOTALE DI 64 ORE \n  \nMODULI : \n            1 ) ATTREZZATURE LABORATORIO E MATERIE PRIME   \n            2) LE SFOGLIE  \n            3) LE FROLLE   \n            4) MASSE MONTATE\, PAN DI SPAGNA\, MERINGHE\, CREME AL BURRO\, PLUMCAKE \n             5) BIGNE’ \n             6) CREME \n             7) LIEVITATI DA COLAZIONE \n             8)BISCOTTERIA \n              9)DECORAZIONI E CIOCCOLATO \n             10) TRADIZIONALI \n  \nDate : OTTOBRE :       22-23-30-31 \n             NOVEMBRE :  5-6-12-13-19-20-26-27 \n              DICEMBRE  : 3-4-11-12 \n           
URL:https://www.gustar.it/corso/corso-pratico-base-di-formazione-per-pasticciere-5/
LOCATION:Gustar\, via Fonda di S.Agostino 4\, Pistoia\, Italia\, 51100\, Italia
CATEGORIES:Pasticceria
ATTACH;FMTTYPE=image/jpeg:https://www.gustar.it/wp-content/uploads/2022/06/foto-mani-pasticcere-300x300-1.jpg
ORGANIZER;CN="Gustar Centro di Formazione delle Arti Bianche in Toscana":MAILTO:info@gustar.it
END:VEVENT
BEGIN:VEVENT
DTSTART;TZID=Europe/Rome:20251030T170000
DTEND;TZID=Europe/Rome:20251030T190000
DTSTAMP:20260419T172206
CREATED:20251020T115707Z
LAST-MODIFIED:20251020T115707Z
UID:16172-1761843600-1761850800@www.gustar.it
SUMMARY:Laboratorio per bambini  con Dori ed Emma : I DOLCETTI DELLE STREGHE
DESCRIPTION:Laboratorio per bambini dai 6 ai 12 anni .
URL:https://www.gustar.it/corso/laboratorio-per-bambini-con-dori-ed-emma-i-dolcetti-delle-streghe/
LOCATION:Gustar\, via Fonda di S.Agostino 4\, Pistoia\, Italia\, 51100\, Italia
CATEGORIES:Pasticceria
ATTACH;FMTTYPE=image/jpeg:https://www.gustar.it/wp-content/uploads/DORI.jpg
ORGANIZER;CN="Gustar Centro di Formazione delle Arti Bianche in Toscana":MAILTO:info@gustar.it
END:VEVENT
END:VCALENDAR